BEGIN:VCALENDAR
VERSION:2.0
PRODID:-//yssl.org//NONSGML kigkonsult.se iCalcreator 2.41.92//
CALSCALE:GREGORIAN
METHOD:PUBLISH
UID:38663230-6666-4532-a137-623030323634
X-WR-CALNAME:YSSL Calendar
X-WR-CALDESC:YSSL Calendar
X-WR-TIMEZONE:America/Chicago
BEGIN:VEVENT
UID:33343662-3166-4366-a464-643632356230
DTSTAMP:20260424T191704Z
CLASS:PUBLIC
DESCRIPTION:YSSL 14U/5SW Game
DTSTART;TZID=America/Chicago:20260412T120000
DTEND;TZID=America/Chicago:20260412T120000
LOCATION:PRAIRIE FEST PARK - 9
SUMMARY:Game: 14U/5SW RUSH OSWEGO 2012 BLUE vs RUSH OSWEGO 2012 WHITE
TRANSP:OPAQUE
END:VEVENT
BEGIN:VEVENT
UID:31323133-3534-4339-b862-373539643230
DTSTAMP:20260424T191704Z
CLASS:PUBLIC
DESCRIPTION:YSSL 14U/5SW Game
DTSTART;TZID=America/Chicago:20260509T120000
DTEND;TZID=America/Chicago:20260509T120000
LOCATION:COMMISSIONERS PARK (NAPERVILLE) - B
SUMMARY:Game: 14U/5SW NAPERVILLE EAGLES 2012 FURY vs RUSH OSWEGO 2012 BLUE
TRANSP:OPAQUE
END:VEVENT
BEGIN:VEVENT
UID:61626362-3134-4335-b231-626333356135
DTSTAMP:20260424T191704Z
CLASS:PUBLIC
DESCRIPTION:YSSL 14U/5SW Game
DTSTART;TZID=America/Chicago:20260503T120000
DTEND;TZID=America/Chicago:20260503T120000
LOCATION:PRAIRIE FEST PARK - 8
SUMMARY:Game: 14U/5SW RUSH OSWEGO 2012 BLUE vs GALAXY 2012 SELECT BLUE
TRANSP:OPAQUE
END:VEVENT
BEGIN:VEVENT
UID:30376662-6534-4136-a465-363232353834
DTSTAMP:20260424T191704Z
CLASS:PUBLIC
DESCRIPTION:YSSL 14U/5SW Game
DTSTART;TZID=America/Chicago:20260510T120000
DTEND;TZID=America/Chicago:20260510T120000
LOCATION:PRAIRIE FEST PARK - 12
SUMMARY:Game: 14U/5SW RUSH OSWEGO 2012 BLUE vs UESC - PLAINFIELD UTD 2012 S
 EL GREEN
TRANSP:OPAQUE
END:VEVENT
BEGIN:VEVENT
UID:35333331-6135-4465-b031-626631663134
DTSTAMP:20260424T191704Z
CLASS:PUBLIC
DESCRIPTION:YSSL 14U/5SW Game
DTSTART;TZID=America/Chicago:20260517T140000
DTEND;TZID=America/Chicago:20260517T140000
LOCATION:REED CUSTER HIGH SCHOOL - BEHIND SCHOOL
SUMMARY:Game: 14U/5SW STORM SC 2012 vs RUSH OSWEGO 2012 BLUE
TRANSP:OPAQUE
END:VEVENT
BEGIN:VEVENT
UID:62396462-3063-4233-b833-613764376633
DTSTAMP:20260424T191704Z
CLASS:PUBLIC
DESCRIPTION:YSSL 14U/5SW Game
DTSTART;TZID=America/Chicago:20260530T170000
DTEND;TZID=America/Chicago:20260530T170000
LOCATION:PRAIRIE FEST PARK - FIELD # 12
SUMMARY:Game: 14U/5SW SPIDERS FC - 2012 AZTECS vs RUSH OSWEGO 2012 BLUE
TRANSP:OPAQUE
END:VEVENT
BEGIN:VEVENT
UID:33396161-3033-4838-a338-373362343838
DTSTAMP:20260424T191704Z
CLASS:PUBLIC
DESCRIPTION:YSSL 14U/5SW Game
DTSTART;TZID=America/Chicago:20260606T130000
DTEND;TZID=America/Chicago:20260606T130000
LOCATION:LILY CACHE FIELDS EAST FIELD  - FIELD 01 11V11 (U13-
SUMMARY:Game: 14U/5SW UESC - BSC RAIDERS 2012 WHITE vs RUSH OSWEGO 2012 BLU
 E
TRANSP:OPAQUE
END:VEVENT
BEGIN:VEVENT
UID:35373633-6537-4435-b632-356435323561
DTSTAMP:20260424T191704Z
CLASS:PUBLIC
DESCRIPTION:YSSL 14U/5SW Game
DTSTART;TZID=America/Chicago:20260607T180000
DTEND;TZID=America/Chicago:20260607T180000
LOCATION:PRAIRIE FEST PARK - 9
SUMMARY:Game: 14U/5SW RUSH OSWEGO 2012 BLUE vs LISLE FC 2012 ASTON VILLA
TRANSP:OPAQUE
END:VEVENT
END:VCALENDAR
