BEGIN:VCALENDAR
VERSION:2.0
PRODID:-//yssl.org//NONSGML kigkonsult.se iCalcreator 2.41.92//
CALSCALE:GREGORIAN
METHOD:PUBLISH
UID:37363666-3662-4063-a432-633766316430
X-WR-CALNAME:YSSL Calendar
X-WR-CALDESC:YSSL Calendar
X-WR-TIMEZONE:America/Chicago
BEGIN:VEVENT
UID:61616238-3262-4531-a336-376466333064
DTSTAMP:20260424T221424Z
CLASS:PUBLIC
DESCRIPTION:YSSL 9U/2N Game
DTSTART;TZID=America/Chicago:20260504T180000
DTEND;TZID=America/Chicago:20260504T180000
LOCATION:COMMUNITY PARK WEST (GLENVIEW) - 5 - (7 V 7)
SUMMARY:Game: 9U/2N FC-1 ACADEMY 2017 ELITE vs HAWTHORN WOODS ELITE 2017 BL
 ACK
TRANSP:OPAQUE
END:VEVENT
BEGIN:VEVENT
UID:65326461-3339-4834-b463-386436366563
DTSTAMP:20260424T221424Z
CLASS:PUBLIC
DESCRIPTION:YSSL 9U/2N Game
DTSTART;TZID=America/Chicago:20260412T123000
DTEND;TZID=America/Chicago:20260412T123000
LOCATION:NILES WEST HIGH SCHOOL  - GRASS FIELDS 1
SUMMARY:Game: 9U/2N FC STARS 2017B BLACK vs FC-1 ACADEMY 2017 ELITE
TRANSP:OPAQUE
END:VEVENT
BEGIN:VEVENT
UID:63613265-6634-4562-a432-303463383534
DTSTAMP:20260424T221424Z
CLASS:PUBLIC
DESCRIPTION:YSSL 9U/2N Game
DTSTART;TZID=America/Chicago:20260425T100000
DTEND;TZID=America/Chicago:20260425T100000
LOCATION:COMMUNITY PARK WEST (GLENVIEW) - 5 - (7 V 7)
SUMMARY:Game: 9U/2N FC-1 ACADEMY 2017 ELITE vs WEST CHICAGO FC 2017 RED
TRANSP:OPAQUE
END:VEVENT
BEGIN:VEVENT
UID:38363135-6135-4563-b330-623534313535
DTSTAMP:20260424T221424Z
CLASS:PUBLIC
DESCRIPTION:YSSL 9U/2N Game
DTSTART;TZID=America/Chicago:20260503T131500
DTEND;TZID=America/Chicago:20260503T131500
LOCATION:COMMUNITY PARK WEST (GLENVIEW) - 4 - (7 V 7)
SUMMARY:Game: 9U/2N FC-1 ACADEMY 2017 ELITE vs BARCA ACADEMY CHICAGO 2017 B
 LAU
TRANSP:OPAQUE
END:VEVENT
BEGIN:VEVENT
UID:66383639-3739-4331-b464-396331663564
DTSTAMP:20260424T221424Z
CLASS:PUBLIC
DESCRIPTION:YSSL 9U/2N Game
DTSTART;TZID=America/Chicago:20260529T180000
DTEND;TZID=America/Chicago:20260529T180000
LOCATION:COMMUNITY PARK WEST (GLENVIEW) - 5 - (7 V 7)
SUMMARY:Game: 9U/2N FC-1 ACADEMY 2017 ELITE vs TREVIAN 2017 BLUE
TRANSP:OPAQUE
END:VEVENT
BEGIN:VEVENT
UID:65303965-3237-4232-b334-313336343132
DTSTAMP:20260424T221424Z
CLASS:PUBLIC
DESCRIPTION:YSSL 9U/2N Game
DTSTART;TZID=America/Chicago:20260530T123000
DTEND;TZID=America/Chicago:20260530T123000
LOCATION:WOODLAND PARK (DEERFIELD) - 7V7
SUMMARY:Game: 9U/2N PEGASUS FC/1974 2017 RED vs FC-1 ACADEMY 2017 ELITE
TRANSP:OPAQUE
END:VEVENT
BEGIN:VEVENT
UID:62313538-3430-4330-b862-306164343762
DTSTAMP:20260424T221424Z
CLASS:PUBLIC
DESCRIPTION:YSSL 9U/2N Game
DTSTART;TZID=America/Chicago:20260531T160000
DTEND;TZID=America/Chicago:20260531T160000
LOCATION:CORNERSTONE LAKES PARK - F
SUMMARY:Game: 9U/2N WEST CHICAGO FC 2017 RED vs FC-1 ACADEMY 2017 ELITE
TRANSP:OPAQUE
END:VEVENT
BEGIN:VEVENT
UID:36636666-3865-4235-b761-333965393131
DTSTAMP:20260424T221424Z
CLASS:PUBLIC
DESCRIPTION:YSSL 9U/2N Game
DTSTART;TZID=America/Chicago:20260501T180000
DTEND;TZID=America/Chicago:20260501T180000
LOCATION:COMMUNITY PARK WEST (GLENVIEW) - 5
SUMMARY:Game: 9U/2N FC-1 ACADEMY 2017 ELITE vs TREVIAN 2017 BLUE
TRANSP:OPAQUE
END:VEVENT
END:VCALENDAR
