BEGIN:VCALENDAR
VERSION:2.0
PRODID:-//yssl.org//NONSGML kigkonsult.se iCalcreator 2.41.92//
CALSCALE:GREGORIAN
METHOD:PUBLISH
UID:36343035-3266-4234-a366-336164356231
X-WR-CALNAME:YSSL Calendar
X-WR-CALDESC:YSSL Calendar
X-WR-TIMEZONE:America/Chicago
BEGIN:VEVENT
UID:66316466-3933-4530-b138-383061363666
DTSTAMP:20260426T032349Z
CLASS:PUBLIC
DESCRIPTION:YSSL 11U/4C2 Game
DTSTART;TZID=America/Chicago:20260510T103000
DTEND;TZID=America/Chicago:20260510T103000
LOCATION:SUNSET KNOLL  - #3
SUMMARY:Game: 11U/4C2 FSC 2015 RED vs AJAX FC NAPERVILLE 2015 WHITE 2
TRANSP:OPAQUE
END:VEVENT
BEGIN:VEVENT
UID:30626132-3737-4134-a239-383537613062
DTSTAMP:20260426T032349Z
CLASS:PUBLIC
DESCRIPTION:YSSL 11U/4C2 Game
DTSTART;TZID=America/Chicago:20260530T183000
DTEND;TZID=America/Chicago:20260530T183000
LOCATION:VEECK PARK
SUMMARY:Game: 11U/4C2 EVOLUTION 2015 MERCURIAL EAST vs FSC 2015 RED
TRANSP:OPAQUE
END:VEVENT
BEGIN:VEVENT
UID:61326131-6332-4730-a130-323836646164
DTSTAMP:20260426T032349Z
CLASS:PUBLIC
DESCRIPTION:YSSL 11U/4C2 Game
DTSTART;TZID=America/Chicago:20260425T153000
DTEND;TZID=America/Chicago:20260425T153000
LOCATION:SUNSET KNOLL  - #3
SUMMARY:Game: 11U/4C2 FSC 2015 RED vs CHICAGO INTER SYNERGY 2015 NAVY
TRANSP:OPAQUE
END:VEVENT
BEGIN:VEVENT
UID:37343636-3632-4265-a233-373538643231
DTSTAMP:20260426T032349Z
CLASS:PUBLIC
DESCRIPTION:YSSL 11U/4C2 Game
DTSTART;TZID=America/Chicago:20260502T153000
DTEND;TZID=America/Chicago:20260502T153000
LOCATION:SUNSET KNOLL  - #3
SUMMARY:Game: 11U/4C2 FSC 2015 RED vs IP-ARLINGTON ACES 2015 BLUE
TRANSP:OPAQUE
END:VEVENT
BEGIN:VEVENT
UID:61343236-6437-4439-a238-613033313934
DTSTAMP:20260426T032349Z
CLASS:PUBLIC
DESCRIPTION:YSSL 11U/4C2 Game
DTSTART;TZID=America/Chicago:20260509T153000
DTEND;TZID=America/Chicago:20260509T153000
LOCATION:SUNSET KNOLL  - #3
SUMMARY:Game: 11U/4C2 FSC 2015 RED vs GLEN ELLYN LAKERS 2016 ELITE GREEN
TRANSP:OPAQUE
END:VEVENT
BEGIN:VEVENT
UID:61633361-3338-4334-a466-306535353566
DTSTAMP:20260426T032349Z
CLASS:PUBLIC
DESCRIPTION:YSSL 11U/4C2 Game
DTSTART;TZID=America/Chicago:20260503T140000
DTEND;TZID=America/Chicago:20260503T140000
LOCATION:SEVEN GABLES PARK- BACK - F2
SUMMARY:Game: 11U/4C2 WHEATON UNITED 2015 PREMIER vs FSC 2015 RED
TRANSP:OPAQUE
END:VEVENT
BEGIN:VEVENT
UID:65316539-3164-4230-a663-306237373738
DTSTAMP:20260426T032349Z
CLASS:PUBLIC
DESCRIPTION:YSSL 11U/4C2 Game
DTSTART;TZID=America/Chicago:20260426T150000
DTEND;TZID=America/Chicago:20260426T150000
LOCATION:COMMUNITY PARK (ADDISON)
SUMMARY:Game: 11U/4C2 TIGRES DC 2015 vs FSC 2015 RED
TRANSP:OPAQUE
END:VEVENT
BEGIN:VEVENT
UID:31353930-6661-4635-b838-626263656466
DTSTAMP:20260426T032349Z
CLASS:PUBLIC
DESCRIPTION:YSSL 11U/4C2 Game
DTSTART;TZID=America/Chicago:20260418T083000
DTEND;TZID=America/Chicago:20260418T083000
LOCATION:GLEN CREST MIDDLE SCHOOL
SUMMARY:Game: 11U/4C2 CHICAGO INTER SYNERGY 2015 NAVY vs FSC 2015 RED
TRANSP:OPAQUE
END:VEVENT
END:VCALENDAR
