BEGIN:VCALENDAR
VERSION:2.0
PRODID:-//yssl.org//NONSGML kigkonsult.se iCalcreator 2.41.92//
CALSCALE:GREGORIAN
METHOD:PUBLISH
UID:65613936-6262-4361-b262-633365626161
X-WR-CALNAME:YSSL Calendar
X-WR-CALDESC:YSSL Calendar
X-WR-TIMEZONE:America/Chicago
BEGIN:VEVENT
UID:33376331-3230-4363-b666-326265333031
DTSTAMP:20260425T000413Z
CLASS:PUBLIC
DESCRIPTION:YSSL 11U/3W1 Game
DTSTART;TZID=America/Chicago:20260419T114000
DTEND;TZID=America/Chicago:20260419T114000
LOCATION:ARRANMORE FARM - MEDIUM
SUMMARY:Game: 11U/3W1 GALAXY 2015 SELECT WHITE vs RUSH WEST 2015 PREMIER
TRANSP:OPAQUE
END:VEVENT
BEGIN:VEVENT
UID:30633231-6135-4438-b731-343539363734
DTSTAMP:20260425T000413Z
CLASS:PUBLIC
DESCRIPTION:YSSL 11U/3W1 Game
DTSTART;TZID=America/Chicago:20260510T090000
DTEND;TZID=America/Chicago:20260510T090000
LOCATION:APPLE ORCHARD FIELD
SUMMARY:Game: 11U/3W1 RUSH WEST 2015 PREMIER vs GALAXY 2015 SELECT WHITE
TRANSP:OPAQUE
END:VEVENT
BEGIN:VEVENT
UID:37616635-3464-4462-b164-653437373866
DTSTAMP:20260425T000413Z
CLASS:PUBLIC
DESCRIPTION:YSSL 11U/3W1 Game
DTSTART;TZID=America/Chicago:20260503T102000
DTEND;TZID=America/Chicago:20260503T102000
LOCATION:SOUTH POINT - A
SUMMARY:Game: 11U/3W1 EVOLUTION 2015 MERCURIAL vs GALAXY 2015 SELECT WHITE
TRANSP:OPAQUE
END:VEVENT
BEGIN:VEVENT
UID:38386363-3338-4162-a664-666566613133
DTSTAMP:20260425T000413Z
CLASS:PUBLIC
DESCRIPTION:YSSL 11U/3W1 Game
DTSTART;TZID=America/Chicago:20260418T163000
DTEND;TZID=America/Chicago:20260418T163000
LOCATION:APPLE ORCHARD FIELD - #8
SUMMARY:Game: 11U/3W1 BARTLETT HAWKS FC 2015 vs GALAXY 2015 SELECT WHITE
TRANSP:OPAQUE
END:VEVENT
BEGIN:VEVENT
UID:66373937-3534-4366-a134-613035383061
DTSTAMP:20260425T000413Z
CLASS:PUBLIC
DESCRIPTION:YSSL 11U/3W1 Game
DTSTART;TZID=America/Chicago:20260517T120000
DTEND;TZID=America/Chicago:20260517T120000
LOCATION:CORNERSTONE LAKES PARK
SUMMARY:Game: 11U/3W1 WEST CHICAGO FC 2015 BLUE vs GALAXY 2015 SELECT WHITE
TRANSP:OPAQUE
END:VEVENT
BEGIN:VEVENT
UID:66366631-3762-4336-b064-633830653135
DTSTAMP:20260425T000413Z
CLASS:PUBLIC
DESCRIPTION:YSSL 11U/3W1 Game
DTSTART;TZID=America/Chicago:20260531T114000
DTEND;TZID=America/Chicago:20260531T114000
LOCATION:ARRANMORE FARM - MEDIUM
SUMMARY:Game: 11U/3W1 GALAXY 2015 SELECT WHITE vs CHICAGO EMPIRE FC 2015 GO
 LD
TRANSP:OPAQUE
END:VEVENT
BEGIN:VEVENT
UID:33326663-3166-4536-a536-346335646462
DTSTAMP:20260425T000413Z
CLASS:PUBLIC
DESCRIPTION:YSSL 11U/3W1 Game
DTSTART;TZID=America/Chicago:20260607T114000
DTEND;TZID=America/Chicago:20260607T114000
LOCATION:ARRANMORE FARM - MEDIUM
SUMMARY:Game: 11U/3W1 GALAXY 2015 SELECT WHITE vs BARTLETT HAWKS FC 2015
TRANSP:OPAQUE
END:VEVENT
BEGIN:VEVENT
UID:31306466-6434-4334-b566-643835623765
DTSTAMP:20260425T000413Z
CLASS:PUBLIC
DESCRIPTION:YSSL 11U/3W1 Game
DTSTART;TZID=America/Chicago:20261231T120000
DTEND;TZID=America/Chicago:20261231T120000
LOCATION:ARRANMORE FARM - MEDIUM
SUMMARY:Game: 11U/3W1 GALAXY 2015 SELECT WHITE vs WEST CHICAGO FC 2015 BLUE
TRANSP:OPAQUE
END:VEVENT
END:VCALENDAR
