BEGIN:VCALENDAR
VERSION:2.0
PRODID:-//yssl.org//NONSGML kigkonsult.se iCalcreator 2.41.92//
CALSCALE:GREGORIAN
METHOD:PUBLISH
UID:34353033-6133-4930-b261-323131306365
X-WR-CALNAME:YSSL Calendar
X-WR-CALDESC:YSSL Calendar
X-WR-TIMEZONE:America/Chicago
BEGIN:VEVENT
UID:32623831-6331-4138-a263-353862613839
DTSTAMP:20260425T224353Z
CLASS:PUBLIC
DESCRIPTION:YSSL 14U/3N Game
DTSTART;TZID=America/Chicago:20260514T183000
DTEND;TZID=America/Chicago:20260514T183000
LOCATION:LTSC FLD - FIELD 9
SUMMARY:Game: 14U/3N LIBERTYVILLE FC 1974-2012A-SELECT vs HUSSARS UNITED 20
 12
TRANSP:OPAQUE
END:VEVENT
BEGIN:VEVENT
UID:62393335-3764-4136-b536-333630336263
DTSTAMP:20260425T224353Z
CLASS:PUBLIC
DESCRIPTION:YSSL 14U/3N Game
DTSTART;TZID=America/Chicago:20260419T160000
DTEND;TZID=America/Chicago:20260419T160000
LOCATION:PRAIRIE LAKES PK FLDS
SUMMARY:Game: 14U/3N HUSSARS UNITED 2012 vs IP-NUFC 2012 BLACK
TRANSP:OPAQUE
END:VEVENT
BEGIN:VEVENT
UID:36623564-6632-4738-a336-366566626462
DTSTAMP:20260425T224353Z
CLASS:PUBLIC
DESCRIPTION:YSSL 14U/3N Game
DTSTART;TZID=America/Chicago:20260607T130000
DTEND;TZID=America/Chicago:20260607T130000
LOCATION:WAUKEGAN SPORTS PARK
SUMMARY:Game: 14U/3N TREBOL F.C. vs HUSSARS UNITED 2012
TRANSP:OPAQUE
END:VEVENT
BEGIN:VEVENT
UID:33373930-3263-4964-b863-363030656237
DTSTAMP:20260425T224353Z
CLASS:PUBLIC
DESCRIPTION:YSSL 14U/3N Game
DTSTART;TZID=America/Chicago:20260418T170000
DTEND;TZID=America/Chicago:20260418T170000
LOCATION:STEVENSON HIGH SCHOOL - 1
SUMMARY:Game: 14U/3N RUSH NORTH 2012 PREMIER vs HUSSARS UNITED 2012
TRANSP:OPAQUE
END:VEVENT
BEGIN:VEVENT
UID:38613039-3337-4533-a433-366630363462
DTSTAMP:20260425T224353Z
CLASS:PUBLIC
DESCRIPTION:YSSL 14U/3N Game
DTSTART;TZID=America/Chicago:20260510T120000
DTEND;TZID=America/Chicago:20260510T120000
LOCATION:PRAIRIE LAKES PK FLDS
SUMMARY:Game: 14U/3N HUSSARS UNITED 2012 vs CHICAGO MAGIC 2012 CUP
TRANSP:OPAQUE
END:VEVENT
BEGIN:VEVENT
UID:37653562-6336-4734-b036-623037386134
DTSTAMP:20260425T224353Z
CLASS:PUBLIC
DESCRIPTION:YSSL 14U/3N Game
DTSTART;TZID=America/Chicago:20260516T103000
DTEND;TZID=America/Chicago:20260516T103000
LOCATION:COMMUNITY PARK WEST (GLENVIEW) - 1 - (11 V 11)
SUMMARY:Game: 14U/3N FC-1 ACADEMY 2012 SELECT BLUE vs HUSSARS UNITED 2012
TRANSP:OPAQUE
END:VEVENT
BEGIN:VEVENT
UID:32393635-3566-4333-a533-643432393434
DTSTAMP:20260425T224353Z
CLASS:PUBLIC
DESCRIPTION:YSSL 14U/3N Game
DTSTART;TZID=America/Chicago:20260531T130000
DTEND;TZID=America/Chicago:20260531T130000
LOCATION:PRAIRIE LAKES PK FLDS
SUMMARY:Game: 14U/3N HUSSARS UNITED 2012 vs FC LAKE COUNTY 2012 SELECT
TRANSP:OPAQUE
END:VEVENT
BEGIN:VEVENT
UID:64613662-3838-4266-b462-373462383436
DTSTAMP:20260425T224353Z
CLASS:PUBLIC
DESCRIPTION:YSSL 14U/3N Game
DTSTART;TZID=America/Chicago:20260603T180000
DTEND;TZID=America/Chicago:20260603T180000
LOCATION:PRAIRIE LAKES PK FLDS
SUMMARY:Game: 14U/3N HUSSARS UNITED 2012 vs IP-ARLINGTON ACES 2012 BLUE
TRANSP:OPAQUE
END:VEVENT
END:VCALENDAR
