BEGIN:VCALENDAR
VERSION:2.0
PRODID:-//yssl.org//NONSGML kigkonsult.se iCalcreator 2.41.92//
CALSCALE:GREGORIAN
METHOD:PUBLISH
UID:33333233-6663-4533-b664-393038353761
X-WR-CALNAME:YSSL Calendar
X-WR-CALDESC:YSSL Calendar
X-WR-TIMEZONE:America/Chicago
BEGIN:VEVENT
UID:61653562-3666-4131-b332-363036366331
DTSTAMP:20260424T223018Z
CLASS:PUBLIC
DESCRIPTION:YSSL 9U/2N Game
DTSTART;TZID=America/Chicago:20260411T110000
DTEND;TZID=America/Chicago:20260411T110000
LOCATION:WOODLAND PARK (DEERFIELD) - 7V7
SUMMARY:Game: 9U/2N PEGASUS FC/1974 2017 RED vs WEST CHICAGO FC 2017 RED
TRANSP:OPAQUE
END:VEVENT
BEGIN:VEVENT
UID:35616137-3066-4537-b530-636536303436
DTSTAMP:20260424T223018Z
CLASS:PUBLIC
DESCRIPTION:YSSL 9U/2N Game
DTSTART;TZID=America/Chicago:20260418T123000
DTEND;TZID=America/Chicago:20260418T123000
LOCATION:WOODLAND PARK (DEERFIELD) - 7V7
SUMMARY:Game: 9U/2N PEGASUS FC/1974 2017 RED vs BARCA ACADEMY CHICAGO 2017 
 BLAU
TRANSP:OPAQUE
END:VEVENT
BEGIN:VEVENT
UID:65336564-6163-4866-b466-393465303833
DTSTAMP:20260424T223018Z
CLASS:PUBLIC
DESCRIPTION:YSSL 9U/2N Game
DTSTART;TZID=America/Chicago:20260502T090000
DTEND;TZID=America/Chicago:20260502T090000
LOCATION:MARIE MURPHY JUNIOR HIGH SCHOOL - FIELD B - 7V7
SUMMARY:Game: 9U/2N TREVIAN 2017 BLUE vs PEGASUS FC/1974 2017 RED
TRANSP:OPAQUE
END:VEVENT
BEGIN:VEVENT
UID:35383735-6132-4361-a530-323735613664
DTSTAMP:20260424T223018Z
CLASS:PUBLIC
DESCRIPTION:YSSL 9U/2N Game
DTSTART;TZID=America/Chicago:20260509T153000
DTEND;TZID=America/Chicago:20260509T153000
LOCATION:NILES WEST HIGH SCHOOL  - GRASS FIELDS 1
SUMMARY:Game: 9U/2N FC STARS 2017B BLACK vs PEGASUS FC/1974 2017 RED
TRANSP:OPAQUE
END:VEVENT
BEGIN:VEVENT
UID:33343133-3934-4634-b039-353064616236
DTSTAMP:20260424T223018Z
CLASS:PUBLIC
DESCRIPTION:YSSL 9U/2N Game
DTSTART;TZID=America/Chicago:20260517T090000
DTEND;TZID=America/Chicago:20260517T090000
LOCATION:CORNERSTONE LAKES PARK
SUMMARY:Game: 9U/2N WEST CHICAGO FC 2017 RED vs PEGASUS FC/1974 2017 RED
TRANSP:OPAQUE
END:VEVENT
BEGIN:VEVENT
UID:35323937-6239-4164-a332-316261366535
DTSTAMP:20260424T223018Z
CLASS:PUBLIC
DESCRIPTION:YSSL 9U/2N Game
DTSTART;TZID=America/Chicago:20260530T123000
DTEND;TZID=America/Chicago:20260530T123000
LOCATION:WOODLAND PARK (DEERFIELD) - 7V7
SUMMARY:Game: 9U/2N PEGASUS FC/1974 2017 RED vs FC-1 ACADEMY 2017 ELITE
TRANSP:OPAQUE
END:VEVENT
BEGIN:VEVENT
UID:63336239-3764-4638-a537-386134323364
DTSTAMP:20260424T223018Z
CLASS:PUBLIC
DESCRIPTION:YSSL 9U/2N Game
DTSTART;TZID=America/Chicago:20260426T093000
DTEND;TZID=America/Chicago:20260426T093000
LOCATION:WOODLAND PARK (DEERFIELD) - 7V7
SUMMARY:Game: 9U/2N PEGASUS FC/1974 2017 RED vs FC STARS 2017B BLACK
TRANSP:OPAQUE
END:VEVENT
BEGIN:VEVENT
UID:62663931-3666-4761-a338-343139303635
DTSTAMP:20260424T223018Z
CLASS:PUBLIC
DESCRIPTION:YSSL 9U/2N Game
DTSTART;TZID=America/Chicago:20260425T090000
DTEND;TZID=America/Chicago:20260425T090000
LOCATION:HERITAGE OAKS - LITTLE FIELD
SUMMARY:Game: 9U/2N HAWTHORN WOODS ELITE 2017 BLACK vs PEGASUS FC/1974 2017
  RED
TRANSP:OPAQUE
END:VEVENT
END:VCALENDAR
