BEGIN:VCALENDAR
VERSION:2.0
PRODID:-//yssl.org//NONSGML kigkonsult.se iCalcreator 2.41.92//
CALSCALE:GREGORIAN
METHOD:PUBLISH
UID:34353530-3364-4235-a536-663635323830
X-WR-CALNAME:YSSL Calendar
X-WR-CALDESC:YSSL Calendar
X-WR-TIMEZONE:America/Chicago
BEGIN:VEVENT
UID:35383131-3765-4538-a262-636663646137
DTSTAMP:20260424T143749Z
CLASS:PUBLIC
DESCRIPTION:YSSL 14U/5SW Game
DTSTART;TZID=America/Chicago:20260412T170000
DTEND;TZID=America/Chicago:20260412T170000
LOCATION:WOODGLEN PARK - 11V11 FIELD
SUMMARY:Game: 14U/5SW LISLE FC 2012 ASTON VILLA vs STORM SC 2012
TRANSP:OPAQUE
END:VEVENT
BEGIN:VEVENT
UID:35396639-3966-4230-a666-633238326561
DTSTAMP:20260424T143749Z
CLASS:PUBLIC
DESCRIPTION:YSSL 14U/5SW Game
DTSTART;TZID=America/Chicago:20260411T150000
DTEND;TZID=America/Chicago:20260411T150000
LOCATION:PRAIRIE FEST PARK - 8
SUMMARY:Game: 14U/5SW RUSH OSWEGO 2012 WHITE vs LISLE FC 2012 ASTON VILLA
TRANSP:OPAQUE
END:VEVENT
BEGIN:VEVENT
UID:30643733-3164-4534-b462-643330666163
DTSTAMP:20260424T143749Z
CLASS:PUBLIC
DESCRIPTION:YSSL 14U/5SW Game
DTSTART;TZID=America/Chicago:20260426T103000
DTEND;TZID=America/Chicago:20260426T103000
LOCATION:COMMISSIONERS PARK (NAPERVILLE) - B - LARGE
SUMMARY:Game: 14U/5SW GALAXY 2012 SELECT BLUE vs LISLE FC 2012 ASTON VILLA
TRANSP:OPAQUE
END:VEVENT
BEGIN:VEVENT
UID:66356432-6665-4930-a263-646133363366
DTSTAMP:20260424T143749Z
CLASS:PUBLIC
DESCRIPTION:YSSL 14U/5SW Game
DTSTART;TZID=America/Chicago:20260503T170000
DTEND;TZID=America/Chicago:20260503T170000
LOCATION:WOODGLEN PARK - 11V11 FIELD
SUMMARY:Game: 14U/5SW LISLE FC 2012 ASTON VILLA vs SPIDERS FC - 2012 AZTECS
TRANSP:OPAQUE
END:VEVENT
BEGIN:VEVENT
UID:33363137-3362-4536-b135-356464633235
DTSTAMP:20260424T143749Z
CLASS:PUBLIC
DESCRIPTION:YSSL 14U/5SW Game
DTSTART;TZID=America/Chicago:20260510T130000
DTEND;TZID=America/Chicago:20260510T130000
LOCATION:WOODGLEN PARK - 11V11 FIELD
SUMMARY:Game: 14U/5SW LISLE FC 2012 ASTON VILLA vs UESC - BSC RAIDERS 2012 
 WHITE
TRANSP:OPAQUE
END:VEVENT
BEGIN:VEVENT
UID:66393063-3063-4538-b638-653632613636
DTSTAMP:20260424T143749Z
CLASS:PUBLIC
DESCRIPTION:YSSL 14U/5SW Game
DTSTART;TZID=America/Chicago:20260531T150000
DTEND;TZID=America/Chicago:20260531T150000
LOCATION:BOTT PARK - FIELD 1
SUMMARY:Game: 14U/5SW UESC - PLAINFIELD UTD 2012 SEL GREEN vs LISLE FC 2012
  ASTON VILLA
TRANSP:OPAQUE
END:VEVENT
BEGIN:VEVENT
UID:66333863-3663-4566-a461-386261656439
DTSTAMP:20260424T143749Z
CLASS:PUBLIC
DESCRIPTION:YSSL 14U/5SW Game
DTSTART;TZID=America/Chicago:20260425T173000
DTEND;TZID=America/Chicago:20260425T173000
LOCATION:WOODGLEN PARK - 11V11 FIELD
SUMMARY:Game: 14U/5SW LISLE FC 2012 ASTON VILLA vs NAPERVILLE EAGLES 2012 F
 URY
TRANSP:OPAQUE
END:VEVENT
BEGIN:VEVENT
UID:31336134-6261-4539-b333-633339663735
DTSTAMP:20260424T143749Z
CLASS:PUBLIC
DESCRIPTION:YSSL 14U/5SW Game
DTSTART;TZID=America/Chicago:20260607T180000
DTEND;TZID=America/Chicago:20260607T180000
LOCATION:PRAIRIE FEST PARK - 9
SUMMARY:Game: 14U/5SW RUSH OSWEGO 2012 BLUE vs LISLE FC 2012 ASTON VILLA
TRANSP:OPAQUE
END:VEVENT
END:VCALENDAR
