BEGIN:VCALENDAR
VERSION:2.0
PRODID:-//yssl.org//NONSGML kigkonsult.se iCalcreator 2.41.92//
CALSCALE:GREGORIAN
METHOD:PUBLISH
UID:31366362-3537-4335-a530-643633316238
X-WR-CALNAME:YSSL Calendar
X-WR-CALDESC:YSSL Calendar
X-WR-TIMEZONE:America/Chicago
BEGIN:VEVENT
UID:39636636-3536-4533-b831-346630663361
DTSTAMP:20260425T103611Z
CLASS:PUBLIC
DESCRIPTION:YSSL 9U/1 Game
DTSTART;TZID=America/Chicago:20260411T140000
DTEND;TZID=America/Chicago:20260411T140000
LOCATION:EMERSON MIDDLE SCHOOL  - NC
SUMMARY:Game: 9U/1 PRSC 2017 ORANGE vs WCOB FC 2017 SELECT
TRANSP:OPAQUE
END:VEVENT
BEGIN:VEVENT
UID:39643431-6238-4634-a238-376463316535
DTSTAMP:20260425T103611Z
CLASS:PUBLIC
DESCRIPTION:YSSL 9U/1 Game
DTSTART;TZID=America/Chicago:20260418T100000
DTEND;TZID=America/Chicago:20260418T100000
LOCATION:LIPPOLD PARK SOCCER COMPLEX - FIELD 7
SUMMARY:Game: 9U/1 FORCE 2017B ELITE BLUE vs PRSC 2017 ORANGE
TRANSP:OPAQUE
END:VEVENT
BEGIN:VEVENT
UID:34383162-6461-4032-b762-663937666331
DTSTAMP:20260425T103611Z
CLASS:PUBLIC
DESCRIPTION:YSSL 9U/1 Game
DTSTART;TZID=America/Chicago:20260531T143000
DTEND;TZID=America/Chicago:20260531T143000
LOCATION:EMERSON MIDDLE SCHOOL  - NC
SUMMARY:Game: 9U/1 PRSC 2017 ORANGE vs GLEN ELLYN LAKERS 2017 ELITE
TRANSP:OPAQUE
END:VEVENT
BEGIN:VEVENT
UID:31616666-3737-4562-b432-396337653337
DTSTAMP:20260425T103611Z
CLASS:PUBLIC
DESCRIPTION:YSSL 9U/1 Game
DTSTART;TZID=America/Chicago:20260502T151500
DTEND;TZID=America/Chicago:20260502T151500
LOCATION:FIRE PITCH - 7V7 PITCH 2-B
SUMMARY:Game: 9U/1 CFYSC 2017B PREMIER RED vs PRSC 2017 ORANGE
TRANSP:OPAQUE
END:VEVENT
BEGIN:VEVENT
UID:62316565-3935-4465-b638-613037333262
DTSTAMP:20260425T103611Z
CLASS:PUBLIC
DESCRIPTION:YSSL 9U/1 Game
DTSTART;TZID=America/Chicago:20260510T133000
DTEND;TZID=America/Chicago:20260510T133000
LOCATION:GOOD TEMPLAR PARK - FIELD 2 7V7
SUMMARY:Game: 9U/1 CSA 2017 B BLUE vs PRSC 2017 ORANGE
TRANSP:OPAQUE
END:VEVENT
BEGIN:VEVENT
UID:62343262-3962-4037-b133-323166393366
DTSTAMP:20260425T103611Z
CLASS:PUBLIC
DESCRIPTION:YSSL 9U/1 Game
DTSTART;TZID=America/Chicago:20260426T133000
DTEND;TZID=America/Chicago:20260426T133000
LOCATION:UDALL PARK - 7V7
SUMMARY:Game: 9U/1 AAC EAGLES CHICAGO 2017 RED vs PRSC 2017 ORANGE
TRANSP:OPAQUE
END:VEVENT
BEGIN:VEVENT
UID:66316261-3432-4332-a538-613266393862
DTSTAMP:20260425T103611Z
CLASS:PUBLIC
DESCRIPTION:YSSL 9U/1 Game
DTSTART;TZID=America/Chicago:20260530T140000
DTEND;TZID=America/Chicago:20260530T140000
LOCATION:EMERSON MIDDLE SCHOOL  - NC
SUMMARY:Game: 9U/1 PRSC 2017 ORANGE vs LASC 2017 PREMIER
TRANSP:OPAQUE
END:VEVENT
BEGIN:VEVENT
UID:30323831-3030-4834-a237-396330386533
DTSTAMP:20260425T103611Z
CLASS:PUBLIC
DESCRIPTION:YSSL 9U/1 Game
DTSTART;TZID=America/Chicago:20260606T140000
DTEND;TZID=America/Chicago:20260606T140000
LOCATION:EMERSON MIDDLE SCHOOL  - NC
SUMMARY:Game: 9U/1 PRSC 2017 ORANGE vs OLYMPIACOS 2017 ELITE
TRANSP:OPAQUE
END:VEVENT
END:VCALENDAR
