BEGIN:VCALENDAR
VERSION:2.0
PRODID:-//yssl.org//NONSGML kigkonsult.se iCalcreator 2.41.92//
CALSCALE:GREGORIAN
METHOD:PUBLISH
UID:39323539-3265-4863-b037-663430646636
X-WR-CALNAME:YSSL Calendar
X-WR-CALDESC:YSSL Calendar
X-WR-TIMEZONE:America/Chicago
BEGIN:VEVENT
UID:36626236-3037-4233-b061-613239386364
DTSTAMP:20260425T110658Z
CLASS:PUBLIC
DESCRIPTION:YSSL 9U/2N Game
DTSTART;TZID=America/Chicago:20260411T110000
DTEND;TZID=America/Chicago:20260411T110000
LOCATION:WOODLAND PARK (DEERFIELD) - 7V7
SUMMARY:Game: 9U/2N PEGASUS FC/1974 2017 RED vs WEST CHICAGO FC 2017 RED
TRANSP:OPAQUE
END:VEVENT
BEGIN:VEVENT
UID:62303764-6139-4634-b630-373434663033
DTSTAMP:20260425T110658Z
CLASS:PUBLIC
DESCRIPTION:YSSL 9U/2N Game
DTSTART;TZID=America/Chicago:20260425T100000
DTEND;TZID=America/Chicago:20260425T100000
LOCATION:COMMUNITY PARK WEST (GLENVIEW) - 5 - (7 V 7)
SUMMARY:Game: 9U/2N FC-1 ACADEMY 2017 ELITE vs WEST CHICAGO FC 2017 RED
TRANSP:OPAQUE
END:VEVENT
BEGIN:VEVENT
UID:66656137-3063-4663-b433-363865643830
DTSTAMP:20260425T110658Z
CLASS:PUBLIC
DESCRIPTION:YSSL 9U/2N Game
DTSTART;TZID=America/Chicago:20260503T090000
DTEND;TZID=America/Chicago:20260503T090000
LOCATION:CORNERSTONE LAKES PARK - F
SUMMARY:Game: 9U/2N WEST CHICAGO FC 2017 RED vs FC STARS 2017B BLACK
TRANSP:OPAQUE
END:VEVENT
BEGIN:VEVENT
UID:64376632-6662-4831-b835-313033633136
DTSTAMP:20260425T110658Z
CLASS:PUBLIC
DESCRIPTION:YSSL 9U/2N Game
DTSTART;TZID=America/Chicago:20260509T190000
DTEND;TZID=America/Chicago:20260509T190000
LOCATION:OLYMPIC PARK FIELD - FIELD 5
SUMMARY:Game: 9U/2N BARCA ACADEMY CHICAGO 2017 BLAU vs WEST CHICAGO FC 2017
  RED
TRANSP:OPAQUE
END:VEVENT
BEGIN:VEVENT
UID:61393964-3036-4466-a132-386432626566
DTSTAMP:20260425T110658Z
CLASS:PUBLIC
DESCRIPTION:YSSL 9U/2N Game
DTSTART;TZID=America/Chicago:20260517T090000
DTEND;TZID=America/Chicago:20260517T090000
LOCATION:CORNERSTONE LAKES PARK
SUMMARY:Game: 9U/2N WEST CHICAGO FC 2017 RED vs PEGASUS FC/1974 2017 RED
TRANSP:OPAQUE
END:VEVENT
BEGIN:VEVENT
UID:30626663-3935-4538-a137-663635376164
DTSTAMP:20260425T110658Z
CLASS:PUBLIC
DESCRIPTION:YSSL 9U/2N Game
DTSTART;TZID=America/Chicago:20260530T090000
DTEND;TZID=America/Chicago:20260530T090000
LOCATION:HERITAGE OAKS
SUMMARY:Game: 9U/2N HAWTHORN WOODS ELITE 2017 BLACK vs WEST CHICAGO FC 2017
  RED
TRANSP:OPAQUE
END:VEVENT
BEGIN:VEVENT
UID:62663033-3136-4665-b166-303233336135
DTSTAMP:20260425T110658Z
CLASS:PUBLIC
DESCRIPTION:YSSL 9U/2N Game
DTSTART;TZID=America/Chicago:20260531T160000
DTEND;TZID=America/Chicago:20260531T160000
LOCATION:CORNERSTONE LAKES PARK - F
SUMMARY:Game: 9U/2N WEST CHICAGO FC 2017 RED vs FC-1 ACADEMY 2017 ELITE
TRANSP:OPAQUE
END:VEVENT
BEGIN:VEVENT
UID:36396538-6639-4865-a238-386236303262
DTSTAMP:20260425T110658Z
CLASS:PUBLIC
DESCRIPTION:YSSL 9U/2N Game
DTSTART;TZID=America/Chicago:20260412T113000
DTEND;TZID=America/Chicago:20260412T113000
LOCATION:CORNERSTONE LAKES PARK - F
SUMMARY:Game: 9U/2N WEST CHICAGO FC 2017 RED vs TREVIAN 2017 BLUE
TRANSP:OPAQUE
END:VEVENT
END:VCALENDAR
