BEGIN:VCALENDAR
VERSION:2.0
PRODID:-//yssl.org//NONSGML kigkonsult.se iCalcreator 2.41.92//
CALSCALE:GREGORIAN
METHOD:PUBLISH
UID:32373963-6166-4661-a662-333237353038
X-WR-CALNAME:YSSL Calendar
X-WR-CALDESC:YSSL Calendar
X-WR-TIMEZONE:America/Chicago
BEGIN:VEVENT
UID:32306533-3832-4130-b764-323830336531
DTSTAMP:20260424T102651Z
CLASS:PUBLIC
DESCRIPTION:YSSL 10U/5S1 Game
DTSTART;TZID=America/Chicago:20260503T100000
DTEND;TZID=America/Chicago:20260503T100000
LOCATION:BRENT HASSERT PARK - A
SUMMARY:Game: 10U/5S1 YOUNG WOLVES 2016 vs LITHS SC 2016
TRANSP:OPAQUE
END:VEVENT
BEGIN:VEVENT
UID:33653232-3838-4332-a131-626263346666
DTSTAMP:20260424T102651Z
CLASS:PUBLIC
DESCRIPTION:YSSL 10U/5S1 Game
DTSTART;TZID=America/Chicago:20260425T123000
DTEND;TZID=America/Chicago:20260425T123000
LOCATION:INDIAN BOUNDARY YMCA - 7V7
SUMMARY:Game: 10U/5S1 AJAX FC NAPERVILLE 2016 BLACK vs YOUNG WOLVES 2016
TRANSP:OPAQUE
END:VEVENT
BEGIN:VEVENT
UID:32373534-3064-4936-a666-373535366563
DTSTAMP:20260424T102651Z
CLASS:PUBLIC
DESCRIPTION:YSSL 10U/5S1 Game
DTSTART;TZID=America/Chicago:20260502T130000
DTEND;TZID=America/Chicago:20260502T130000
LOCATION:BRENT HASSERT PARK - A
SUMMARY:Game: 10U/5S1 YOUNG WOLVES 2016 vs NAPERVILLE EAGLES 2016 VIKINGS
TRANSP:OPAQUE
END:VEVENT
BEGIN:VEVENT
UID:33363230-3166-4662-a663-393531333765
DTSTAMP:20260424T102651Z
CLASS:PUBLIC
DESCRIPTION:YSSL 10U/5S1 Game
DTSTART;TZID=America/Chicago:20260509T140000
DTEND;TZID=America/Chicago:20260509T140000
LOCATION:LITHUANIAN WORLD CENTER
SUMMARY:Game: 10U/5S1 LITHS SC 2016 vs YOUNG WOLVES 2016
TRANSP:OPAQUE
END:VEVENT
BEGIN:VEVENT
UID:30643263-3038-4463-a631-666336643537
DTSTAMP:20260424T102651Z
CLASS:PUBLIC
DESCRIPTION:YSSL 10U/5S1 Game
DTSTART;TZID=America/Chicago:20260419T090000
DTEND;TZID=America/Chicago:20260419T090000
LOCATION:RIVER ROAD PARK - 7V7 FIELD
SUMMARY:Game: 10U/5S1 LISLE FC 2016 TOTTENHAM vs YOUNG WOLVES 2016
TRANSP:OPAQUE
END:VEVENT
BEGIN:VEVENT
UID:35366239-3638-4665-b535-613134643138
DTSTAMP:20260424T102651Z
CLASS:PUBLIC
DESCRIPTION:YSSL 10U/5S1 Game
DTSTART;TZID=America/Chicago:20260530T140000
DTEND;TZID=America/Chicago:20260530T140000
LOCATION:BRENT HASSERT PARK - A
SUMMARY:Game: 10U/5S1 YOUNG WOLVES 2016 vs GLEN ELLYN LAKERS 2016 SELECT WH
 ITE
TRANSP:OPAQUE
END:VEVENT
BEGIN:VEVENT
UID:37396536-6139-4262-a164-303261323262
DTSTAMP:20260424T102651Z
CLASS:PUBLIC
DESCRIPTION:YSSL 10U/5S1 Game
DTSTART;TZID=America/Chicago:20260411T140000
DTEND;TZID=America/Chicago:20260411T140000
LOCATION:BRENT HASSERT PARK - A
SUMMARY:Game: 10U/5S1 YOUNG WOLVES 2016 vs LISLE FC 2016 TOTTENHAM
TRANSP:OPAQUE
END:VEVENT
BEGIN:VEVENT
UID:38613164-6538-4634-a538-633364343133
DTSTAMP:20260424T102651Z
CLASS:PUBLIC
DESCRIPTION:YSSL 10U/5S1 Game
DTSTART;TZID=America/Chicago:20260531T133000
DTEND;TZID=America/Chicago:20260531T133000
LOCATION:CONRAD FISCHER PARK - 7 VS 7
SUMMARY:Game: 10U/5S1 TESC 2016 PREMIER vs YOUNG WOLVES 2016
TRANSP:OPAQUE
END:VEVENT
END:VCALENDAR
