BEGIN:VCALENDAR
VERSION:2.0
PRODID:-//yssl.org//NONSGML kigkonsult.se iCalcreator 2.41.92//
CALSCALE:GREGORIAN
METHOD:PUBLISH
UID:31343636-6164-4161-b637-353465333834
X-WR-CALNAME:YSSL Calendar
X-WR-CALDESC:YSSL Calendar
X-WR-TIMEZONE:America/Chicago
BEGIN:VEVENT
UID:39346632-3338-4337-b832-623666386261
DTSTAMP:20260425T163705Z
CLASS:PUBLIC
DESCRIPTION:YSSL 15U-SPRING/2S Game
DTSTART;TZID=America/Chicago:20260412T180000
DTEND;TZID=America/Chicago:20260412T180000
LOCATION:COMMISSIONERS PARK (NAPERVILLE) - A
SUMMARY:Game: 15U-SPRING/2S AJAX FC NAPERVILLE 2011 RED 1 vs AJFC 2011
TRANSP:OPAQUE
END:VEVENT
BEGIN:VEVENT
UID:37623865-3737-4335-a236-363538333965
DTSTAMP:20260425T163705Z
CLASS:PUBLIC
DESCRIPTION:YSSL 15U-SPRING/2S Game
DTSTART;TZID=America/Chicago:20260419T150000
DTEND;TZID=America/Chicago:20260419T150000
LOCATION:STUART SPORTS COMPLEX (MONTGOMERY)
SUMMARY:Game: 15U-SPRING/2S AJFC 2011 vs BLACK LIONS 2011/12
TRANSP:OPAQUE
END:VEVENT
BEGIN:VEVENT
UID:65326563-3437-4136-b738-653837643137
DTSTAMP:20260425T163705Z
CLASS:PUBLIC
DESCRIPTION:YSSL 15U-SPRING/2S Game
DTSTART;TZID=America/Chicago:20260426T120000
DTEND;TZID=America/Chicago:20260426T120000
LOCATION:STUART SPORTS COMPLEX (MONTGOMERY)
SUMMARY:Game: 15U-SPRING/2S AJFC 2011 vs CHICAGO EDGE B2011 PREMIER XI
TRANSP:OPAQUE
END:VEVENT
BEGIN:VEVENT
UID:34356330-3035-4564-b432-343336643965
DTSTAMP:20260425T163705Z
CLASS:PUBLIC
DESCRIPTION:YSSL 15U-SPRING/2S Game
DTSTART;TZID=America/Chicago:20260531T100000
DTEND;TZID=America/Chicago:20260531T100000
LOCATION:STUART SPORTS COMPLEX (MONTGOMERY)
SUMMARY:Game: 15U-SPRING/2S AJFC 2011 vs TIGRES DC 2011
TRANSP:OPAQUE
END:VEVENT
BEGIN:VEVENT
UID:35626562-3762-4438-b264-336465636438
DTSTAMP:20260425T163705Z
CLASS:PUBLIC
DESCRIPTION:YSSL 15U-SPRING/2S Game
DTSTART;TZID=America/Chicago:20260510T171500
DTEND;TZID=America/Chicago:20260510T171500
LOCATION:RIOS PARK - 11V11
SUMMARY:Game: 15U-SPRING/2S TEAM CHICAGO 2011 PERFORMANCE vs AJFC 2011
TRANSP:OPAQUE
END:VEVENT
BEGIN:VEVENT
UID:65633464-3430-4464-b931-646635303136
DTSTAMP:20260425T163705Z
CLASS:PUBLIC
DESCRIPTION:YSSL 15U-SPRING/2S Game
DTSTART;TZID=America/Chicago:20260517T120000
DTEND;TZID=America/Chicago:20260517T120000
LOCATION:STUART SPORTS COMPLEX (MONTGOMERY)
SUMMARY:Game: 15U-SPRING/2S AJFC 2011 vs GALAXY 2011 NL
TRANSP:OPAQUE
END:VEVENT
BEGIN:VEVENT
UID:31323337-3666-4336-a130-613738353439
DTSTAMP:20260425T163705Z
CLASS:PUBLIC
DESCRIPTION:YSSL 15U-SPRING/2S Game
DTSTART;TZID=America/Chicago:20260607T130000
DTEND;TZID=America/Chicago:20260607T130000
LOCATION:KENNEDY MIDDLE SCHOOL
SUMMARY:Game: 15U-SPRING/2S JAKE'S STARS FC 2011 BOYS BLACK vs AJFC 2011
TRANSP:OPAQUE
END:VEVENT
BEGIN:VEVENT
UID:33626431-3762-4530-b232-636438376334
DTSTAMP:20260425T163705Z
CLASS:PUBLIC
DESCRIPTION:YSSL 15U-SPRING/2S Game
DTSTART;TZID=America/Chicago:20260503T163000
DTEND;TZID=America/Chicago:20260503T163000
LOCATION:ACKERMAN PARK - FIELD #2 (11V11)
SUMMARY:Game: 15U-SPRING/2S GLEN ELLYN LAKERS 2011 ELITE 2 vs AJFC 2011
TRANSP:OPAQUE
END:VEVENT
END:VCALENDAR
