BEGIN:VCALENDAR
VERSION:2.0
PRODID:-//yssl.org//NONSGML kigkonsult.se iCalcreator 2.41.92//
CALSCALE:GREGORIAN
METHOD:PUBLISH
UID:31383438-3231-4932-b436-653862303235
X-WR-CALNAME:YSSL Calendar
X-WR-CALDESC:YSSL Calendar
X-WR-TIMEZONE:America/Chicago
BEGIN:VEVENT
UID:33616661-3930-4063-b036-643334633730
DTSTAMP:20260425T110809Z
CLASS:PUBLIC
DESCRIPTION:YSSL 9U/4C2 Game
DTSTART;TZID=America/Chicago:20260411T080000
DTEND;TZID=America/Chicago:20260411T080000
LOCATION:OAK BROOK POLO FIELDS - F 7V7
SUMMARY:Game: 9U/4C2 CHICAGO EMPIRE FC 2017 BLUE vs CHICAGO INTER SYNERGY 2
 017 GREEN
TRANSP:OPAQUE
END:VEVENT
BEGIN:VEVENT
UID:35343761-6631-4033-b634-323437306639
DTSTAMP:20260425T110809Z
CLASS:PUBLIC
DESCRIPTION:YSSL 9U/4C2 Game
DTSTART;TZID=America/Chicago:20260510T130000
DTEND;TZID=America/Chicago:20260510T130000
LOCATION:CENTENNIAL PARK (ADDISON)
SUMMARY:Game: 9U/4C2 TIGRES DC 2017 vs CHICAGO EMPIRE FC 2017 BLUE
TRANSP:OPAQUE
END:VEVENT
BEGIN:VEVENT
UID:31386266-6162-4137-a139-373731386534
DTSTAMP:20260425T110809Z
CLASS:PUBLIC
DESCRIPTION:YSSL 9U/4C2 Game
DTSTART;TZID=America/Chicago:20260426T120000
DTEND;TZID=America/Chicago:20260426T120000
LOCATION:OAK BROOK POLO FIELDS - J 7V7
SUMMARY:Game: 9U/4C2 CHICAGO EMPIRE FC 2017 BLUE vs TIGRES DC 2017
TRANSP:OPAQUE
END:VEVENT
BEGIN:VEVENT
UID:30633339-3665-4139-b464-656439646232
DTSTAMP:20260425T110809Z
CLASS:PUBLIC
DESCRIPTION:YSSL 9U/4C2 Game
DTSTART;TZID=America/Chicago:20260503T140000
DTEND;TZID=America/Chicago:20260503T140000
LOCATION:COMMUNITY PARK (ADDISON)
SUMMARY:Game: 9U/4C2 DPSAL 2017 vs CHICAGO EMPIRE FC 2017 BLUE
TRANSP:OPAQUE
END:VEVENT
BEGIN:VEVENT
UID:37623064-6531-4235-a666-303639343238
DTSTAMP:20260425T110809Z
CLASS:PUBLIC
DESCRIPTION:YSSL 9U/4C2 Game
DTSTART;TZID=America/Chicago:20260510T080000
DTEND;TZID=America/Chicago:20260510T080000
LOCATION:OAK BROOK POLO FIELDS - F 7V7
SUMMARY:Game: 9U/4C2 CHICAGO EMPIRE FC 2017 BLUE vs ELA ELITE 2017 PREMIER
TRANSP:OPAQUE
END:VEVENT
BEGIN:VEVENT
UID:31323434-3939-4437-a335-613334623239
DTSTAMP:20260425T110809Z
CLASS:PUBLIC
DESCRIPTION:YSSL 9U/4C2 Game
DTSTART;TZID=America/Chicago:20260531T133000
DTEND;TZID=America/Chicago:20260531T133000
LOCATION:KENSINGTON PARK (LOMBARD) - 7V7 FIELD
SUMMARY:Game: 9U/4C2 CHICAGO INTER SYNERGY 2017 GREEN vs CHICAGO EMPIRE FC 
 2017 BLUE
TRANSP:OPAQUE
END:VEVENT
BEGIN:VEVENT
UID:37393430-6534-4963-a130-383766633864
DTSTAMP:20260425T110809Z
CLASS:PUBLIC
DESCRIPTION:YSSL 9U/4C2 Game
DTSTART;TZID=America/Chicago:20260607T150000
DTEND;TZID=America/Chicago:20260607T150000
LOCATION:RIVER ROAD PARK - 7V7 FIELD
SUMMARY:Game: 9U/4C2 LISLE FC 2017 WOLVERHAMPTON vs CHICAGO EMPIRE FC 2017 
 BLUE
TRANSP:OPAQUE
END:VEVENT
BEGIN:VEVENT
UID:39323831-3138-4264-a632-323863656465
DTSTAMP:20260425T110809Z
CLASS:PUBLIC
DESCRIPTION:YSSL 9U/4C2 Game
DTSTART;TZID=America/Chicago:20260419T150000
DTEND;TZID=America/Chicago:20260419T150000
LOCATION:OAK BROOK POLO FIELDS - J 7V7
SUMMARY:Game: 9U/4C2 CHICAGO EMPIRE FC 2017 BLUE vs LISLE FC 2017 WOLVERHAM
 PTON
TRANSP:OPAQUE
END:VEVENT
END:VCALENDAR
