BEGIN:VCALENDAR
VERSION:2.0
PRODID:-//yssl.org//NONSGML kigkonsult.se iCalcreator 2.41.92//
CALSCALE:GREGORIAN
METHOD:PUBLISH
UID:37613265-6265-4264-b537-363431643931
X-WR-CALNAME:YSSL Calendar
X-WR-CALDESC:YSSL Calendar
X-WR-TIMEZONE:America/Chicago
BEGIN:VEVENT
UID:30643233-3538-4261-a631-386237623661
DTSTAMP:20260425T025811Z
CLASS:PUBLIC
DESCRIPTION:YSSL 9U/3E Game
DTSTART;TZID=America/Chicago:20260411T110000
DTEND;TZID=America/Chicago:20260411T110000
LOCATION:DEER PARK TOWN CENTER - 7V7
SUMMARY:Game: 9U/3E ELA ELITE 2017 vs CFYSC 2017B SELECT
TRANSP:OPAQUE
END:VEVENT
BEGIN:VEVENT
UID:39353430-6336-4966-b237-363132653737
DTSTAMP:20260425T025811Z
CLASS:PUBLIC
DESCRIPTION:YSSL 9U/3E Game
DTSTART;TZID=America/Chicago:20260607T140000
DTEND;TZID=America/Chicago:20260607T140000
LOCATION:WOODLAND TRAILS PARK
SUMMARY:Game: 9U/3E BVB IA CHICAGO 2017/2018 YELLOW vs CFYSC 2017B SELECT
TRANSP:OPAQUE
END:VEVENT
BEGIN:VEVENT
UID:30303738-3138-4136-a533-396330356137
DTSTAMP:20260425T025811Z
CLASS:PUBLIC
DESCRIPTION:YSSL 9U/3E Game
DTSTART;TZID=America/Chicago:20260425T090000
DTEND;TZID=America/Chicago:20260425T090000
LOCATION:LA SALLE LANGUAGE ACADEMY
SUMMARY:Game: 9U/3E CHICAGO CITY 2017 ACADEMY  I vs CFYSC 2017B SELECT
TRANSP:OPAQUE
END:VEVENT
BEGIN:VEVENT
UID:64386639-3538-4337-b762-373431626262
DTSTAMP:20260425T025811Z
CLASS:PUBLIC
DESCRIPTION:YSSL 9U/3E Game
DTSTART;TZID=America/Chicago:20260426T080000
DTEND;TZID=America/Chicago:20260426T080000
LOCATION:ROGERS PARK  - SMALL
SUMMARY:Game: 9U/3E IPROSKILLS 2017 NEON vs CFYSC 2017B SELECT
TRANSP:OPAQUE
END:VEVENT
BEGIN:VEVENT
UID:64633330-6366-4163-b338-363164356466
DTSTAMP:20260425T025811Z
CLASS:PUBLIC
DESCRIPTION:YSSL 9U/3E Game
DTSTART;TZID=America/Chicago:20260509T143000
DTEND;TZID=America/Chicago:20260509T143000
LOCATION:WILMETTE COMMUNITY  PLAYFIELD - 15
SUMMARY:Game: 9U/3E RUSH - WILMETTE WINGS 2017 PREMIER vs CFYSC 2017B SELEC
 T
TRANSP:OPAQUE
END:VEVENT
BEGIN:VEVENT
UID:61656664-3432-4630-a138-613534616435
DTSTAMP:20260425T025811Z
CLASS:PUBLIC
DESCRIPTION:YSSL 9U/3E Game
DTSTART;TZID=America/Chicago:20260516T113000
DTEND;TZID=America/Chicago:20260516T113000
LOCATION:FIRE PITCH - 7V7 PITCH 2-A
SUMMARY:Game: 9U/3E CFYSC 2017B SELECT vs FCS TEAM EVANSTON 2017 BOYS ORANG
 E I
TRANSP:OPAQUE
END:VEVENT
BEGIN:VEVENT
UID:63663533-3366-4463-a466-353936393366
DTSTAMP:20260425T025811Z
CLASS:PUBLIC
DESCRIPTION:YSSL 9U/3E Game
DTSTART;TZID=America/Chicago:20260530T100000
DTEND;TZID=America/Chicago:20260530T100000
LOCATION:HITCH ELEMENTARY SCHOOL
SUMMARY:Game: 9U/3E CHICAGO CELTIC SC 2017 GREEN vs CFYSC 2017B SELECT
TRANSP:OPAQUE
END:VEVENT
BEGIN:VEVENT
UID:37613161-6134-4163-b539-366461383935
DTSTAMP:20260425T025811Z
CLASS:PUBLIC
DESCRIPTION:YSSL 9U/3E Game
DTSTART;TZID=America/Chicago:20260606T103000
DTEND;TZID=America/Chicago:20260606T103000
LOCATION:HITCH ELEMENTARY SCHOOL
SUMMARY:Game: 9U/3E CHICAGO CELTIC SC 2017 GREEN vs CFYSC 2017B SELECT
TRANSP:OPAQUE
END:VEVENT
END:VCALENDAR
