BEGIN:VCALENDAR
VERSION:2.0
PRODID:-//yssl.org//NONSGML kigkonsult.se iCalcreator 2.41.92//
CALSCALE:GREGORIAN
METHOD:PUBLISH
UID:35636334-6538-4437-a231-306337353661
X-WR-CALNAME:YSSL Calendar
X-WR-CALDESC:YSSL Calendar
X-WR-TIMEZONE:America/Chicago
BEGIN:VEVENT
UID:62623862-3366-4165-a139-366266623833
DTSTAMP:20260424T144029Z
CLASS:PUBLIC
DESCRIPTION:YSSL 11U/4NW2 Game
DTSTART;TZID=America/Chicago:20260426T113000
DTEND;TZID=America/Chicago:20260426T113000
LOCATION:PRAIRIE MEADOWS
SUMMARY:Game: 11U/4NW2 FVB 2015 SELECT vs FORCE 2015B PREMIER BLUE
TRANSP:OPAQUE
END:VEVENT
BEGIN:VEVENT
UID:32313934-3534-4632-b265-663231323964
DTSTAMP:20260424T144029Z
CLASS:PUBLIC
DESCRIPTION:YSSL 11U/4NW2 Game
DTSTART;TZID=America/Chicago:20260502T100000
DTEND;TZID=America/Chicago:20260502T100000
LOCATION:LIPPOLD PARK SOCCER COMPLEX - FIELD 16
SUMMARY:Game: 11U/4NW2 FORCE 2015B PREMIER BLUE vs CARY DEFENDERS 2015 GRAY
TRANSP:OPAQUE
END:VEVENT
BEGIN:VEVENT
UID:30386437-3237-4262-b164-323430653431
DTSTAMP:20260424T144029Z
CLASS:PUBLIC
DESCRIPTION:YSSL 11U/4NW2 Game
DTSTART;TZID=America/Chicago:20260412T150000
DTEND;TZID=America/Chicago:20260412T150000
LOCATION:PRAIRIE FIELDS SPORTS PARK - FIELD 4
SUMMARY:Game: 11U/4NW2 SUFC 2015 ROCKFORD NEMEZIZ vs FORCE 2015B PREMIER BL
 UE
TRANSP:OPAQUE
END:VEVENT
BEGIN:VEVENT
UID:66333662-6530-4536-a635-656338313033
DTSTAMP:20260424T144029Z
CLASS:PUBLIC
DESCRIPTION:YSSL 11U/4NW2 Game
DTSTART;TZID=America/Chicago:20260425T150000
DTEND;TZID=America/Chicago:20260425T150000
LOCATION:LIPPOLD PARK SOCCER COMPLEX - FIELD 3
SUMMARY:Game: 11U/4NW2 FORCE 2015B PREMIER BLUE vs FCB 2015 BLACK
TRANSP:OPAQUE
END:VEVENT
BEGIN:VEVENT
UID:33393765-6265-4261-b862-626635363162
DTSTAMP:20260424T144029Z
CLASS:PUBLIC
DESCRIPTION:YSSL 11U/4NW2 Game
DTSTART;TZID=America/Chicago:20260530T160000
DTEND;TZID=America/Chicago:20260530T160000
LOCATION:MCHENRY ATHLETIC COMPLEX  - GRASS FIELD #1 (9V9)
SUMMARY:Game: 11U/4NW2 CHICAGO INFERNO 2015 PREMIER vs FORCE 2015B PREMIER 
 BLUE
TRANSP:OPAQUE
END:VEVENT
BEGIN:VEVENT
UID:66613830-6135-4732-a135-346665383064
DTSTAMP:20260424T144029Z
CLASS:PUBLIC
DESCRIPTION:YSSL 11U/4NW2 Game
DTSTART;TZID=America/Chicago:20260606T150000
DTEND;TZID=America/Chicago:20260606T150000
LOCATION:LIPPOLD PARK SOCCER COMPLEX - FIELD 3
SUMMARY:Game: 11U/4NW2 FORCE 2015B PREMIER BLUE vs FVB 2015 SELECT
TRANSP:OPAQUE
END:VEVENT
BEGIN:VEVENT
UID:63623131-6535-4332-a663-613739343633
DTSTAMP:20260424T144029Z
CLASS:PUBLIC
DESCRIPTION:YSSL 11U/4NW2 Game
DTSTART;TZID=America/Chicago:20260524T110000
DTEND;TZID=America/Chicago:20260524T110000
LOCATION:LIPPOLD PARK SOCCER COMPLEX - FIELD 1
SUMMARY:Game: 11U/4NW2 FORCE 2015B PREMIER BLUE vs HARVARD FC - ESPANOL 201
 6
TRANSP:OPAQUE
END:VEVENT
BEGIN:VEVENT
UID:61643664-6461-4536-a566-616338383933
DTSTAMP:20260424T144029Z
CLASS:PUBLIC
DESCRIPTION:YSSL 11U/4NW2 Game
DTSTART;TZID=America/Chicago:20260607T120000
DTEND;TZID=America/Chicago:20260607T120000
LOCATION:RON BEESE PARK - 5
SUMMARY:Game: 11U/4NW2 FCB 2015 BLACK vs FORCE 2015B PREMIER BLUE
TRANSP:OPAQUE
END:VEVENT
END:VCALENDAR
