BEGIN:VCALENDAR
VERSION:2.0
PRODID:-//yssl.org//NONSGML kigkonsult.se iCalcreator 2.41.92//
CALSCALE:GREGORIAN
METHOD:PUBLISH
UID:61633830-6665-4763-a266-323562373632
X-WR-CALNAME:YSSL Calendar
X-WR-CALDESC:YSSL Calendar
X-WR-TIMEZONE:America/Chicago
BEGIN:VEVENT
UID:35616330-3335-4066-b132-373039353262
DTSTAMP:20260424T130820Z
CLASS:PUBLIC
DESCRIPTION:YSSL 12U/3NW Game
DTSTART;TZID=America/Chicago:20260411T173000
DTEND;TZID=America/Chicago:20260411T173000
LOCATION:OLYMPIC PARK FIELD - FIELD 3
SUMMARY:Game: 12U/3NW BARCA ACADEMY CHICAGO 2014 GRANA vs ELA ELITE 2014 PR
 EMIER
TRANSP:OPAQUE
END:VEVENT
BEGIN:VEVENT
UID:63656362-6132-4630-a531-663435353633
DTSTAMP:20260424T130820Z
CLASS:PUBLIC
DESCRIPTION:YSSL 12U/3NW Game
DTSTART;TZID=America/Chicago:20260510T100000
DTEND;TZID=America/Chicago:20260510T100000
LOCATION:VEHE PK - 9V9
SUMMARY:Game: 12U/3NW ELA ELITE 2014 PREMIER vs EGSC 2014 ELITE
TRANSP:OPAQUE
END:VEVENT
BEGIN:VEVENT
UID:30646534-3935-4365-b361-323337613335
DTSTAMP:20260424T130820Z
CLASS:PUBLIC
DESCRIPTION:YSSL 12U/3NW Game
DTSTART;TZID=America/Chicago:20260424T190000
DTEND;TZID=America/Chicago:20260424T190000
LOCATION:SPORTSCORE 2
SUMMARY:Game: 12U/3NW ROCKFORD OLYMPIC FC 2014 vs ELA ELITE 2014 PREMIER
TRANSP:OPAQUE
END:VEVENT
BEGIN:VEVENT
UID:34653631-3363-4830-b334-363934633139
DTSTAMP:20260424T130820Z
CLASS:PUBLIC
DESCRIPTION:YSSL 12U/3NW Game
DTSTART;TZID=America/Chicago:20260516T160000
DTEND;TZID=America/Chicago:20260516T160000
LOCATION:COUNTRYSIDE WEST
SUMMARY:Game: 12U/3NW ELA ELITE 2014 PREMIER vs HUSSARS UNITED 2014
TRANSP:OPAQUE
END:VEVENT
BEGIN:VEVENT
UID:37616461-3537-4130-a338-623461346636
DTSTAMP:20260424T130820Z
CLASS:PUBLIC
DESCRIPTION:YSSL 12U/3NW Game
DTSTART;TZID=America/Chicago:20260509T160000
DTEND;TZID=America/Chicago:20260509T160000
LOCATION:CARY GROVE PARK - SOUTH
SUMMARY:Game: 12U/3NW CARY DEFENDERS 2014 vs ELA ELITE 2014 PREMIER
TRANSP:OPAQUE
END:VEVENT
BEGIN:VEVENT
UID:37396464-6562-4331-b633-346235393439
DTSTAMP:20260424T130820Z
CLASS:PUBLIC
DESCRIPTION:YSSL 12U/3NW Game
DTSTART;TZID=America/Chicago:20260530T090000
DTEND;TZID=America/Chicago:20260530T090000
LOCATION:VEHE PK - 9V9
SUMMARY:Game: 12U/3NW ELA ELITE 2014 PREMIER vs CHICAGO INFERNO 2014 PREMIE
 R RED
TRANSP:OPAQUE
END:VEVENT
BEGIN:VEVENT
UID:32666231-3930-4638-b163-386133333564
DTSTAMP:20260424T130820Z
CLASS:PUBLIC
DESCRIPTION:YSSL 12U/3NW Game
DTSTART;TZID=America/Chicago:20260606T120000
DTEND;TZID=America/Chicago:20260606T120000
LOCATION:VEHE PK - 9V9
SUMMARY:Game: 12U/3NW ELA ELITE 2014 PREMIER vs UNION FC 2014
TRANSP:OPAQUE
END:VEVENT
BEGIN:VEVENT
UID:61386538-3434-4462-a463-353636613861
DTSTAMP:20260424T130820Z
CLASS:PUBLIC
DESCRIPTION:YSSL 12U/3NW Game
DTSTART;TZID=America/Chicago:20260502T153000
DTEND;TZID=America/Chicago:20260502T153000
LOCATION:COUNTRYSIDE WEST
SUMMARY:Game: 12U/3NW ELA ELITE 2014 PREMIER vs SAA UNITED SC 2014 BLACK
TRANSP:OPAQUE
END:VEVENT
END:VCALENDAR
