BEGIN:VCALENDAR
VERSION:2.0
PRODID:-//yssl.org//NONSGML kigkonsult.se iCalcreator 2.41.92//
CALSCALE:GREGORIAN
METHOD:PUBLISH
UID:30303235-3236-4238-a434-376565633065
X-WR-CALNAME:YSSL Calendar
X-WR-CALDESC:YSSL Calendar
X-WR-TIMEZONE:America/Chicago
BEGIN:VEVENT
UID:37613533-3538-4333-b831-643361323433
DTSTAMP:20260425T131557Z
CLASS:PUBLIC
DESCRIPTION:YSSL 8U-7V7/5N Game
DTSTART;TZID=America/Chicago:20260607T090000
DTEND;TZID=America/Chicago:20260607T090000
LOCATION:HERITAGE OAKS - LITTLE FIELD
SUMMARY:Game: 8U-7V7/5N HAWTHORN WOODS ELITE 2018/19 vs ELA ELITE 2018 SELE
 CT
TRANSP:OPAQUE
END:VEVENT
BEGIN:VEVENT
UID:33623237-6262-4466-a536-653032626138
DTSTAMP:20260425T131557Z
CLASS:PUBLIC
DESCRIPTION:YSSL 8U-7V7/5N Game
DTSTART;TZID=America/Chicago:20260502T133000
DTEND;TZID=America/Chicago:20260502T133000
LOCATION:DEER PARK TOWN CENTER
SUMMARY:Game: 8U-7V7/5N ELA ELITE 2018 SELECT vs LASC 2018 BLACK
TRANSP:OPAQUE
END:VEVENT
BEGIN:VEVENT
UID:35326463-6164-4230-b135-653632613363
DTSTAMP:20260425T131557Z
CLASS:PUBLIC
DESCRIPTION:YSSL 8U-7V7/5N Game
DTSTART;TZID=America/Chicago:20260425T120000
DTEND;TZID=America/Chicago:20260425T120000
LOCATION:ORCHARD FIELD - 7V7
SUMMARY:Game: 8U-7V7/5N ELA ELITE 2018 SELECT vs LIBERTYVILLE FC 1974-2018A
 -ORANGE 1
TRANSP:OPAQUE
END:VEVENT
BEGIN:VEVENT
UID:33653863-3335-4564-b430-343437623765
DTSTAMP:20260425T131557Z
CLASS:PUBLIC
DESCRIPTION:YSSL 8U-7V7/5N Game
DTSTART;TZID=America/Chicago:20260509T120000
DTEND;TZID=America/Chicago:20260509T120000
LOCATION:OLYMPIC PARK FIELD - 7A (ONE HALF OF FIEL
SUMMARY:Game: 8U-7V7/5N SAA UNITED SC 2018 RED vs ELA ELITE 2018 SELECT
TRANSP:OPAQUE
END:VEVENT
BEGIN:VEVENT
UID:61633238-6632-4764-b131-313565393536
DTSTAMP:20260425T131557Z
CLASS:PUBLIC
DESCRIPTION:YSSL 8U-7V7/5N Game
DTSTART;TZID=America/Chicago:20260516T120000
DTEND;TZID=America/Chicago:20260516T120000
LOCATION:ORCHARD FIELD - 7V7
SUMMARY:Game: 8U-7V7/5N ELA ELITE 2018 SELECT vs MUNDELEIN LIONS 2018 BLUE
TRANSP:OPAQUE
END:VEVENT
BEGIN:VEVENT
UID:36396638-3466-4335-a262-633939336161
DTSTAMP:20260425T131557Z
CLASS:PUBLIC
DESCRIPTION:YSSL 8U-7V7/5N Game
DTSTART;TZID=America/Chicago:20260530T120000
DTEND;TZID=America/Chicago:20260530T120000
LOCATION:ORCHARD FIELD - 7V7
SUMMARY:Game: 8U-7V7/5N ELA ELITE 2018 SELECT vs REAL MADRID ROUND LAKE FC 
 2018
TRANSP:OPAQUE
END:VEVENT
BEGIN:VEVENT
UID:38353535-3038-4733-a161-303839353264
DTSTAMP:20260425T131557Z
CLASS:PUBLIC
DESCRIPTION:YSSL 8U-7V7/5N Game
DTSTART;TZID=America/Chicago:20260605T180000
DTEND;TZID=America/Chicago:20260605T180000
LOCATION:LAKEWOOD GROVE PARK
SUMMARY:Game: 8U-7V7/5N REAL MADRID ROUND LAKE FC 2018 vs ELA ELITE 2018 SE
 LECT
TRANSP:OPAQUE
END:VEVENT
BEGIN:VEVENT
UID:37656134-6430-4566-a136-303238366663
DTSTAMP:20260425T131557Z
CLASS:PUBLIC
DESCRIPTION:YSSL 8U-7V7/5N Game
DTSTART;TZID=America/Chicago:20260508T190000
DTEND;TZID=America/Chicago:20260508T190000
LOCATION:GBUR PARK - 3A
SUMMARY:Game: 8U-7V7/5N PALATINE CELTIC 2018 BLACK vs ELA ELITE 2018 SELECT
TRANSP:OPAQUE
END:VEVENT
END:VCALENDAR
