BEGIN:VCALENDAR
VERSION:2.0
PRODID:-//yssl.org//NONSGML kigkonsult.se iCalcreator 2.41.92//
CALSCALE:GREGORIAN
METHOD:PUBLISH
UID:32386366-3136-4439-a535-356662636265
X-WR-CALNAME:YSSL Calendar
X-WR-CALDESC:YSSL Calendar
X-WR-TIMEZONE:America/Chicago
BEGIN:VEVENT
UID:35366339-3864-4832-b362-653335363539
DTSTAMP:20260425T034741Z
CLASS:PUBLIC
DESCRIPTION:YSSL 9U/3E Game
DTSTART;TZID=America/Chicago:20260411T110000
DTEND;TZID=America/Chicago:20260411T110000
LOCATION:DEER PARK TOWN CENTER - 7V7
SUMMARY:Game: 9U/3E ELA ELITE 2017 vs CFYSC 2017B SELECT
TRANSP:OPAQUE
END:VEVENT
BEGIN:VEVENT
UID:37643233-3238-4963-b561-393439653937
DTSTAMP:20260425T034741Z
CLASS:PUBLIC
DESCRIPTION:YSSL 9U/3E Game
DTSTART;TZID=America/Chicago:20260412T110000
DTEND;TZID=America/Chicago:20260412T110000
LOCATION:JAMES PARK - #4
SUMMARY:Game: 9U/3E FCS TEAM EVANSTON 2017 BOYS ORANGE I vs ELA ELITE 2017
TRANSP:OPAQUE
END:VEVENT
BEGIN:VEVENT
UID:64613637-3533-4262-a638-363138326637
DTSTAMP:20260425T034741Z
CLASS:PUBLIC
DESCRIPTION:YSSL 9U/3E Game
DTSTART;TZID=America/Chicago:20260509T110000
DTEND;TZID=America/Chicago:20260509T110000
LOCATION:DEER PARK TOWN CENTER - 7V7
SUMMARY:Game: 9U/3E ELA ELITE 2017 vs CHICAGO CELTIC SC 2017 GREEN
TRANSP:OPAQUE
END:VEVENT
BEGIN:VEVENT
UID:36653530-3562-4139-b731-613062623533
DTSTAMP:20260425T034741Z
CLASS:PUBLIC
DESCRIPTION:YSSL 9U/3E Game
DTSTART;TZID=America/Chicago:20260503T110000
DTEND;TZID=America/Chicago:20260503T110000
LOCATION:WOODLAND TRAILS PARK
SUMMARY:Game: 9U/3E BVB IA CHICAGO 2017/2018 YELLOW vs ELA ELITE 2017
TRANSP:OPAQUE
END:VEVENT
BEGIN:VEVENT
UID:31303864-6461-4162-b533-666263646436
DTSTAMP:20260425T034741Z
CLASS:PUBLIC
DESCRIPTION:YSSL 9U/3E Game
DTSTART;TZID=America/Chicago:20260510T120000
DTEND;TZID=America/Chicago:20260510T120000
LOCATION:DEER PARK TOWN CENTER - 7V7
SUMMARY:Game: 9U/3E ELA ELITE 2017 vs IPROSKILLS 2017 NEON
TRANSP:OPAQUE
END:VEVENT
BEGIN:VEVENT
UID:34323565-3662-4837-a365-356137666238
DTSTAMP:20260425T034741Z
CLASS:PUBLIC
DESCRIPTION:YSSL 9U/3E Game
DTSTART;TZID=America/Chicago:20260607T090000
DTEND;TZID=America/Chicago:20260607T090000
LOCATION:BUFFALO CREEK
SUMMARY:Game: 9U/3E ELA ELITE 2017 vs CHICAGO CITY 2017 ACADEMY  I
TRANSP:OPAQUE
END:VEVENT
BEGIN:VEVENT
UID:31623461-3838-4430-b530-313561613762
DTSTAMP:20260425T034741Z
CLASS:PUBLIC
DESCRIPTION:YSSL 9U/3E Game
DTSTART;TZID=America/Chicago:20260531T120000
DTEND;TZID=America/Chicago:20260531T120000
LOCATION:HOWARD PARK
SUMMARY:Game: 9U/3E RUSH - WILMETTE WINGS 2017 PREMIER vs ELA ELITE 2017
TRANSP:OPAQUE
END:VEVENT
BEGIN:VEVENT
UID:33663538-6538-4132-b731-633264323166
DTSTAMP:20260425T034741Z
CLASS:PUBLIC
DESCRIPTION:YSSL 9U/3E Game
DTSTART;TZID=America/Chicago:20260502T150000
DTEND;TZID=America/Chicago:20260502T150000
LOCATION:LA SALLE LANGUAGE ACADEMY
SUMMARY:Game: 9U/3E CHICAGO CITY 2017 ACADEMY  I vs ELA ELITE 2017
TRANSP:OPAQUE
END:VEVENT
END:VCALENDAR
