BEGIN:VCALENDAR
VERSION:2.0
PRODID:-//yssl.org//NONSGML kigkonsult.se iCalcreator 2.41.92//
CALSCALE:GREGORIAN
METHOD:PUBLISH
UID:30663563-3961-4234-b939-646565633031
X-WR-CALNAME:YSSL Calendar
X-WR-CALDESC:YSSL Calendar
X-WR-TIMEZONE:America/Chicago
BEGIN:VEVENT
UID:66366336-3737-4363-a631-333530616666
DTSTAMP:20260424T203859Z
CLASS:PUBLIC
DESCRIPTION:YSSL 11U/2S Game
DTSTART;TZID=America/Chicago:20260424T180000
DTEND;TZID=America/Chicago:20260424T180000
LOCATION:PRAIRIE PARK (CHICAGO)
SUMMARY:Game: 11U/2S GESC 2015 CHICHO CUEVAS vs ECS 2015 B ELITE
TRANSP:OPAQUE
END:VEVENT
BEGIN:VEVENT
UID:36326261-3561-4233-b131-386261343938
DTSTAMP:20260424T203859Z
CLASS:PUBLIC
DESCRIPTION:YSSL 11U/2S Game
DTSTART;TZID=America/Chicago:20260508T173000
DTEND;TZID=America/Chicago:20260508T173000
LOCATION:CENTRAL PARK NORTH - KENSINGTON RD. ENTRANCE - FIELD 9V9
SUMMARY:Game: 11U/2S INDIANA ELITE CHICAGO 2015 vs ECS 2015 B ELITE
TRANSP:OPAQUE
END:VEVENT
BEGIN:VEVENT
UID:64653635-3539-4035-b138-656136383661
DTSTAMP:20260424T203859Z
CLASS:PUBLIC
DESCRIPTION:YSSL 11U/2S Game
DTSTART;TZID=America/Chicago:20260426T150000
DTEND;TZID=America/Chicago:20260426T150000
LOCATION:SPRING ROCK PARK
SUMMARY:Game: 11U/2S AYSO 300 UNITED 2015 BLUE vs ECS 2015 B ELITE
TRANSP:OPAQUE
END:VEVENT
BEGIN:VEVENT
UID:65393463-6137-4761-b539-386339353535
DTSTAMP:20260424T203859Z
CLASS:PUBLIC
DESCRIPTION:YSSL 11U/2S Game
DTSTART;TZID=America/Chicago:20260503T141500
DTEND;TZID=America/Chicago:20260503T141500
LOCATION:BERENS PARK - SLED HILL
SUMMARY:Game: 11U/2S ECS 2015 B ELITE vs LG CELTICS 2015 BLACK
TRANSP:OPAQUE
END:VEVENT
BEGIN:VEVENT
UID:66636266-3938-4565-a632-346364623530
DTSTAMP:20260424T203859Z
CLASS:PUBLIC
DESCRIPTION:YSSL 11U/2S Game
DTSTART;TZID=America/Chicago:20260510T130000
DTEND;TZID=America/Chicago:20260510T130000
LOCATION:CENTRAL PARK FIELDS - FOREST GATE RD. ENTRANCE - FIELD 4
SUMMARY:Game: 11U/2S WCOB FC 2015 ACADEMY vs ECS 2015 B ELITE
TRANSP:OPAQUE
END:VEVENT
BEGIN:VEVENT
UID:61333738-3461-4666-a339-303834323964
DTSTAMP:20260424T203859Z
CLASS:PUBLIC
DESCRIPTION:YSSL 11U/2S Game
DTSTART;TZID=America/Chicago:20260607T141500
DTEND;TZID=America/Chicago:20260607T141500
LOCATION:PIONEER PARK (ELMHURST)
SUMMARY:Game: 11U/2S ECS 2015 B ELITE vs LTSC 2015 SELECT WHITE
TRANSP:OPAQUE
END:VEVENT
BEGIN:VEVENT
UID:34363163-3563-4561-b262-363833313131
DTSTAMP:20260424T203859Z
CLASS:PUBLIC
DESCRIPTION:YSSL 11U/2S Game
DTSTART;TZID=America/Chicago:20260530T090000
DTEND;TZID=America/Chicago:20260530T090000
LOCATION:NWI CHESTERTON SOCCER FIELDS - 9V9 FIELD #3
SUMMARY:Game: 11U/2S NWI LIONS UNITED 2015 YELLOW vs ECS 2015 B ELITE
TRANSP:OPAQUE
END:VEVENT
BEGIN:VEVENT
UID:37353966-3661-4136-b237-643438653733
DTSTAMP:20260424T203859Z
CLASS:PUBLIC
DESCRIPTION:YSSL 11U/2S Game
DTSTART;TZID=America/Chicago:20260605T180000
DTEND;TZID=America/Chicago:20260605T180000
LOCATION:COMMISSIONERS PARK (NAPERVILLE) - TURF
SUMMARY:Game: 11U/2S ECLIPSE 2015 NAPERVILLE BOYS vs ECS 2015 B ELITE
TRANSP:OPAQUE
END:VEVENT
END:VCALENDAR
