BEGIN:VCALENDAR
VERSION:2.0
PRODID:-//yssl.org//NONSGML kigkonsult.se iCalcreator 2.41.92//
CALSCALE:GREGORIAN
METHOD:PUBLISH
UID:65623363-6465-4530-a237-646638613162
X-WR-CALNAME:YSSL Calendar
X-WR-CALDESC:YSSL Calendar
X-WR-TIMEZONE:America/Chicago
BEGIN:VEVENT
UID:61353832-3532-4432-b965-363931616461
DTSTAMP:20260425T112622Z
CLASS:PUBLIC
DESCRIPTION:YSSL 8U-5V5/5W2 Game
DTSTART;TZID=America/Chicago:20260412T113000
DTEND;TZID=America/Chicago:20260412T113000
LOCATION:HILLTOP PARK SOCCER FIELD
SUMMARY:Game: 8U-5V5/5W2 BARTLETT HAWKS FC 2018/2019 vs EVOLUTION 2018/19 D
 A EAST
TRANSP:OPAQUE
END:VEVENT
BEGIN:VEVENT
UID:36316461-6337-4232-b165-613533343134
DTSTAMP:20260425T112622Z
CLASS:PUBLIC
DESCRIPTION:YSSL 8U-5V5/5W2 Game
DTSTART;TZID=America/Chicago:20260418T103000
DTEND;TZID=America/Chicago:20260418T103000
LOCATION:WEST HILLS COMMUNITY CHURCH
SUMMARY:Game: 8U-5V5/5W2 EVOLUTION 2018/19 DA EAST vs GLEN ELLYN LAKERS 201
 8 SELECT
TRANSP:OPAQUE
END:VEVENT
BEGIN:VEVENT
UID:31663263-3962-4062-b061-333733303661
DTSTAMP:20260425T112622Z
CLASS:PUBLIC
DESCRIPTION:YSSL 8U-5V5/5W2 Game
DTSTART;TZID=America/Chicago:20260509T130000
DTEND;TZID=America/Chicago:20260509T130000
LOCATION:CENTRAL PARK FIELDS - FOREST GATE RD. ENTRANCE - FIELD 9
SUMMARY:Game: 8U-5V5/5W2 WCOB FC 2018 ACADEMY vs EVOLUTION 2018/19 DA EAST
TRANSP:OPAQUE
END:VEVENT
BEGIN:VEVENT
UID:37396665-3431-4938-a464-656531323238
DTSTAMP:20260425T112622Z
CLASS:PUBLIC
DESCRIPTION:YSSL 8U-5V5/5W2 Game
DTSTART;TZID=America/Chicago:20260530T103000
DTEND;TZID=America/Chicago:20260530T103000
LOCATION:WEST HILLS COMMUNITY CHURCH
SUMMARY:Game: 8U-5V5/5W2 EVOLUTION 2018/19 DA EAST vs CAMPTON UNITED 2019 R
 ED 2
TRANSP:OPAQUE
END:VEVENT
BEGIN:VEVENT
UID:34653532-6264-4934-b036-316666616565
DTSTAMP:20260425T112622Z
CLASS:PUBLIC
DESCRIPTION:YSSL 8U-5V5/5W2 Game
DTSTART;TZID=America/Chicago:20260606T100000
DTEND;TZID=America/Chicago:20260606T100000
LOCATION:CENTRAL PARK FIELDS - FOREST GATE RD. ENTRANCE - 5V5
SUMMARY:Game: 8U-5V5/5W2 ECLIPSE 2018 NOVA NAPERVILLE vs EVOLUTION 2018/19 
 DA EAST
TRANSP:OPAQUE
END:VEVENT
BEGIN:VEVENT
UID:36666530-3961-4433-b430-323339303432
DTSTAMP:20260425T112622Z
CLASS:PUBLIC
DESCRIPTION:YSSL 8U-5V5/5W2 Game
DTSTART;TZID=America/Chicago:20260501T183000
DTEND;TZID=America/Chicago:20260501T183000
LOCATION:WEST HILLS COMMUNITY CHURCH
SUMMARY:Game: 8U-5V5/5W2 EVOLUTION 2018/19 DA EAST vs GALAXY CO-ED 2018 WES
 T UNITED
TRANSP:OPAQUE
END:VEVENT
BEGIN:VEVENT
UID:39393232-6635-4939-b762-633437623863
DTSTAMP:20260425T112622Z
CLASS:PUBLIC
DESCRIPTION:YSSL 8U-5V5/5W2 Game
DTSTART;TZID=America/Chicago:20260417T180000
DTEND;TZID=America/Chicago:20260417T180000
LOCATION:WEST HILLS COMMUNITY CHURCH
SUMMARY:Game: 8U-5V5/5W2 EVOLUTION 2018/19 DA EAST vs CAMPTON UNITED 2019 R
 ED
TRANSP:OPAQUE
END:VEVENT
BEGIN:VEVENT
UID:66623539-6635-4835-b634-353661336330
DTSTAMP:20260425T112622Z
CLASS:PUBLIC
DESCRIPTION:YSSL 8U-5V5/5W2 Game
DTSTART;TZID=America/Chicago:20260528T170000
DTEND;TZID=America/Chicago:20260528T170000
LOCATION:KENSINGTON PARK (LOMBARD) - 5V5 FIELD
SUMMARY:Game: 8U-5V5/5W2 CHICAGO INTER SYNERGY 2018/2019 GREEN 1 vs EVOLUTI
 ON 2018/19 DA EAST
TRANSP:OPAQUE
END:VEVENT
END:VCALENDAR
