BEGIN:VCALENDAR
VERSION:2.0
PRODID:-//yssl.org//NONSGML kigkonsult.se iCalcreator 2.41.92//
CALSCALE:GREGORIAN
METHOD:PUBLISH
UID:63313734-3261-4830-a534-643539633739
X-WR-CALNAME:YSSL Calendar
X-WR-CALDESC:YSSL Calendar
X-WR-TIMEZONE:America/Chicago
BEGIN:VEVENT
UID:66313937-6265-4164-b535-643732633261
DTSTAMP:20260425T034758Z
CLASS:PUBLIC
DESCRIPTION:YSSL 15U-SPRING/2N Game
DTSTART;TZID=America/Chicago:20260412T090000
DTEND;TZID=America/Chicago:20260412T090000
LOCATION:LOYOLA ACADEMY GLENVIEW - TURF 8- 11V11
SUMMARY:Game: 15U-SPRING/2N CHICAGO FC UNITED 2011 PRE-ACADEMY vs FC LAKE C
 OUNTY 2011 ELITE
TRANSP:OPAQUE
END:VEVENT
BEGIN:VEVENT
UID:63383234-3638-4363-a262-393835613732
DTSTAMP:20260425T034758Z
CLASS:PUBLIC
DESCRIPTION:YSSL 15U-SPRING/2N Game
DTSTART;TZID=America/Chicago:20260425T163000
DTEND;TZID=America/Chicago:20260425T163000
LOCATION:HUNT CLUB PARK - #1
SUMMARY:Game: 15U-SPRING/2N FC LAKE COUNTY 2011 ELITE vs IPROSKILLS 2011 NE
 ON
TRANSP:OPAQUE
END:VEVENT
BEGIN:VEVENT
UID:35303066-3337-4635-b639-336431613437
DTSTAMP:20260425T034758Z
CLASS:PUBLIC
DESCRIPTION:YSSL 15U-SPRING/2N Game
DTSTART;TZID=America/Chicago:20260426T084500
DTEND;TZID=America/Chicago:20260426T084500
LOCATION:ALLEGHANY PARK - AH 11
SUMMARY:Game: 15U-SPRING/2N FC LAKE COUNTY 2011 ELITE vs NW 2011 BOYS I
TRANSP:OPAQUE
END:VEVENT
BEGIN:VEVENT
UID:35626636-3666-4533-b266-336130353134
DTSTAMP:20260425T034758Z
CLASS:PUBLIC
DESCRIPTION:YSSL 15U-SPRING/2N Game
DTSTART;TZID=America/Chicago:20260503T104500
DTEND;TZID=America/Chicago:20260503T104500
LOCATION:DEERFIELD HIGH SCHOOL
SUMMARY:Game: 15U-SPRING/2N PEGASUS FC/1974 2011 RED vs FC LAKE COUNTY 2011
  ELITE
TRANSP:OPAQUE
END:VEVENT
BEGIN:VEVENT
UID:65643465-6331-4539-b462-646365396431
DTSTAMP:20260425T034758Z
CLASS:PUBLIC
DESCRIPTION:YSSL 15U-SPRING/2N Game
DTSTART;TZID=America/Chicago:20260510T120000
DTEND;TZID=America/Chicago:20260510T120000
LOCATION:ALLEGHANY PARK - AH 11
SUMMARY:Game: 15U-SPRING/2N FC LAKE COUNTY 2011 ELITE vs PALATINE CELTIC 20
 11 BLACK
TRANSP:OPAQUE
END:VEVENT
BEGIN:VEVENT
UID:32396434-3466-4739-b362-313036356639
DTSTAMP:20260425T034758Z
CLASS:PUBLIC
DESCRIPTION:YSSL 15U-SPRING/2N Game
DTSTART;TZID=America/Chicago:20260531T120000
DTEND;TZID=America/Chicago:20260531T120000
LOCATION:ALLEGHANY PARK - AH 11
SUMMARY:Game: 15U-SPRING/2N FC LAKE COUNTY 2011 ELITE vs CHICAGO FC UNITED 
 2011 PRE-ACADEMY
TRANSP:OPAQUE
END:VEVENT
BEGIN:VEVENT
UID:39393830-6635-4438-a463-336366666632
DTSTAMP:20260425T034758Z
CLASS:PUBLIC
DESCRIPTION:YSSL 15U-SPRING/2N Game
DTSTART;TZID=America/Chicago:20260614T100000
DTEND;TZID=America/Chicago:20260614T100000
LOCATION:CELTIC PARK FIELD  - TURF 1
SUMMARY:Game: 15U-SPRING/2N PALATINE CELTIC 2011 BLACK vs FC LAKE COUNTY 20
 11 ELITE
TRANSP:OPAQUE
END:VEVENT
BEGIN:VEVENT
UID:30306437-3333-4865-a233-376435363066
DTSTAMP:20260425T034758Z
CLASS:PUBLIC
DESCRIPTION:YSSL 15U-SPRING/2N Game
DTSTART;TZID=America/Chicago:20260613T090000
DTEND;TZID=America/Chicago:20260613T090000
LOCATION:ROGERS PARK  - #3
SUMMARY:Game: 15U-SPRING/2N IPROSKILLS 2011 NEON vs FC LAKE COUNTY 2011 ELI
 TE
TRANSP:OPAQUE
END:VEVENT
END:VCALENDAR
