BEGIN:VCALENDAR
VERSION:2.0
PRODID:-//yssl.org//NONSGML kigkonsult.se iCalcreator 2.41.92//
CALSCALE:GREGORIAN
METHOD:PUBLISH
UID:34646464-6130-4130-a139-396535323238
X-WR-CALNAME:YSSL Calendar
X-WR-CALDESC:YSSL Calendar
X-WR-TIMEZONE:America/Chicago
BEGIN:VEVENT
UID:39376333-3265-4237-b038-303439393964
DTSTAMP:20260425T114143Z
CLASS:PUBLIC
DESCRIPTION:YSSL 9U/3E Game
DTSTART;TZID=America/Chicago:20260607T091500
DTEND;TZID=America/Chicago:20260607T091500
LOCATION:ROGERS PARK  - SMALL
SUMMARY:Game: 9U/3E IPROSKILLS 2017 NEON vs FCS TEAM EVANSTON 2017 BOYS ORA
 NGE I
TRANSP:OPAQUE
END:VEVENT
BEGIN:VEVENT
UID:66653865-3338-4734-b262-326135343764
DTSTAMP:20260425T114143Z
CLASS:PUBLIC
DESCRIPTION:YSSL 9U/3E Game
DTSTART;TZID=America/Chicago:20260412T110000
DTEND;TZID=America/Chicago:20260412T110000
LOCATION:JAMES PARK - #4
SUMMARY:Game: 9U/3E FCS TEAM EVANSTON 2017 BOYS ORANGE I vs ELA ELITE 2017
TRANSP:OPAQUE
END:VEVENT
BEGIN:VEVENT
UID:63653531-3830-4263-a338-363633323938
DTSTAMP:20260425T114143Z
CLASS:PUBLIC
DESCRIPTION:YSSL 9U/3E Game
DTSTART;TZID=America/Chicago:20260517T133000
DTEND;TZID=America/Chicago:20260517T133000
LOCATION:WILMETTE COMMUNITY  PLAYFIELD - 15
SUMMARY:Game: 9U/3E RUSH - WILMETTE WINGS 2017 PREMIER vs FCS TEAM EVANSTON
  2017 BOYS ORANGE I
TRANSP:OPAQUE
END:VEVENT
BEGIN:VEVENT
UID:64316266-6138-4930-b039-393439373433
DTSTAMP:20260425T114143Z
CLASS:PUBLIC
DESCRIPTION:YSSL 9U/3E Game
DTSTART;TZID=America/Chicago:20260502T100500
DTEND;TZID=America/Chicago:20260502T100500
LOCATION:HITCH ELEMENTARY SCHOOL
SUMMARY:Game: 9U/3E CHICAGO CELTIC SC 2017 GREEN vs FCS TEAM EVANSTON 2017 
 BOYS ORANGE I
TRANSP:OPAQUE
END:VEVENT
BEGIN:VEVENT
UID:63303635-3530-4234-b565-366639663664
DTSTAMP:20260425T114143Z
CLASS:PUBLIC
DESCRIPTION:YSSL 9U/3E Game
DTSTART;TZID=America/Chicago:20260510T133000
DTEND;TZID=America/Chicago:20260510T133000
LOCATION:JAMES PARK - #4
SUMMARY:Game: 9U/3E FCS TEAM EVANSTON 2017 BOYS ORANGE I vs CHICAGO CITY 20
 17 ACADEMY  I
TRANSP:OPAQUE
END:VEVENT
BEGIN:VEVENT
UID:39643535-3464-4430-b636-616665663962
DTSTAMP:20260425T114143Z
CLASS:PUBLIC
DESCRIPTION:YSSL 9U/3E Game
DTSTART;TZID=America/Chicago:20260516T113000
DTEND;TZID=America/Chicago:20260516T113000
LOCATION:FIRE PITCH - 7V7 PITCH 2-A
SUMMARY:Game: 9U/3E CFYSC 2017B SELECT vs FCS TEAM EVANSTON 2017 BOYS ORANG
 E I
TRANSP:OPAQUE
END:VEVENT
BEGIN:VEVENT
UID:64346662-3838-4339-b235-303064616238
DTSTAMP:20260425T114143Z
CLASS:PUBLIC
DESCRIPTION:YSSL 9U/3E Game
DTSTART;TZID=America/Chicago:20260530T120000
DTEND;TZID=America/Chicago:20260530T120000
LOCATION:ROBERT CROWN COMMUNITY CENTER - F2
SUMMARY:Game: 9U/3E FCS TEAM EVANSTON 2017 BOYS ORANGE I vs BVB IA CHICAGO 
 2017/2018 YELLOW
TRANSP:OPAQUE
END:VEVENT
BEGIN:VEVENT
UID:65666365-6664-4038-b465-393162393736
DTSTAMP:20260425T114143Z
CLASS:PUBLIC
DESCRIPTION:YSSL 9U/3E Game
DTSTART;TZID=America/Chicago:20260606T110000
DTEND;TZID=America/Chicago:20260606T110000
LOCATION:ROBERT CROWN COMMUNITY CENTER - F2
SUMMARY:Game: 9U/3E FCS TEAM EVANSTON 2017 BOYS ORANGE I vs RUSH - WILMETTE
  WINGS 2017 PREMIER
TRANSP:OPAQUE
END:VEVENT
END:VCALENDAR
