BEGIN:VCALENDAR
VERSION:2.0
PRODID:-//yssl.org//NONSGML kigkonsult.se iCalcreator 2.41.92//
CALSCALE:GREGORIAN
METHOD:PUBLISH
UID:63336462-3365-4566-a432-396130313264
X-WR-CALNAME:YSSL Calendar
X-WR-CALDESC:YSSL Calendar
X-WR-TIMEZONE:America/Chicago
BEGIN:VEVENT
UID:31343866-3638-4136-b636-343234643031
DTSTAMP:20260425T013038Z
CLASS:PUBLIC
DESCRIPTION:YSSL 14U/3N Game
DTSTART;TZID=America/Chicago:20260426T150000
DTEND;TZID=America/Chicago:20260426T150000
LOCATION:SUNSET MEADOWS
SUMMARY:Game: 14U/3N IP-ARLINGTON ACES 2012 BLUE vs FC-1 ACADEMY 2012 SELEC
 T BLUE
TRANSP:OPAQUE
END:VEVENT
BEGIN:VEVENT
UID:32393964-3462-4162-b833-396438623565
DTSTAMP:20260425T013038Z
CLASS:PUBLIC
DESCRIPTION:YSSL 14U/3N Game
DTSTART;TZID=America/Chicago:20260509T110000
DTEND;TZID=America/Chicago:20260509T110000
LOCATION:COMMUNITY PARK WEST (GLENVIEW) - 6 - (11 V 11)
SUMMARY:Game: 14U/3N FC-1 ACADEMY 2012 SELECT BLUE vs FC LAKE COUNTY 2012 S
 ELECT
TRANSP:OPAQUE
END:VEVENT
BEGIN:VEVENT
UID:36656664-3662-4361-a339-653535623566
DTSTAMP:20260425T013038Z
CLASS:PUBLIC
DESCRIPTION:YSSL 14U/3N Game
DTSTART;TZID=America/Chicago:20260425T123000
DTEND;TZID=America/Chicago:20260425T123000
LOCATION:COMMUNITY PARK WEST (GLENVIEW) - 6 - (11 V 11)
SUMMARY:Game: 14U/3N FC-1 ACADEMY 2012 SELECT BLUE vs CHICAGO MAGIC 2012 CU
 P
TRANSP:OPAQUE
END:VEVENT
BEGIN:VEVENT
UID:62646339-3665-4431-b130-316234303665
DTSTAMP:20260425T013038Z
CLASS:PUBLIC
DESCRIPTION:YSSL 14U/3N Game
DTSTART;TZID=America/Chicago:20260502T103000
DTEND;TZID=America/Chicago:20260502T103000
LOCATION:COMMUNITY PARK WEST (GLENVIEW) - 1 - (11 V 11)
SUMMARY:Game: 14U/3N FC-1 ACADEMY 2012 SELECT BLUE vs IP-NUFC 2012 BLACK
TRANSP:OPAQUE
END:VEVENT
BEGIN:VEVENT
UID:35303837-3036-4530-a438-633430306163
DTSTAMP:20260425T013038Z
CLASS:PUBLIC
DESCRIPTION:YSSL 14U/3N Game
DTSTART;TZID=America/Chicago:20260521T194500
DTEND;TZID=America/Chicago:20260521T194500
LOCATION:TECHNY PRAIRIE PARK - 1
SUMMARY:Game: 14U/3N FC-1 ACADEMY 2012 SELECT BLUE vs TREBOL F.C.
TRANSP:OPAQUE
END:VEVENT
BEGIN:VEVENT
UID:38633264-6365-4766-b037-326433393435
DTSTAMP:20260425T013038Z
CLASS:PUBLIC
DESCRIPTION:YSSL 14U/3N Game
DTSTART;TZID=America/Chicago:20260516T103000
DTEND;TZID=America/Chicago:20260516T103000
LOCATION:COMMUNITY PARK WEST (GLENVIEW) - 1 - (11 V 11)
SUMMARY:Game: 14U/3N FC-1 ACADEMY 2012 SELECT BLUE vs HUSSARS UNITED 2012
TRANSP:OPAQUE
END:VEVENT
BEGIN:VEVENT
UID:37313133-3831-4765-b965-666332383861
DTSTAMP:20260425T013038Z
CLASS:PUBLIC
DESCRIPTION:YSSL 14U/3N Game
DTSTART;TZID=America/Chicago:20260607T143000
DTEND;TZID=America/Chicago:20260607T143000
LOCATION:NORTH PARK FIELDS  - #7 (11V11)
SUMMARY:Game: 14U/3N RUSH NORTH 2012 PREMIER vs FC-1 ACADEMY 2012 SELECT BL
 UE
TRANSP:OPAQUE
END:VEVENT
BEGIN:VEVENT
UID:37633239-3630-4736-a438-646334343837
DTSTAMP:20260425T013038Z
CLASS:PUBLIC
DESCRIPTION:YSSL 14U/3N Game
DTSTART;TZID=America/Chicago:20260531T163000
DTEND;TZID=America/Chicago:20260531T163000
LOCATION:LTSC FLD - FIELD 6
SUMMARY:Game: 14U/3N LIBERTYVILLE FC 1974-2012A-SELECT vs FC-1 ACADEMY 2012
  SELECT BLUE
TRANSP:OPAQUE
END:VEVENT
END:VCALENDAR
