BEGIN:VCALENDAR
VERSION:2.0
PRODID:-//yssl.org//NONSGML kigkonsult.se iCalcreator 2.41.92//
CALSCALE:GREGORIAN
METHOD:PUBLISH
UID:66643963-3937-4330-b961-653132363161
X-WR-CALNAME:YSSL Calendar
X-WR-CALDESC:YSSL Calendar
X-WR-TIMEZONE:America/Chicago
BEGIN:VEVENT
UID:38316232-3765-4262-b630-343665343063
DTSTAMP:20260425T120329Z
CLASS:PUBLIC
DESCRIPTION:YSSL 10U/4SW2 Game
DTSTART;TZID=America/Chicago:20260503T171000
DTEND;TZID=America/Chicago:20260503T171000
LOCATION:FRONTIER PARK (NAPERVILLE) - J1
SUMMARY:Game: 10U/4SW2 AJAX FC NAPERVILLE 2016 WHITE 2 vs GALAXY 2016 SELEC
 T BLACK
TRANSP:OPAQUE
END:VEVENT
BEGIN:VEVENT
UID:31353730-3961-4334-b036-373036373061
DTSTAMP:20260425T120329Z
CLASS:PUBLIC
DESCRIPTION:YSSL 10U/4SW2 Game
DTSTART;TZID=America/Chicago:20260427T183000
DTEND;TZID=America/Chicago:20260427T183000
LOCATION:ARRANMORE FARM - SMALL
SUMMARY:Game: 10U/4SW2 GALAXY 2016 SELECT BLACK vs GALAXY 2016 SELECT WHITE
TRANSP:OPAQUE
END:VEVENT
BEGIN:VEVENT
UID:66616538-6538-4239-b062-663930383532
DTSTAMP:20260425T120329Z
CLASS:PUBLIC
DESCRIPTION:YSSL 10U/4SW2 Game
DTSTART;TZID=America/Chicago:20260425T101000
DTEND;TZID=America/Chicago:20260425T101000
LOCATION:ARRANMORE FARM - SMALL
SUMMARY:Game: 10U/4SW2 GALAXY 2016 SELECT BLACK vs NAZ UNITED F.C. - 2016 E
 LITE
TRANSP:OPAQUE
END:VEVENT
BEGIN:VEVENT
UID:31373137-3963-4233-b966-376361303662
DTSTAMP:20260425T120329Z
CLASS:PUBLIC
DESCRIPTION:YSSL 10U/4SW2 Game
DTSTART;TZID=America/Chicago:20260502T101000
DTEND;TZID=America/Chicago:20260502T101000
LOCATION:ARRANMORE FARM - SMALL
SUMMARY:Game: 10U/4SW2 GALAXY 2016 SELECT BLACK vs UESC-PLAINFIELD UTD 2016
  PREMIER II
TRANSP:OPAQUE
END:VEVENT
BEGIN:VEVENT
UID:35616566-3962-4464-b063-363735316566
DTSTAMP:20260425T120329Z
CLASS:PUBLIC
DESCRIPTION:YSSL 10U/4SW2 Game
DTSTART;TZID=America/Chicago:20260531T090000
DTEND;TZID=America/Chicago:20260531T090000
LOCATION:BAMBRICK PARK FIELD
SUMMARY:Game: 10U/4SW2 CHICAGO INTER ROGUE FC 2016 CITY vs GALAXY 2016 SELE
 CT BLACK
TRANSP:OPAQUE
END:VEVENT
BEGIN:VEVENT
UID:62313137-6532-4531-b535-373231353536
DTSTAMP:20260425T120329Z
CLASS:PUBLIC
DESCRIPTION:YSSL 10U/4SW2 Game
DTSTART;TZID=America/Chicago:20260516T101000
DTEND;TZID=America/Chicago:20260516T101000
LOCATION:ARRANMORE FARM - SMALL
SUMMARY:Game: 10U/4SW2 GALAXY 2016 SELECT BLACK vs RUSH OSWEGO 2016 BLUE
TRANSP:OPAQUE
END:VEVENT
BEGIN:VEVENT
UID:36346331-3564-4433-a430-616336353933
DTSTAMP:20260425T120329Z
CLASS:PUBLIC
DESCRIPTION:YSSL 10U/4SW2 Game
DTSTART;TZID=America/Chicago:20260509T160000
DTEND;TZID=America/Chicago:20260509T160000
LOCATION:LILY CACHE FIELDS WEST FIELD - FIELD 07 7V7 (U8-U10
SUMMARY:Game: 10U/4SW2 UESC - BSC RAIDERS 2016 RED vs GALAXY 2016 SELECT BL
 ACK
TRANSP:OPAQUE
END:VEVENT
BEGIN:VEVENT
UID:61653432-3839-4339-b734-663631303831
DTSTAMP:20260425T120329Z
CLASS:PUBLIC
DESCRIPTION:YSSL 10U/4SW2 Game
DTSTART;TZID=America/Chicago:20260419T130000
DTEND;TZID=America/Chicago:20260419T130000
LOCATION:LYONDELL PARK (MORRIS) - 7V7
SUMMARY:Game: 10U/4SW2 RUSH SOUTH 2016 BLUE vs GALAXY 2016 SELECT BLACK
TRANSP:OPAQUE
END:VEVENT
END:VCALENDAR
