BEGIN:VCALENDAR
VERSION:2.0
PRODID:-//yssl.org//NONSGML kigkonsult.se iCalcreator 2.41.92//
CALSCALE:GREGORIAN
METHOD:PUBLISH
UID:37343737-3961-4934-b536-666564353762
X-WR-CALNAME:YSSL Calendar
X-WR-CALDESC:YSSL Calendar
X-WR-TIMEZONE:America/Chicago
BEGIN:VEVENT
UID:64393539-3430-4161-a234-373438353064
DTSTAMP:20260425T185924Z
CLASS:PUBLIC
DESCRIPTION:YSSL 10U/5SW Game
DTSTART;TZID=America/Chicago:20260419T130000
DTEND;TZID=America/Chicago:20260419T130000
LOCATION:JAMES O BREEN COMMUNITY PARK - 17A
SUMMARY:Game: 10U/5SW CAMPTON UNITED 2016 WHITE vs GALAXY 2016 SELECT YELLO
 W
TRANSP:OPAQUE
END:VEVENT
BEGIN:VEVENT
UID:31633732-6237-4663-b930-356262663962
DTSTAMP:20260425T185924Z
CLASS:PUBLIC
DESCRIPTION:YSSL 10U/5SW Game
DTSTART;TZID=America/Chicago:20260426T112000
DTEND;TZID=America/Chicago:20260426T112000
LOCATION:JUST FOR KICKS SOCCER FACILITY - SMALL - 1
SUMMARY:Game: 10U/5SW GALAXY 2016 SELECT YELLOW vs UESC - BSC RAIDERS 2016 
 PURPLE
TRANSP:OPAQUE
END:VEVENT
BEGIN:VEVENT
UID:66316230-6130-4536-a131-623961626533
DTSTAMP:20260425T185924Z
CLASS:PUBLIC
DESCRIPTION:YSSL 10U/5SW Game
DTSTART;TZID=America/Chicago:20260503T160000
DTEND;TZID=America/Chicago:20260503T160000
LOCATION:JUST FOR KICKS SOCCER FACILITY - SMALL - 1
SUMMARY:Game: 10U/5SW GALAXY 2016 SELECT YELLOW vs UESC - NSA 2016 RED
TRANSP:OPAQUE
END:VEVENT
BEGIN:VEVENT
UID:35653036-3766-4665-b233-376662663436
DTSTAMP:20260425T185924Z
CLASS:PUBLIC
DESCRIPTION:YSSL 10U/5SW Game
DTSTART;TZID=America/Chicago:20260510T160000
DTEND;TZID=America/Chicago:20260510T160000
LOCATION:JUST FOR KICKS SOCCER FACILITY - SMALL - 1
SUMMARY:Game: 10U/5SW GALAXY 2016 SELECT YELLOW vs UESC-PLAINFIELD UTD 2016
  SEL WHITE
TRANSP:OPAQUE
END:VEVENT
BEGIN:VEVENT
UID:32386631-3563-4462-b762-666235656237
DTSTAMP:20260425T185924Z
CLASS:PUBLIC
DESCRIPTION:YSSL 10U/5SW Game
DTSTART;TZID=America/Chicago:20260517T090000
DTEND;TZID=America/Chicago:20260517T090000
LOCATION:MORRIS SOCCER COMPLEX - 7V7 #1
SUMMARY:Game: 10U/5SW UESC - MORRIS UNITED 2016 BLUE vs GALAXY 2016 SELECT 
 YELLOW
TRANSP:OPAQUE
END:VEVENT
BEGIN:VEVENT
UID:37333134-6361-4334-b935-353439306436
DTSTAMP:20260425T185924Z
CLASS:PUBLIC
DESCRIPTION:YSSL 10U/5SW Game
DTSTART;TZID=America/Chicago:20260531T160000
DTEND;TZID=America/Chicago:20260531T160000
LOCATION:NIKE PARK FIELD  - F1
SUMMARY:Game: 10U/5SW CHICAGO STRIKERS 2016 BLUE vs GALAXY 2016 SELECT YELL
 OW
TRANSP:OPAQUE
END:VEVENT
BEGIN:VEVENT
UID:35323137-6337-4238-a232-373938653664
DTSTAMP:20260425T185924Z
CLASS:PUBLIC
DESCRIPTION:YSSL 10U/5SW Game
DTSTART;TZID=America/Chicago:20260607T150000
DTEND;TZID=America/Chicago:20260607T150000
LOCATION:LILY CACHE FIELDS WEST FIELD - FIELD 07 7V7 (U8-U10
SUMMARY:Game: 10U/5SW UESC - BSC RAIDERS 2016 PURPLE vs GALAXY 2016 SELECT 
 YELLOW
TRANSP:OPAQUE
END:VEVENT
BEGIN:VEVENT
UID:35616539-3236-4335-b938-313261363063
DTSTAMP:20260425T185924Z
CLASS:PUBLIC
DESCRIPTION:YSSL 10U/5SW Game
DTSTART;TZID=America/Chicago:20260504T183000
DTEND;TZID=America/Chicago:20260504T183000
LOCATION:ARRANMORE FARM
SUMMARY:Game: 10U/5SW GALAXY 2016 SELECT YELLOW vs GALAXY GIRLS 2016 SELECT
  BLUE
TRANSP:OPAQUE
END:VEVENT
END:VCALENDAR
