BEGIN:VCALENDAR
VERSION:2.0
PRODID:-//yssl.org//NONSGML kigkonsult.se iCalcreator 2.41.92//
CALSCALE:GREGORIAN
METHOD:PUBLISH
UID:30663661-3938-4166-b232-393337616631
X-WR-CALNAME:YSSL Calendar
X-WR-CALDESC:YSSL Calendar
X-WR-TIMEZONE:America/Chicago
BEGIN:VEVENT
UID:62616436-3239-4731-a563-303063396432
DTSTAMP:20260425T025759Z
CLASS:PUBLIC
DESCRIPTION:YSSL 11U/4W Game
DTSTART;TZID=America/Chicago:20260419T130000
DTEND;TZID=America/Chicago:20260419T130000
LOCATION:KNOCH PARK  - TURF
SUMMARY:Game: 11U/4W CHICAGO STRIKERS 2015 BLUE vs GALAXY GIRLS 2015 SELECT
  BLUE
TRANSP:OPAQUE
END:VEVENT
BEGIN:VEVENT
UID:62393236-3931-4262-a635-656336616139
DTSTAMP:20260425T025759Z
CLASS:PUBLIC
DESCRIPTION:YSSL 11U/4W Game
DTSTART;TZID=America/Chicago:20260502T130000
DTEND;TZID=America/Chicago:20260502T130000
LOCATION:HOSCHEIT PARK
SUMMARY:Game: 11U/4W TEAM CHICAGO 2015 FUTURES I vs GALAXY GIRLS 2015 SELEC
 T BLUE
TRANSP:OPAQUE
END:VEVENT
BEGIN:VEVENT
UID:36333038-3031-4733-b333-613232386461
DTSTAMP:20260425T025759Z
CLASS:PUBLIC
DESCRIPTION:YSSL 11U/4W Game
DTSTART;TZID=America/Chicago:20260607T182000
DTEND;TZID=America/Chicago:20260607T182000
LOCATION:FAIRLANE FARMS PARK - A
SUMMARY:Game: 11U/4W GALAXY GIRLS 2015 SELECT BLUE vs CSA 2015 B BLUE
TRANSP:OPAQUE
END:VEVENT
BEGIN:VEVENT
UID:63313064-3734-4132-b561-356238663563
DTSTAMP:20260425T025759Z
CLASS:PUBLIC
DESCRIPTION:YSSL 11U/4W Game
DTSTART;TZID=America/Chicago:20260514T182000
DTEND;TZID=America/Chicago:20260514T182000
LOCATION:FRONTIER PARK (NAPERVILLE) - FIELD H - MEDIUM
SUMMARY:Game: 11U/4W UESC - NSA 2015 RED vs GALAXY GIRLS 2015 SELECT BLUE
TRANSP:OPAQUE
END:VEVENT
BEGIN:VEVENT
UID:61653863-6535-4536-a137-313937613365
DTSTAMP:20260425T025759Z
CLASS:PUBLIC
DESCRIPTION:YSSL 11U/4W Game
DTSTART;TZID=America/Chicago:20260503T130000
DTEND;TZID=America/Chicago:20260503T130000
LOCATION:ARRANMORE FARM - MEDIUM
SUMMARY:Game: 11U/4W GALAXY GIRLS 2015 SELECT BLUE vs DKCU ACADEMY 2015 SEL
 ECT
TRANSP:OPAQUE
END:VEVENT
BEGIN:VEVENT
UID:31646131-6330-4534-b136-623164636536
DTSTAMP:20260425T025759Z
CLASS:PUBLIC
DESCRIPTION:YSSL 11U/4W Game
DTSTART;TZID=America/Chicago:20260531T130000
DTEND;TZID=America/Chicago:20260531T130000
LOCATION:JAMES O BREEN COMMUNITY PARK - 8
SUMMARY:Game: 11U/4W TCSA 2015 VIPERS vs GALAXY GIRLS 2015 SELECT BLUE
TRANSP:OPAQUE
END:VEVENT
BEGIN:VEVENT
UID:39353162-6162-4561-b533-666666616531
DTSTAMP:20260425T025759Z
CLASS:PUBLIC
DESCRIPTION:YSSL 11U/4W Game
DTSTART;TZID=America/Chicago:20260606T090000
DTEND;TZID=America/Chicago:20260606T090000
LOCATION:ARRANMORE FARM - MEDIUM
SUMMARY:Game: 11U/4W GALAXY GIRLS 2015 SELECT BLUE vs AJAX FC NAPERVILLE 20
 15 WHITE 1
TRANSP:OPAQUE
END:VEVENT
BEGIN:VEVENT
UID:30316531-6136-4634-b262-646666663939
DTSTAMP:20260425T025759Z
CLASS:PUBLIC
DESCRIPTION:YSSL 11U/4W Game
DTSTART;TZID=America/Chicago:20260516T130000
DTEND;TZID=America/Chicago:20260516T130000
LOCATION:JUST FOR KICKS SOCCER FACILITY
SUMMARY:Game: 11U/4W GALAXY GIRLS 2015 SELECT BLUE vs NAFC KRAKEN 2015
TRANSP:OPAQUE
END:VEVENT
END:VCALENDAR
