BEGIN:VCALENDAR
VERSION:2.0
PRODID:-//yssl.org//NONSGML kigkonsult.se iCalcreator 2.41.92//
CALSCALE:GREGORIAN
METHOD:PUBLISH
UID:66636162-6232-4561-a431-386662646631
X-WR-CALNAME:YSSL Calendar
X-WR-CALDESC:YSSL Calendar
X-WR-TIMEZONE:America/Chicago
BEGIN:VEVENT
UID:64373730-3837-4935-b562-663738646333
DTSTAMP:20260425T020902Z
CLASS:PUBLIC
DESCRIPTION:YSSL 12U/4W Game
DTSTART;TZID=America/Chicago:20260509T123000
DTEND;TZID=America/Chicago:20260509T123000
LOCATION:CENTRAL PARK FIELDS - FOREST GATE RD. ENTRANCE - 9V9
SUMMARY:Game: 12U/4W ECLIPSE 2014 SOLAR DARIEN BOYS vs GALAXY 2014 WEST BLU
 E
TRANSP:OPAQUE
END:VEVENT
BEGIN:VEVENT
UID:65646434-6637-4136-a664-666562353962
DTSTAMP:20260425T020902Z
CLASS:PUBLIC
DESCRIPTION:YSSL 12U/4W Game
DTSTART;TZID=America/Chicago:20260419T153000
DTEND;TZID=America/Chicago:20260419T153000
LOCATION:GLEN CREST MIDDLE SCHOOL
SUMMARY:Game: 12U/4W CHICAGO INTER SYNERGY 2014 GREEN vs GALAXY 2014 WEST B
 LUE
TRANSP:OPAQUE
END:VEVENT
BEGIN:VEVENT
UID:39306237-3231-4034-b834-333361613561
DTSTAMP:20260425T020902Z
CLASS:PUBLIC
DESCRIPTION:YSSL 12U/4W Game
DTSTART;TZID=America/Chicago:20260425T150000
DTEND;TZID=America/Chicago:20260425T150000
LOCATION:COMMUNITY PARK (ADDISON)
SUMMARY:Game: 12U/4W DPSAL 2014 vs GALAXY 2014 WEST BLUE
TRANSP:OPAQUE
END:VEVENT
BEGIN:VEVENT
UID:32656532-6239-4930-a231-616462633530
DTSTAMP:20260425T020902Z
CLASS:PUBLIC
DESCRIPTION:YSSL 12U/4W Game
DTSTART;TZID=America/Chicago:20260503T170000
DTEND;TZID=America/Chicago:20260503T170000
LOCATION:SPORT STUART COMPLEX - FIELD #51
SUMMARY:Game: 12U/4W GALAXY 2014 WEST BLUE vs TCSA 2014 ENERGY CITY
TRANSP:OPAQUE
END:VEVENT
BEGIN:VEVENT
UID:30353634-6263-4632-a335-376236653530
DTSTAMP:20260425T020902Z
CLASS:PUBLIC
DESCRIPTION:YSSL 12U/4W Game
DTSTART;TZID=America/Chicago:20260510T120000
DTEND;TZID=America/Chicago:20260510T120000
LOCATION:SPORT STUART COMPLEX - 50
SUMMARY:Game: 12U/4W GALAXY 2014 WEST BLUE vs ECLIPSE 2014 SOLAR DARIEN BOY
 S
TRANSP:OPAQUE
END:VEVENT
BEGIN:VEVENT
UID:61386362-3661-4665-b435-393739623266
DTSTAMP:20260425T020902Z
CLASS:PUBLIC
DESCRIPTION:YSSL 12U/4W Game
DTSTART;TZID=America/Chicago:20260517T150000
DTEND;TZID=America/Chicago:20260517T150000
LOCATION:ELGIN SPORTS COMPLEX - 9V9
SUMMARY:Game: 12U/4W CHICAGO CITY PUMAS 2014 vs GALAXY 2014 WEST BLUE
TRANSP:OPAQUE
END:VEVENT
BEGIN:VEVENT
UID:36396434-3237-4332-b737-613062333861
DTSTAMP:20260425T020902Z
CLASS:PUBLIC
DESCRIPTION:YSSL 12U/4W Game
DTSTART;TZID=America/Chicago:20260531T120000
DTEND;TZID=America/Chicago:20260531T120000
LOCATION:SPORT STUART COMPLEX - 51
SUMMARY:Game: 12U/4W GALAXY 2014 WEST BLUE vs CHICAGO INTER SYNERGY 2014 GR
 EEN
TRANSP:OPAQUE
END:VEVENT
BEGIN:VEVENT
UID:61653238-3166-4732-b530-663231353438
DTSTAMP:20260425T020902Z
CLASS:PUBLIC
DESCRIPTION:YSSL 12U/4W Game
DTSTART;TZID=America/Chicago:20260607T120000
DTEND;TZID=America/Chicago:20260607T120000
LOCATION:SPORT STUART COMPLEX - 52
SUMMARY:Game: 12U/4W GALAXY 2014 WEST BLUE vs CHICAGO CITY PUMAS 2014
TRANSP:OPAQUE
END:VEVENT
END:VCALENDAR
