BEGIN:VCALENDAR
VERSION:2.0
PRODID:-//yssl.org//NONSGML kigkonsult.se iCalcreator 2.41.92//
CALSCALE:GREGORIAN
METHOD:PUBLISH
UID:31383331-6336-4333-b264-333837346665
X-WR-CALNAME:YSSL Calendar
X-WR-CALDESC:YSSL Calendar
X-WR-TIMEZONE:America/Chicago
BEGIN:VEVENT
UID:66306631-6465-4664-b263-373430383164
DTSTAMP:20260425T110738Z
CLASS:PUBLIC
DESCRIPTION:YSSL 13U/3W Game
DTSTART;TZID=America/Chicago:20260418T090000
DTEND;TZID=America/Chicago:20260418T090000
LOCATION:ARRANMORE FARM - LARGE
SUMMARY:Game: 13U/3W GALAXY 2013 SELECT BLUE vs UESC - BSC RAIDERS 2013 RED
  1
TRANSP:OPAQUE
END:VEVENT
BEGIN:VEVENT
UID:65336331-6338-4537-b437-373962363439
DTSTAMP:20260425T110738Z
CLASS:PUBLIC
DESCRIPTION:YSSL 13U/3W Game
DTSTART;TZID=America/Chicago:20260426T170000
DTEND;TZID=America/Chicago:20260426T170000
LOCATION:BOTT PARK - FIELD 1
SUMMARY:Game: 13U/3W UESC - PLAINFIELD UTD 2013 PREMIER II vs GALAXY 2013 S
 ELECT BLUE
TRANSP:OPAQUE
END:VEVENT
BEGIN:VEVENT
UID:30333965-3165-4633-b236-356430313339
DTSTAMP:20260425T110738Z
CLASS:PUBLIC
DESCRIPTION:YSSL 13U/3W Game
DTSTART;TZID=America/Chicago:20260502T150000
DTEND;TZID=America/Chicago:20260502T150000
LOCATION:COMMISSIONERS PARK (NAPERVILLE) - B
SUMMARY:Game: 13U/3W GALAXY 2013 SELECT BLUE vs WC LIONS 2013/14 PRE ACADEM
 Y
TRANSP:OPAQUE
END:VEVENT
BEGIN:VEVENT
UID:31623534-3739-4863-a332-346336366533
DTSTAMP:20260425T110738Z
CLASS:PUBLIC
DESCRIPTION:YSSL 13U/3W Game
DTSTART;TZID=America/Chicago:20260426T090000
DTEND;TZID=America/Chicago:20260426T090000
LOCATION:SOUTH PRAIRIE ELEMENTARY
SUMMARY:Game: 13U/3W DKCU ACADEMY 2013-14 SELECT vs GALAXY 2013 SELECT BLUE
TRANSP:OPAQUE
END:VEVENT
BEGIN:VEVENT
UID:31633638-6331-4865-a266-343739616464
DTSTAMP:20260425T110738Z
CLASS:PUBLIC
DESCRIPTION:YSSL 13U/3W Game
DTSTART;TZID=America/Chicago:20260527T181500
DTEND;TZID=America/Chicago:20260527T181500
LOCATION:PRAIRIE FEST PARK - 9
SUMMARY:Game: 13U/3W RUSH OSWEGO 2013 PREMIER vs GALAXY 2013 SELECT BLUE
TRANSP:OPAQUE
END:VEVENT
BEGIN:VEVENT
UID:36333536-6631-4135-b032-323261393064
DTSTAMP:20260425T110738Z
CLASS:PUBLIC
DESCRIPTION:YSSL 13U/3W Game
DTSTART;TZID=America/Chicago:20260531T170000
DTEND;TZID=America/Chicago:20260531T170000
LOCATION:JAMES O BREEN COMMUNITY PARK - 18
SUMMARY:Game: 13U/3W CAMPTON UNITED 2013 RED vs GALAXY 2013 SELECT BLUE
TRANSP:OPAQUE
END:VEVENT
BEGIN:VEVENT
UID:61633165-3837-4831-a634-363662393232
DTSTAMP:20260425T110739Z
CLASS:PUBLIC
DESCRIPTION:YSSL 13U/3W Game
DTSTART;TZID=America/Chicago:20260606T090000
DTEND;TZID=America/Chicago:20260606T090000
LOCATION:ARRANMORE FARM - LARGE
SUMMARY:Game: 13U/3W GALAXY 2013 SELECT BLUE vs AURORA FIRE 2013/14
TRANSP:OPAQUE
END:VEVENT
BEGIN:VEVENT
UID:30356663-3262-4236-b264-313136353333
DTSTAMP:20260425T110739Z
CLASS:PUBLIC
DESCRIPTION:YSSL 13U/3W Game
DTSTART;TZID=America/Chicago:20260529T183000
DTEND;TZID=America/Chicago:20260529T183000
LOCATION:ARRANMORE FARM - LARGE
SUMMARY:Game: 13U/3W GALAXY 2013 SELECT BLUE vs CHICAGO EAGLES 2013
TRANSP:OPAQUE
END:VEVENT
END:VCALENDAR
