BEGIN:VCALENDAR
VERSION:2.0
PRODID:-//yssl.org//NONSGML kigkonsult.se iCalcreator 2.41.92//
CALSCALE:GREGORIAN
METHOD:PUBLISH
UID:34383863-3465-4135-b637-613664306434
X-WR-CALNAME:YSSL Calendar
X-WR-CALDESC:YSSL Calendar
X-WR-TIMEZONE:America/Chicago
BEGIN:VEVENT
UID:63613465-3236-4536-b833-633336613661
DTSTAMP:20260425T114113Z
CLASS:PUBLIC
DESCRIPTION:YSSL 8U-7V7/5SW Game
DTSTART;TZID=America/Chicago:20260606T090000
DTEND;TZID=America/Chicago:20260606T090000
LOCATION:JUST FOR KICKS SOCCER FACILITY - SMALL - 1
SUMMARY:Game: 8U-7V7/5SW GALAXY 2018 UNITED vs GALAXY GIRLS 2018 UNITED
TRANSP:OPAQUE
END:VEVENT
BEGIN:VEVENT
UID:63616562-3934-4937-b261-363265313062
DTSTAMP:20260425T114113Z
CLASS:PUBLIC
DESCRIPTION:YSSL 8U-7V7/5SW Game
DTSTART;TZID=America/Chicago:20260425T120000
DTEND;TZID=America/Chicago:20260425T120000
LOCATION:JUST FOR KICKS SOCCER FACILITY - SMALL - 1
SUMMARY:Game: 8U-7V7/5SW GALAXY 2018 UNITED vs NAZ UNITED F.C. - 2018 ELITE
TRANSP:OPAQUE
END:VEVENT
BEGIN:VEVENT
UID:30656532-6266-4931-b131-623732623336
DTSTAMP:20260425T114113Z
CLASS:PUBLIC
DESCRIPTION:YSSL 8U-7V7/5SW Game
DTSTART;TZID=America/Chicago:20260503T110000
DTEND;TZID=America/Chicago:20260503T110000
LOCATION:RIOS PARK
SUMMARY:Game: 8U-7V7/5SW TEAM CHICAGO 2018 ACADEMY STRIKE vs GALAXY 2018 UN
 ITED
TRANSP:OPAQUE
END:VEVENT
BEGIN:VEVENT
UID:30376630-6666-4363-a434-376564613830
DTSTAMP:20260425T114113Z
CLASS:PUBLIC
DESCRIPTION:YSSL 8U-7V7/5SW Game
DTSTART;TZID=America/Chicago:20260509T120000
DTEND;TZID=America/Chicago:20260509T120000
LOCATION:JUST FOR KICKS SOCCER FACILITY - SMALL - 1
SUMMARY:Game: 8U-7V7/5SW GALAXY 2018 UNITED vs EVOLUTION 2018/19 DA
TRANSP:OPAQUE
END:VEVENT
BEGIN:VEVENT
UID:61326161-6230-4131-a431-616564376264
DTSTAMP:20260425T114113Z
CLASS:PUBLIC
DESCRIPTION:YSSL 8U-7V7/5SW Game
DTSTART;TZID=America/Chicago:20260531T130000
DTEND;TZID=America/Chicago:20260531T130000
LOCATION:RIOS PARK
SUMMARY:Game: 8U-7V7/5SW TEAM CHICAGO 2019 ACADEMY STRIKE vs GALAXY 2018 UN
 ITED
TRANSP:OPAQUE
END:VEVENT
BEGIN:VEVENT
UID:66643635-3361-4033-b237-653336346466
DTSTAMP:20260425T114113Z
CLASS:PUBLIC
DESCRIPTION:YSSL 8U-7V7/5SW Game
DTSTART;TZID=America/Chicago:20260607T123000
DTEND;TZID=America/Chicago:20260607T123000
LOCATION:NIKE PARK FIELD  - F1
SUMMARY:Game: 8U-7V7/5SW EVOLUTION 2018/19 DA vs GALAXY 2018 UNITED
TRANSP:OPAQUE
END:VEVENT
BEGIN:VEVENT
UID:64396535-3735-4637-a664-303666663133
DTSTAMP:20260425T114113Z
CLASS:PUBLIC
DESCRIPTION:YSSL 8U-7V7/5SW Game
DTSTART;TZID=America/Chicago:20260530T090000
DTEND;TZID=America/Chicago:20260530T090000
LOCATION:JUST FOR KICKS SOCCER FACILITY - SMALL - 1
SUMMARY:Game: 8U-7V7/5SW GALAXY 2018 UNITED vs CHICAGO INTER SOCCER CLUB 20
 18 BLUE
TRANSP:OPAQUE
END:VEVENT
BEGIN:VEVENT
UID:31616130-3733-4831-a461-663635353062
DTSTAMP:20260425T114113Z
CLASS:PUBLIC
DESCRIPTION:YSSL 8U-7V7/5SW Game
DTSTART;TZID=America/Chicago:20260516T093000
DTEND;TZID=America/Chicago:20260516T093000
LOCATION:CHICAGO INTER SOCCER COMPLEX - A
SUMMARY:Game: 8U-7V7/5SW CHICAGO INTER SOCCER CLUB 2018 BLUE vs GALAXY 2018
  UNITED
TRANSP:OPAQUE
END:VEVENT
END:VCALENDAR
