BEGIN:VCALENDAR
VERSION:2.0
PRODID:-//yssl.org//NONSGML kigkonsult.se iCalcreator 2.41.92//
CALSCALE:GREGORIAN
METHOD:PUBLISH
UID:62623561-3634-4638-b862-383236343964
X-WR-CALNAME:YSSL Calendar
X-WR-CALDESC:YSSL Calendar
X-WR-TIMEZONE:America/Chicago
BEGIN:VEVENT
UID:66323764-3834-4335-b739-323234336335
DTSTAMP:20260425T160441Z
CLASS:PUBLIC
DESCRIPTION:YSSL 8U-5V5/5SW1 Game
DTSTART;TZID=America/Chicago:20260529T180000
DTEND;TZID=America/Chicago:20260529T180000
LOCATION:FRONTIER PARK (NAPERVILLE) - L1
SUMMARY:Game: 8U-5V5/5SW1 NAPERVILLE EAGLES 2018 TITANS vs GALAXY 2018 CITY
TRANSP:OPAQUE
END:VEVENT
BEGIN:VEVENT
UID:37373162-3534-4235-b263-386363613931
DTSTAMP:20260425T160441Z
CLASS:PUBLIC
DESCRIPTION:YSSL 8U-5V5/5SW1 Game
DTSTART;TZID=America/Chicago:20260418T090000
DTEND;TZID=America/Chicago:20260418T090000
LOCATION:JUST FOR KICKS SOCCER FACILITY - 5V5 - 1
SUMMARY:Game: 8U-5V5/5SW1 GALAXY 2018 CITY vs LISLE FC 2018 LIVERPOOL
TRANSP:OPAQUE
END:VEVENT
BEGIN:VEVENT
UID:63323566-3037-4738-a264-326165643035
DTSTAMP:20260425T160441Z
CLASS:PUBLIC
DESCRIPTION:YSSL 8U-5V5/5SW1 Game
DTSTART;TZID=America/Chicago:20260426T143000
DTEND;TZID=America/Chicago:20260426T143000
LOCATION:LILY CACHE FIELDS WEST FIELD - FIELD 10A
SUMMARY:Game: 8U-5V5/5SW1 UESC - BSC RAIDERS 2019/18 RED vs GALAXY 2018 CIT
 Y
TRANSP:OPAQUE
END:VEVENT
BEGIN:VEVENT
UID:63386133-6438-4638-b861-613764343336
DTSTAMP:20260425T160441Z
CLASS:PUBLIC
DESCRIPTION:YSSL 8U-5V5/5SW1 Game
DTSTART;TZID=America/Chicago:20260503T150000
DTEND;TZID=America/Chicago:20260503T150000
LOCATION:PRAIRIE FEST PARK - 1
SUMMARY:Game: 8U-5V5/5SW1 RUSH OSWEGO 2018 BLUE vs GALAXY 2018 CITY
TRANSP:OPAQUE
END:VEVENT
BEGIN:VEVENT
UID:64373963-3563-4436-b064-326434313563
DTSTAMP:20260425T160441Z
CLASS:PUBLIC
DESCRIPTION:YSSL 8U-5V5/5SW1 Game
DTSTART;TZID=America/Chicago:20260510T120000
DTEND;TZID=America/Chicago:20260510T120000
LOCATION:JUST FOR KICKS SOCCER FACILITY - 5V5 - 1
SUMMARY:Game: 8U-5V5/5SW1 GALAXY 2018 CITY vs UESC-PLAINFIELD UTD 2018 SEL 
 WHITE
TRANSP:OPAQUE
END:VEVENT
BEGIN:VEVENT
UID:66393138-3534-4434-a264-613261666639
DTSTAMP:20260425T160441Z
CLASS:PUBLIC
DESCRIPTION:YSSL 8U-5V5/5SW1 Game
DTSTART;TZID=America/Chicago:20260509T090000
DTEND;TZID=America/Chicago:20260509T090000
LOCATION:INDIAN BOUNDARY YMCA - MICRO
SUMMARY:Game: 8U-5V5/5SW1 AJAX FC NAPERVILLE 2018 WHITE vs GALAXY 2018 CITY
TRANSP:OPAQUE
END:VEVENT
BEGIN:VEVENT
UID:33316535-3233-4530-a365-333939616166
DTSTAMP:20260425T160441Z
CLASS:PUBLIC
DESCRIPTION:YSSL 8U-5V5/5SW1 Game
DTSTART;TZID=America/Chicago:20260531T120000
DTEND;TZID=America/Chicago:20260531T120000
LOCATION:JUST FOR KICKS SOCCER FACILITY - 5V5 - 1
SUMMARY:Game: 8U-5V5/5SW1 GALAXY 2018 CITY vs CHICAGO DYNASTY FC 2018B SKY 
 BLUE
TRANSP:OPAQUE
END:VEVENT
BEGIN:VEVENT
UID:36333030-3664-4135-a430-386538653930
DTSTAMP:20260425T160441Z
CLASS:PUBLIC
DESCRIPTION:YSSL 8U-5V5/5SW1 Game
DTSTART;TZID=America/Chicago:20260517T140000
DTEND;TZID=America/Chicago:20260517T140000
LOCATION:JUST FOR KICKS SOCCER FACILITY - 5V5 - 1
SUMMARY:Game: 8U-5V5/5SW1 GALAXY 2018 CITY vs NAFC KRAKEN 2018 PURPLE
TRANSP:OPAQUE
END:VEVENT
END:VCALENDAR
