BEGIN:VCALENDAR
VERSION:2.0
PRODID:-//yssl.org//NONSGML kigkonsult.se iCalcreator 2.41.92//
CALSCALE:GREGORIAN
METHOD:PUBLISH
UID:66373964-3838-4638-a532-343365663037
X-WR-CALNAME:YSSL Calendar
X-WR-CALDESC:YSSL Calendar
X-WR-TIMEZONE:America/Chicago
BEGIN:VEVENT
UID:35653534-3733-4062-b663-303463396536
DTSTAMP:20260424T203829Z
CLASS:PUBLIC
DESCRIPTION:YSSL 10U/5N2 Game
DTSTART;TZID=America/Chicago:20260411T103000
DTEND;TZID=America/Chicago:20260411T103000
LOCATION:MCHENRY MIDDLE SCHOOL
SUMMARY:Game: 10U/5N2 IP-NUFC 2016 ORANGE vs PEGASUS FC/1974 2016 GRAY
TRANSP:OPAQUE
END:VEVENT
BEGIN:VEVENT
UID:32383666-3337-4036-b065-343066363562
DTSTAMP:20260424T203829Z
CLASS:PUBLIC
DESCRIPTION:YSSL 10U/5N2 Game
DTSTART;TZID=America/Chicago:20260425T103000
DTEND;TZID=America/Chicago:20260425T103000
LOCATION:MCHENRY TOWNSHIP  - #3 (U9-U10)
SUMMARY:Game: 10U/5N2 IP-NUFC 2016 ORANGE vs ELA ELITE 2016 COMPETITIVE
TRANSP:OPAQUE
END:VEVENT
BEGIN:VEVENT
UID:39303730-6438-4630-b338-363830656437
DTSTAMP:20260424T203829Z
CLASS:PUBLIC
DESCRIPTION:YSSL 10U/5N2 Game
DTSTART;TZID=America/Chicago:20260502T103000
DTEND;TZID=America/Chicago:20260502T103000
LOCATION:MCHENRY TOWNSHIP  - #3 (U9-U10)
SUMMARY:Game: 10U/5N2 IP-NUFC 2016 ORANGE vs FC LAKE COUNTY 2016 BLUE
TRANSP:OPAQUE
END:VEVENT
BEGIN:VEVENT
UID:32333066-3830-4964-b630-646263616333
DTSTAMP:20260424T203829Z
CLASS:PUBLIC
DESCRIPTION:YSSL 10U/5N2 Game
DTSTART;TZID=America/Chicago:20260510T093000
DTEND;TZID=America/Chicago:20260510T093000
LOCATION:WOODLAND PARK (DEERFIELD) - 7V7
SUMMARY:Game: 10U/5N2 PEGASUS FC/1974 2016 GRAY vs IP-NUFC 2016 ORANGE
TRANSP:OPAQUE
END:VEVENT
BEGIN:VEVENT
UID:30336235-6664-4533-a639-633034616161
DTSTAMP:20260424T203829Z
CLASS:PUBLIC
DESCRIPTION:YSSL 10U/5N2 Game
DTSTART;TZID=America/Chicago:20260503T140000
DTEND;TZID=America/Chicago:20260503T140000
LOCATION:MCHENRY TOWNSHIP  - #3 (U9-U10)
SUMMARY:Game: 10U/5N2 IP-NUFC 2016 ORANGE vs LASC 2016 SELECT YELLOW
TRANSP:OPAQUE
END:VEVENT
BEGIN:VEVENT
UID:33616630-6237-4535-a134-313131616266
DTSTAMP:20260424T203829Z
CLASS:PUBLIC
DESCRIPTION:YSSL 10U/5N2 Game
DTSTART;TZID=America/Chicago:20260530T100000
DTEND;TZID=America/Chicago:20260530T100000
LOCATION:LAKEWOOD GROVE PARK
SUMMARY:Game: 10U/5N2 SCOUTS FC 2016 vs IP-NUFC 2016 ORANGE
TRANSP:OPAQUE
END:VEVENT
BEGIN:VEVENT
UID:37363561-3330-4437-b530-316464613466
DTSTAMP:20260424T203829Z
CLASS:PUBLIC
DESCRIPTION:YSSL 10U/5N2 Game
DTSTART;TZID=America/Chicago:20260606T163000
DTEND;TZID=America/Chicago:20260606T163000
LOCATION:ORCHARD FIELD - 7V7
SUMMARY:Game: 10U/5N2 ELA ELITE 2016 COMPETITIVE vs IP-NUFC 2016 ORANGE
TRANSP:OPAQUE
END:VEVENT
BEGIN:VEVENT
UID:31373634-3432-4364-b634-663430633930
DTSTAMP:20260424T203829Z
CLASS:PUBLIC
DESCRIPTION:YSSL 10U/5N2 Game
DTSTART;TZID=America/Chicago:20260509T160000
DTEND;TZID=America/Chicago:20260509T160000
LOCATION:LAKE VILLA TOWNSHIP SOCCER COMPLEX  - FIELD B - 7V7
SUMMARY:Game: 10U/5N2 LASC 2016 SELECT YELLOW vs IP-NUFC 2016 ORANGE
TRANSP:OPAQUE
END:VEVENT
END:VCALENDAR
