BEGIN:VCALENDAR
VERSION:2.0
PRODID:-//yssl.org//NONSGML kigkonsult.se iCalcreator 2.41.92//
CALSCALE:GREGORIAN
METHOD:PUBLISH
UID:35666639-3437-4335-a334-303836366130
X-WR-CALNAME:YSSL Calendar
X-WR-CALDESC:YSSL Calendar
X-WR-TIMEZONE:America/Chicago
BEGIN:VEVENT
UID:65343935-6663-4535-a131-383539323632
DTSTAMP:20260425T013108Z
CLASS:PUBLIC
DESCRIPTION:YSSL 14U/4N Game
DTSTART;TZID=America/Chicago:20260426T131500
DTEND;TZID=America/Chicago:20260426T131500
LOCATION:SUNSET MEADOWS
SUMMARY:Game: 14U/4N IP-ARLINGTON ACES 2012 GREEN vs NA - ROUND LAKE JUNIOR
 S 2012
TRANSP:OPAQUE
END:VEVENT
BEGIN:VEVENT
UID:36313538-3034-4633-b962-366434303230
DTSTAMP:20260425T013108Z
CLASS:PUBLIC
DESCRIPTION:YSSL 14U/4N Game
DTSTART;TZID=America/Chicago:20260418T163000
DTEND;TZID=America/Chicago:20260418T163000
LOCATION:SUNSET MEADOWS
SUMMARY:Game: 14U/4N IP-ARLINGTON ACES 2012 GREEN vs SCOUTS FC 2012/2013
TRANSP:OPAQUE
END:VEVENT
BEGIN:VEVENT
UID:61323733-6363-4130-a466-363535643762
DTSTAMP:20260425T013108Z
CLASS:PUBLIC
DESCRIPTION:YSSL 14U/4N Game
DTSTART;TZID=America/Chicago:20260425T130000
DTEND;TZID=America/Chicago:20260425T130000
LOCATION:SUNSET MEADOWS
SUMMARY:Game: 14U/4N IP-ARLINGTON ACES 2012 GREEN vs SCOUTS FC 2012/2013
TRANSP:OPAQUE
END:VEVENT
BEGIN:VEVENT
UID:36643362-6538-4037-b338-313537643630
DTSTAMP:20260425T013108Z
CLASS:PUBLIC
DESCRIPTION:YSSL 14U/4N Game
DTSTART;TZID=America/Chicago:20260531T090000
DTEND;TZID=America/Chicago:20260531T090000
LOCATION:NORTHCROFT PARK FIELD
SUMMARY:Game: 14U/4N NSFC 2012 BLACK vs IP-ARLINGTON ACES 2012 GREEN
TRANSP:OPAQUE
END:VEVENT
BEGIN:VEVENT
UID:63383230-6139-4732-a235-316131303432
DTSTAMP:20260425T013108Z
CLASS:PUBLIC
DESCRIPTION:YSSL 14U/4N Game
DTSTART;TZID=America/Chicago:20260419T163000
DTEND;TZID=America/Chicago:20260419T163000
LOCATION:HERSEY HIGH SCHOOL - STADIUM
SUMMARY:Game: 14U/4N IP-ARLINGTON ACES 2012 GREEN vs CHICAGO FC UNITED 2012
  PRE-ACADEMY II
TRANSP:OPAQUE
END:VEVENT
BEGIN:VEVENT
UID:31643164-3637-4336-b065-393463323336
DTSTAMP:20260425T013108Z
CLASS:PUBLIC
DESCRIPTION:YSSL 14U/4N Game
DTSTART;TZID=America/Chicago:20260516T130000
DTEND;TZID=America/Chicago:20260516T130000
LOCATION:SUNSET MEADOWS
SUMMARY:Game: 14U/4N IP-ARLINGTON ACES 2012 GREEN vs PALATINE CELTIC 2012 G
 REEN
TRANSP:OPAQUE
END:VEVENT
BEGIN:VEVENT
UID:39373238-6261-4663-a232-363065613566
DTSTAMP:20260425T013108Z
CLASS:PUBLIC
DESCRIPTION:YSSL 14U/4N Game
DTSTART;TZID=America/Chicago:20260530T143000
DTEND;TZID=America/Chicago:20260530T143000
LOCATION:ROUND LAKE AREA PARK DISTRICT (SPORTS CENTER)
SUMMARY:Game: 14U/4N NA - ROUND LAKE JUNIORS 2012 vs IP-ARLINGTON ACES 2012
  GREEN
TRANSP:OPAQUE
END:VEVENT
BEGIN:VEVENT
UID:63323038-3032-4365-b363-623337376431
DTSTAMP:20260425T013108Z
CLASS:PUBLIC
DESCRIPTION:YSSL 14U/4N Game
DTSTART;TZID=America/Chicago:20260515T180000
DTEND;TZID=America/Chicago:20260515T180000
LOCATION:CELTIC PARK FIELD  - FIELD 6
SUMMARY:Game: 14U/4N PALATINE CELTIC 2012 GREEN vs IP-ARLINGTON ACES 2012 G
 REEN
TRANSP:OPAQUE
END:VEVENT
END:VCALENDAR
