BEGIN:VCALENDAR
VERSION:2.0
PRODID:-//yssl.org//NONSGML kigkonsult.se iCalcreator 2.41.92//
CALSCALE:GREGORIAN
METHOD:PUBLISH
UID:36653932-3439-4037-a266-383438663963
X-WR-CALNAME:YSSL Calendar
X-WR-CALDESC:YSSL Calendar
X-WR-TIMEZONE:America/Chicago
BEGIN:VEVENT
UID:37353433-3063-4638-b565-383935336336
DTSTAMP:20260424T222102Z
CLASS:PUBLIC
DESCRIPTION:YSSL 9U/4N2 Game
DTSTART;TZID=America/Chicago:20260411T120000
DTEND;TZID=America/Chicago:20260411T120000
LOCATION:MCHENRY MIDDLE SCHOOL - #2
SUMMARY:Game: 9U/4N2 IP-NUFC 2017 REAL vs ELA ELITE 2017 SELECT
TRANSP:OPAQUE
END:VEVENT
BEGIN:VEVENT
UID:36336332-6538-4363-b435-396365623165
DTSTAMP:20260424T222102Z
CLASS:PUBLIC
DESCRIPTION:YSSL 9U/4N2 Game
DTSTART;TZID=America/Chicago:20260418T123000
DTEND;TZID=America/Chicago:20260418T123000
LOCATION:CELTIC PARK FIELD  - TURF 2A
SUMMARY:Game: 9U/4N2 PALATINE CELTIC 2017 BLACK vs IP-NUFC 2017 REAL
TRANSP:OPAQUE
END:VEVENT
BEGIN:VEVENT
UID:32653366-3734-4431-b865-373931626165
DTSTAMP:20260424T222102Z
CLASS:PUBLIC
DESCRIPTION:YSSL 9U/4N2 Game
DTSTART;TZID=America/Chicago:20260425T103000
DTEND;TZID=America/Chicago:20260425T103000
LOCATION:MCHENRY MIDDLE SCHOOL - #2
SUMMARY:Game: 9U/4N2 IP-NUFC 2017 REAL vs PALATINE CELTIC 2017 BLACK
TRANSP:OPAQUE
END:VEVENT
BEGIN:VEVENT
UID:35636635-6536-4565-a562-303733336437
DTSTAMP:20260424T222102Z
CLASS:PUBLIC
DESCRIPTION:YSSL 9U/4N2 Game
DTSTART;TZID=America/Chicago:20260419T110000
DTEND;TZID=America/Chicago:20260419T110000
LOCATION:LTSC FLD - FIELD 5A
SUMMARY:Game: 9U/4N2 LIBERTYVILLE FC 1974-2017C-BLACK 1 vs IP-NUFC 2017 REA
 L
TRANSP:OPAQUE
END:VEVENT
BEGIN:VEVENT
UID:63353532-6235-4537-a630-326366333830
DTSTAMP:20260424T222102Z
CLASS:PUBLIC
DESCRIPTION:YSSL 9U/4N2 Game
DTSTART;TZID=America/Chicago:20260607T103000
DTEND;TZID=America/Chicago:20260607T103000
LOCATION:MCHENRY MIDDLE SCHOOL - #2
SUMMARY:Game: 9U/4N2 IP-NUFC 2017 REAL vs PEGASUS FC/1974 2017 WHITE
TRANSP:OPAQUE
END:VEVENT
BEGIN:VEVENT
UID:62616366-3639-4931-b837-353833613034
DTSTAMP:20260424T222102Z
CLASS:PUBLIC
DESCRIPTION:YSSL 9U/4N2 Game
DTSTART;TZID=America/Chicago:20260503T153000
DTEND;TZID=America/Chicago:20260503T153000
LOCATION:MCHENRY TOWNSHIP
SUMMARY:Game: 9U/4N2 IP-NUFC 2017 REAL vs MUNDELEIN LIONS 2017 BLUE
TRANSP:OPAQUE
END:VEVENT
BEGIN:VEVENT
UID:66313962-6362-4534-a239-636439663165
DTSTAMP:20260424T222102Z
CLASS:PUBLIC
DESCRIPTION:YSSL 9U/4N2 Game
DTSTART;TZID=America/Chicago:20260530T103000
DTEND;TZID=America/Chicago:20260530T103000
LOCATION:ORCHARD FIELD - 7V7
SUMMARY:Game: 9U/4N2 ELA ELITE 2017 SELECT vs IP-NUFC 2017 REAL
TRANSP:OPAQUE
END:VEVENT
BEGIN:VEVENT
UID:39643030-6562-4431-b039-373039623530
DTSTAMP:20260424T222102Z
CLASS:PUBLIC
DESCRIPTION:YSSL 9U/4N2 Game
DTSTART;TZID=America/Chicago:20260606T110000
DTEND;TZID=America/Chicago:20260606T110000
LOCATION:FREMONT SCHOOL (NO PETS) - 4
SUMMARY:Game: 9U/4N2 MUNDELEIN LIONS 2017 BLUE vs IP-NUFC 2017 REAL
TRANSP:OPAQUE
END:VEVENT
END:VCALENDAR
