BEGIN:VCALENDAR
VERSION:2.0
PRODID:-//yssl.org//NONSGML kigkonsult.se iCalcreator 2.41.92//
CALSCALE:GREGORIAN
METHOD:PUBLISH
UID:32396532-3536-4335-a137-336534663231
X-WR-CALNAME:YSSL Calendar
X-WR-CALDESC:YSSL Calendar
X-WR-TIMEZONE:America/Chicago
BEGIN:VEVENT
UID:33636633-6431-4262-a138-613963663834
DTSTAMP:20260425T123059Z
CLASS:PUBLIC
DESCRIPTION:YSSL 11U/5N1 Game
DTSTART;TZID=America/Chicago:20260411T170000
DTEND;TZID=America/Chicago:20260411T170000
LOCATION:LTSC FLD - FIELD 2
SUMMARY:Game: 11U/5N1 LIBERTYVILLE FC 1974-2015C-SELECT 2 vs NA - ROUND LAK
 E JUNIORS 2015
TRANSP:OPAQUE
END:VEVENT
BEGIN:VEVENT
UID:34366562-3938-4361-b335-653933343339
DTSTAMP:20260425T123059Z
CLASS:PUBLIC
DESCRIPTION:YSSL 11U/5N1 Game
DTSTART;TZID=America/Chicago:20260503T090000
DTEND;TZID=America/Chicago:20260503T090000
LOCATION:COUNTRYSIDE WEST
SUMMARY:Game: 11U/5N1 ELA ELITE 2015 COMPETITIVE vs LIBERTYVILLE FC 1974-20
 15C-SELECT 2
TRANSP:OPAQUE
END:VEVENT
BEGIN:VEVENT
UID:30386461-3364-4530-b265-336430383337
DTSTAMP:20260425T123059Z
CLASS:PUBLIC
DESCRIPTION:YSSL 11U/5N1 Game
DTSTART;TZID=America/Chicago:20260614T103000
DTEND;TZID=America/Chicago:20260614T103000
LOCATION:MELAS PARK - #2  9V9
SUMMARY:Game: 11U/5N1 ELITE S.C. 2015 RED vs LIBERTYVILLE FC 1974-2015C-SEL
 ECT 2
TRANSP:OPAQUE
END:VEVENT
BEGIN:VEVENT
UID:62366430-3739-4761-b435-636364333038
DTSTAMP:20260425T123059Z
CLASS:PUBLIC
DESCRIPTION:YSSL 11U/5N1 Game
DTSTART;TZID=America/Chicago:20260502T153000
DTEND;TZID=America/Chicago:20260502T153000
LOCATION:LTSC FLD - FIELD 2
SUMMARY:Game: 11U/5N1 LIBERTYVILLE FC 1974-2015C-SELECT 2 vs HAWTHORN WOODS
  ELITE 2015 GREEN
TRANSP:OPAQUE
END:VEVENT
BEGIN:VEVENT
UID:65663734-3865-4735-b162-613634333064
DTSTAMP:20260425T123059Z
CLASS:PUBLIC
DESCRIPTION:YSSL 11U/5N1 Game
DTSTART;TZID=America/Chicago:20260613T093000
DTEND;TZID=America/Chicago:20260613T093000
LOCATION:LTSC FLD - FIELD 2
SUMMARY:Game: 11U/5N1 LIBERTYVILLE FC 1974-2015C-SELECT 2 vs LASC 2016 PREM
 IER
TRANSP:OPAQUE
END:VEVENT
BEGIN:VEVENT
UID:33383264-3464-4261-a639-323631323135
DTSTAMP:20260425T123059Z
CLASS:PUBLIC
DESCRIPTION:YSSL 11U/5N1 Game
DTSTART;TZID=America/Chicago:20260530T140000
DTEND;TZID=America/Chicago:20260530T140000
LOCATION:CLAVEY PARK - MED
SUMMARY:Game: 11U/5N1 PEGASUS FC/1974 2015 WHITE vs LIBERTYVILLE FC 1974-20
 15C-SELECT 2
TRANSP:OPAQUE
END:VEVENT
BEGIN:VEVENT
UID:34623131-6264-4535-b038-376364333137
DTSTAMP:20260425T123059Z
CLASS:PUBLIC
DESCRIPTION:YSSL 11U/5N1 Game
DTSTART;TZID=America/Chicago:20260531T153000
DTEND;TZID=America/Chicago:20260531T153000
LOCATION:LTSC FLD - FIELD 2
SUMMARY:Game: 11U/5N1 LIBERTYVILLE FC 1974-2015C-SELECT 2 vs FC-1 ACADEMY 2
 015 SELECT GREY
TRANSP:OPAQUE
END:VEVENT
BEGIN:VEVENT
UID:39633030-6537-4665-a333-393465626435
DTSTAMP:20260425T123059Z
CLASS:PUBLIC
DESCRIPTION:YSSL 11U/5N1 Game
DTSTART;TZID=America/Chicago:20260517T160000
DTEND;TZID=America/Chicago:20260517T160000
LOCATION:TOMASO - 5
SUMMARY:Game: 11U/5N1 FORCE 2015B H PREMIER WHITE II vs LIBERTYVILLE FC 197
 4-2015C-SELECT 2
TRANSP:OPAQUE
END:VEVENT
END:VCALENDAR
