BEGIN:VCALENDAR
VERSION:2.0
PRODID:-//yssl.org//NONSGML kigkonsult.se iCalcreator 2.41.92//
CALSCALE:GREGORIAN
METHOD:PUBLISH
UID:30316665-3731-4566-a132-663037373039
X-WR-CALNAME:YSSL Calendar
X-WR-CALDESC:YSSL Calendar
X-WR-TIMEZONE:America/Chicago
BEGIN:VEVENT
UID:30663332-6162-4064-b832-343130343833
DTSTAMP:20260424T221214Z
CLASS:PUBLIC
DESCRIPTION:YSSL 15U-SPRING/2N Game
DTSTART;TZID=America/Chicago:20260411T180000
DTEND;TZID=America/Chicago:20260411T180000
LOCATION:CELTIC PARK FIELD  - TURF 1
SUMMARY:Game: 15U-SPRING/2N PALATINE CELTIC 2011 BLACK vs PEGASUS FC/1974 2
 011 RED
TRANSP:OPAQUE
END:VEVENT
BEGIN:VEVENT
UID:37313633-6536-4335-a161-396139326461
DTSTAMP:20260424T221214Z
CLASS:PUBLIC
DESCRIPTION:YSSL 15U-SPRING/2N Game
DTSTART;TZID=America/Chicago:20260419T123000
DTEND;TZID=America/Chicago:20260419T123000
LOCATION:WILLOW HILL PARK - #2
SUMMARY:Game: 15U-SPRING/2N PEGASUS FC/1974 2011 RED vs NW 2011 BOYS I
TRANSP:OPAQUE
END:VEVENT
BEGIN:VEVENT
UID:37636436-3566-4738-b166-326239386634
DTSTAMP:20260424T221214Z
CLASS:PUBLIC
DESCRIPTION:YSSL 15U-SPRING/2N Game
DTSTART;TZID=America/Chicago:20260502T160000
DTEND;TZID=America/Chicago:20260502T160000
LOCATION:LERNER PARK
SUMMARY:Game: 15U-SPRING/2N IPROSKILLS 2011 NEON vs PEGASUS FC/1974 2011 RE
 D
TRANSP:OPAQUE
END:VEVENT
BEGIN:VEVENT
UID:32663561-3063-4936-a233-663539396435
DTSTAMP:20260424T221214Z
CLASS:PUBLIC
DESCRIPTION:YSSL 15U-SPRING/2N Game
DTSTART;TZID=America/Chicago:20260503T104500
DTEND;TZID=America/Chicago:20260503T104500
LOCATION:DEERFIELD HIGH SCHOOL
SUMMARY:Game: 15U-SPRING/2N PEGASUS FC/1974 2011 RED vs FC LAKE COUNTY 2011
  ELITE
TRANSP:OPAQUE
END:VEVENT
BEGIN:VEVENT
UID:38353230-6664-4761-a264-363031363266
DTSTAMP:20260424T221214Z
CLASS:PUBLIC
DESCRIPTION:YSSL 15U-SPRING/2N Game
DTSTART;TZID=America/Chicago:20260529T190000
DTEND;TZID=America/Chicago:20260529T190000
LOCATION:VERNON HILLS ATHLETIC COMPLEX - 10
SUMMARY:Game: 15U-SPRING/2N CHICAGO FC UNITED 2011 PRE-ACADEMY vs PEGASUS F
 C/1974 2011 RED
TRANSP:OPAQUE
END:VEVENT
BEGIN:VEVENT
UID:34646638-6531-4365-b264-376438353663
DTSTAMP:20260424T221214Z
CLASS:PUBLIC
DESCRIPTION:YSSL 15U-SPRING/2N Game
DTSTART;TZID=America/Chicago:20260412T160000
DTEND;TZID=America/Chicago:20260412T160000
LOCATION:DEERFIELD HIGH SCHOOL
SUMMARY:Game: 15U-SPRING/2N PEGASUS FC/1974 2011 RED vs PALATINE CELTIC 201
 1 BLACK
TRANSP:OPAQUE
END:VEVENT
BEGIN:VEVENT
UID:38373939-3966-4931-a438-633239303965
DTSTAMP:20260424T221214Z
CLASS:PUBLIC
DESCRIPTION:YSSL 15U-SPRING/2N Game
DTSTART;TZID=America/Chicago:20260530T120000
DTEND;TZID=America/Chicago:20260530T120000
LOCATION:CLARK PARK
SUMMARY:Game: 15U-SPRING/2N NW 2011 BOYS I vs PEGASUS FC/1974 2011 RED
TRANSP:OPAQUE
END:VEVENT
BEGIN:VEVENT
UID:65626530-3133-4761-a163-396664323932
DTSTAMP:20260424T221214Z
CLASS:PUBLIC
DESCRIPTION:YSSL 15U-SPRING/2N Game
DTSTART;TZID=America/Chicago:20260607T123000
DTEND;TZID=America/Chicago:20260607T123000
LOCATION:DEERFIELD HIGH SCHOOL
SUMMARY:Game: 15U-SPRING/2N PEGASUS FC/1974 2011 RED vs IPROSKILLS 2011 NEO
 N
TRANSP:OPAQUE
END:VEVENT
END:VCALENDAR
