BEGIN:VCALENDAR
VERSION:2.0
PRODID:-//yssl.org//NONSGML kigkonsult.se iCalcreator 2.41.92//
CALSCALE:GREGORIAN
METHOD:PUBLISH
UID:38343531-3438-4839-b536-626631646633
X-WR-CALNAME:YSSL Calendar
X-WR-CALDESC:YSSL Calendar
X-WR-TIMEZONE:America/Chicago
BEGIN:VEVENT
UID:62306434-3130-4431-a162-333230306561
DTSTAMP:20260426T002432Z
CLASS:PUBLIC
DESCRIPTION:YSSL 13U/2NW Game
DTSTART;TZID=America/Chicago:20260502T120000
DTEND;TZID=America/Chicago:20260502T120000
LOCATION:PRAIRIE LAKES PK FLDS
SUMMARY:Game: 13U/2NW HUSSARS UNITED 2013 GOLD vs LASC 2013 PREMIER
TRANSP:OPAQUE
END:VEVENT
BEGIN:VEVENT
UID:31653030-3965-4533-a662-373432313665
DTSTAMP:20260426T002432Z
CLASS:PUBLIC
DESCRIPTION:YSSL 13U/2NW Game
DTSTART;TZID=America/Chicago:20260418T093000
DTEND;TZID=America/Chicago:20260418T093000
LOCATION:OLYMPIC PARK FIELD - 9
SUMMARY:Game: 13U/2NW SAA UNITED SC 2013 BLACK vs LASC 2013 PREMIER
TRANSP:OPAQUE
END:VEVENT
BEGIN:VEVENT
UID:64633961-3234-4264-b964-333664396137
DTSTAMP:20260426T002432Z
CLASS:PUBLIC
DESCRIPTION:YSSL 13U/2NW Game
DTSTART;TZID=America/Chicago:20260425T123000
DTEND;TZID=America/Chicago:20260425T123000
LOCATION:HERITAGE OAKS - BIG FIELD
SUMMARY:Game: 13U/2NW HAWTHORN WOODS ELITE 2013 BLACK vs LASC 2013 PREMIER
TRANSP:OPAQUE
END:VEVENT
BEGIN:VEVENT
UID:65626531-3866-4437-a362-623539396530
DTSTAMP:20260426T002432Z
CLASS:PUBLIC
DESCRIPTION:YSSL 13U/2NW Game
DTSTART;TZID=America/Chicago:20260509T150000
DTEND;TZID=America/Chicago:20260509T150000
LOCATION:LAKE VILLA TOWNSHIP SOCCER COMPLEX  - FIELD E - 11V11
SUMMARY:Game: 13U/2NW LASC 2013 PREMIER vs HUSSARS UNITED 2013 GOLD
TRANSP:OPAQUE
END:VEVENT
BEGIN:VEVENT
UID:66646330-6236-4362-b236-646132646630
DTSTAMP:20260426T002432Z
CLASS:PUBLIC
DESCRIPTION:YSSL 13U/2NW Game
DTSTART;TZID=America/Chicago:20260606T163000
DTEND;TZID=America/Chicago:20260606T163000
LOCATION:SUNSET MEADOWS
SUMMARY:Game: 13U/2NW IP-ARLINGTON ACES 2013 BLUE vs LASC 2013 PREMIER
TRANSP:OPAQUE
END:VEVENT
BEGIN:VEVENT
UID:35373564-6665-4434-b435-653632353236
DTSTAMP:20260426T002432Z
CLASS:PUBLIC
DESCRIPTION:YSSL 13U/2NW Game
DTSTART;TZID=America/Chicago:20260530T170000
DTEND;TZID=America/Chicago:20260530T170000
LOCATION:LAKE VILLA TOWNSHIP SOCCER COMPLEX  - FIELD E - 11V11
SUMMARY:Game: 13U/2NW LASC 2013 PREMIER vs SAA UNITED SC 2013 BLACK
TRANSP:OPAQUE
END:VEVENT
BEGIN:VEVENT
UID:38353837-3739-4639-b233-313835623861
DTSTAMP:20260426T002432Z
CLASS:PUBLIC
DESCRIPTION:YSSL 13U/2NW Game
DTSTART;TZID=America/Chicago:20260607T090000
DTEND;TZID=America/Chicago:20260607T090000
LOCATION:LAKE VILLA TOWNSHIP SOCCER COMPLEX  - FIELD E - 11V11
SUMMARY:Game: 13U/2NW LASC 2013 PREMIER vs IP-ARLINGTON ACES 2013 BLUE
TRANSP:OPAQUE
END:VEVENT
BEGIN:VEVENT
UID:65363030-3063-4362-b063-633537663763
DTSTAMP:20260426T002432Z
CLASS:PUBLIC
DESCRIPTION:YSSL 13U/2NW Game
DTSTART;TZID=America/Chicago:20260419T173000
DTEND;TZID=America/Chicago:20260419T173000
LOCATION:LAKE VILLA TOWNSHIP SOCCER COMPLEX  - FIELD E - 11V11
SUMMARY:Game: 13U/2NW LASC 2013 PREMIER vs MUNDELEIN LIONS 2013 ELITE
TRANSP:OPAQUE
END:VEVENT
END:VCALENDAR
