BEGIN:VCALENDAR
VERSION:2.0
PRODID:-//yssl.org//NONSGML kigkonsult.se iCalcreator 2.41.92//
CALSCALE:GREGORIAN
METHOD:PUBLISH
UID:66386161-6461-4665-b731-303461363930
X-WR-CALNAME:YSSL Calendar
X-WR-CALDESC:YSSL Calendar
X-WR-TIMEZONE:America/Chicago
BEGIN:VEVENT
UID:35653333-3634-4133-b930-643339353038
DTSTAMP:20260425T164807Z
CLASS:PUBLIC
DESCRIPTION:YSSL 10U/4C Game
DTSTART;TZID=America/Chicago:20260503T103000
DTEND;TZID=America/Chicago:20260503T103000
LOCATION:RIDGEWOOD PARK - -
SUMMARY:Game: 10U/4C LTSC 2016 SELECT BLUE vs TESC 2016 SELECT BLACK
TRANSP:OPAQUE
END:VEVENT
BEGIN:VEVENT
UID:61323036-3733-4031-a162-653035386230
DTSTAMP:20260425T164807Z
CLASS:PUBLIC
DESCRIPTION:YSSL 10U/4C Game
DTSTART;TZID=America/Chicago:20260418T121500
DTEND;TZID=America/Chicago:20260418T121500
LOCATION:CENTRAL PARK FIELDS - FOREST GATE RD. ENTRANCE - 7V7
SUMMARY:Game: 10U/4C ECLIPSE 2016 LUNAR NAPERVILLE vs LTSC 2016 SELECT BLUE
TRANSP:OPAQUE
END:VEVENT
BEGIN:VEVENT
UID:39306362-6534-4133-a464-633835376662
DTSTAMP:20260425T164807Z
CLASS:PUBLIC
DESCRIPTION:YSSL 10U/4C Game
DTSTART;TZID=America/Chicago:20260425T101000
DTEND;TZID=America/Chicago:20260425T101000
LOCATION:INDIAN BOUNDARY YMCA - 7V7
SUMMARY:Game: 10U/4C AJAX FC NAPERVILLE 2016 WHITE 1 vs LTSC 2016 SELECT BL
 UE
TRANSP:OPAQUE
END:VEVENT
BEGIN:VEVENT
UID:36623933-6232-4765-a432-636564313065
DTSTAMP:20260425T164807Z
CLASS:PUBLIC
DESCRIPTION:YSSL 10U/4C Game
DTSTART;TZID=America/Chicago:20260606T133000
DTEND;TZID=America/Chicago:20260606T133000
LOCATION:WALKER PARK - 7V7
SUMMARY:Game: 10U/4C LTSC 2016 SELECT BLUE vs ECLIPSE 2016 SOLAR NAPERVILLE
  GIRLS
TRANSP:OPAQUE
END:VEVENT
BEGIN:VEVENT
UID:64633062-6438-4761-a435-623163366465
DTSTAMP:20260425T164807Z
CLASS:PUBLIC
DESCRIPTION:YSSL 10U/4C Game
DTSTART;TZID=America/Chicago:20260530T163000
DTEND;TZID=America/Chicago:20260530T163000
LOCATION:WALKER PARK - 7V7
SUMMARY:Game: 10U/4C LTSC 2016 SELECT BLUE vs ECS 2016 B BLUE
TRANSP:OPAQUE
END:VEVENT
BEGIN:VEVENT
UID:35323737-3533-4431-b637-313466326365
DTSTAMP:20260425T164807Z
CLASS:PUBLIC
DESCRIPTION:YSSL 10U/4C Game
DTSTART;TZID=America/Chicago:20260531T150000
DTEND;TZID=America/Chicago:20260531T150000
LOCATION:CENTRAL PARK FIELDS - FOREST GATE RD. ENTRANCE - FIELD 7
SUMMARY:Game: 10U/4C WCOB SOCCER LAB 2016 vs LTSC 2016 SELECT BLUE
TRANSP:OPAQUE
END:VEVENT
BEGIN:VEVENT
UID:37316366-3530-4139-a232-303535656365
DTSTAMP:20260425T164807Z
CLASS:PUBLIC
DESCRIPTION:YSSL 10U/4C Game
DTSTART;TZID=America/Chicago:20260502T163000
DTEND;TZID=America/Chicago:20260502T163000
LOCATION:WALKER PARK - 7V7
SUMMARY:Game: 10U/4C LTSC 2016 SELECT BLUE vs CHICAGO DYNASTY FC 2016B NAVY
TRANSP:OPAQUE
END:VEVENT
BEGIN:VEVENT
UID:33333562-6161-4435-b039-343031636265
DTSTAMP:20260425T164807Z
CLASS:PUBLIC
DESCRIPTION:YSSL 10U/4C Game
DTSTART;TZID=America/Chicago:20260426T120000
DTEND;TZID=America/Chicago:20260426T120000
LOCATION:OAK BROOK POLO FIELDS - J 7V7
SUMMARY:Game: 10U/4C CHICAGO EMPIRE FC 2016 BLUE vs LTSC 2016 SELECT BLUE
TRANSP:OPAQUE
END:VEVENT
END:VCALENDAR
