BEGIN:VCALENDAR
VERSION:2.0
PRODID:-//yssl.org//NONSGML kigkonsult.se iCalcreator 2.41.92//
CALSCALE:GREGORIAN
METHOD:PUBLISH
UID:39653864-3433-4736-a666-333831353434
X-WR-CALNAME:YSSL Calendar
X-WR-CALDESC:YSSL Calendar
X-WR-TIMEZONE:America/Chicago
BEGIN:VEVENT
UID:30363261-3032-4037-b661-613838383632
DTSTAMP:20260425T163723Z
CLASS:PUBLIC
DESCRIPTION:YSSL 11U/5C1 Game
DTSTART;TZID=America/Chicago:20260411T130000
DTEND;TZID=America/Chicago:20260411T130000
LOCATION:NEWCASTLE PARK
SUMMARY:Game: 11U/5C1 MUSTANGS UNITED FC 2015 vs LTSC 2015 SELECT SILVER
TRANSP:OPAQUE
END:VEVENT
BEGIN:VEVENT
UID:38316131-3062-4538-b866-383163363565
DTSTAMP:20260425T163723Z
CLASS:PUBLIC
DESCRIPTION:YSSL 11U/5C1 Game
DTSTART;TZID=America/Chicago:20260531T113000
DTEND;TZID=America/Chicago:20260531T113000
LOCATION:SPRING ROCK PARK - 9V9
SUMMARY:Game: 11U/5C1 LTSC 2015 SELECT SILVER vs RBFC 2015 BLUE
TRANSP:OPAQUE
END:VEVENT
BEGIN:VEVENT
UID:62633065-6333-4466-a164-346463366661
DTSTAMP:20260425T163723Z
CLASS:PUBLIC
DESCRIPTION:YSSL 11U/5C1 Game
DTSTART;TZID=America/Chicago:20260425T133000
DTEND;TZID=America/Chicago:20260425T133000
LOCATION:BAMBRICK PARK FIELD
SUMMARY:Game: 11U/5C1 PSG ACADEMY LEMONT 2015 COED vs LTSC 2015 SELECT SILV
 ER
TRANSP:OPAQUE
END:VEVENT
BEGIN:VEVENT
UID:66303364-3531-4336-a164-303537653232
DTSTAMP:20260425T163723Z
CLASS:PUBLIC
DESCRIPTION:YSSL 11U/5C1 Game
DTSTART;TZID=America/Chicago:20260503T123000
DTEND;TZID=America/Chicago:20260503T123000
LOCATION:DEVON - FARA FAMILY PARK
SUMMARY:Game: 11U/5C1 MIDWEST ELITE SC 2015/16 vs LTSC 2015 SELECT SILVER
TRANSP:OPAQUE
END:VEVENT
BEGIN:VEVENT
UID:35656266-3665-4330-b961-666434646432
DTSTAMP:20260425T163723Z
CLASS:PUBLIC
DESCRIPTION:YSSL 11U/5C1 Game
DTSTART;TZID=America/Chicago:20260509T163000
DTEND;TZID=America/Chicago:20260509T163000
LOCATION:SPRING ROCK PARK - 9V9
SUMMARY:Game: 11U/5C1 LTSC 2015 SELECT SILVER vs ACADEMIA ATLAS 2015 BLACK
TRANSP:OPAQUE
END:VEVENT
BEGIN:VEVENT
UID:32356237-3138-4231-a538-663439656561
DTSTAMP:20260425T163723Z
CLASS:PUBLIC
DESCRIPTION:YSSL 11U/5C1 Game
DTSTART;TZID=America/Chicago:20260605T190000
DTEND;TZID=America/Chicago:20260605T190000
LOCATION:VEECK PARK
SUMMARY:Game: 11U/5C1 EVOLUTION 2015 PHANTOM EAST vs LTSC 2015 SELECT SILVE
 R
TRANSP:OPAQUE
END:VEVENT
BEGIN:VEVENT
UID:61373436-3033-4963-b539-356336343634
DTSTAMP:20260425T163723Z
CLASS:PUBLIC
DESCRIPTION:YSSL 11U/5C1 Game
DTSTART;TZID=America/Chicago:20260530T163000
DTEND;TZID=America/Chicago:20260530T163000
LOCATION:SPRING ROCK PARK - 9V9
SUMMARY:Game: 11U/5C1 LTSC 2015 SELECT SILVER vs AJAX FC NAPERVILLE 2015 BL
 ACK 1
TRANSP:OPAQUE
END:VEVENT
BEGIN:VEVENT
UID:38653361-3039-4734-b936-393034343637
DTSTAMP:20260425T163723Z
CLASS:PUBLIC
DESCRIPTION:YSSL 11U/5C1 Game
DTSTART;TZID=America/Chicago:20260606T150000
DTEND;TZID=America/Chicago:20260606T150000
LOCATION:SPRING ROCK PARK - 9V9
SUMMARY:Game: 11U/5C1 LTSC 2015 SELECT SILVER vs LISLE FC 2015 NEWCASTLE
TRANSP:OPAQUE
END:VEVENT
END:VCALENDAR
