BEGIN:VCALENDAR
VERSION:2.0
PRODID:-//yssl.org//NONSGML kigkonsult.se iCalcreator 2.41.92//
CALSCALE:GREGORIAN
METHOD:PUBLISH
UID:31306230-3433-4832-b931-386637633534
X-WR-CALNAME:YSSL Calendar
X-WR-CALDESC:YSSL Calendar
X-WR-TIMEZONE:America/Chicago
BEGIN:VEVENT
UID:30653033-6135-4465-a432-336333626433
DTSTAMP:20260425T215059Z
CLASS:PUBLIC
DESCRIPTION:YSSL 14U/5S Game
DTSTART;TZID=America/Chicago:20260530T150000
DTEND;TZID=America/Chicago:20260530T150000
LOCATION:WALKER PARK - 11V11
SUMMARY:Game: 14U/5S LTSC 2012 SELECT vs CSA 2012 B WHITE
TRANSP:OPAQUE
END:VEVENT
BEGIN:VEVENT
UID:35373931-6563-4937-b130-386639363664
DTSTAMP:20260425T215059Z
CLASS:PUBLIC
DESCRIPTION:YSSL 14U/5S Game
DTSTART;TZID=America/Chicago:20260418T163000
DTEND;TZID=America/Chicago:20260418T163000
LOCATION:CENTRAL PARK NORTH - KENSINGTON RD. ENTRANCE
SUMMARY:Game: 14U/5S CHICAGO BLAST 2012 GOLD vs LTSC 2012 SELECT
TRANSP:OPAQUE
END:VEVENT
BEGIN:VEVENT
UID:30646233-3136-4461-b338-353336323166
DTSTAMP:20260425T215059Z
CLASS:PUBLIC
DESCRIPTION:YSSL 14U/5S Game
DTSTART;TZID=America/Chicago:20260412T160000
DTEND;TZID=America/Chicago:20260412T160000
LOCATION:RIDGELAND COMMON
SUMMARY:Game: 14U/5S CHICAGO EDGE B2012 COMPETITIVE vs LTSC 2012 SELECT
TRANSP:OPAQUE
END:VEVENT
BEGIN:VEVENT
UID:63316466-3932-4666-b933-363837376539
DTSTAMP:20260425T215059Z
CLASS:PUBLIC
DESCRIPTION:YSSL 14U/5S Game
DTSTART;TZID=America/Chicago:20260502T150000
DTEND;TZID=America/Chicago:20260502T150000
LOCATION:WALKER PARK - 11V11
SUMMARY:Game: 14U/5S LTSC 2012 SELECT vs CRESTWOOD SC 2012
TRANSP:OPAQUE
END:VEVENT
BEGIN:VEVENT
UID:63363831-3365-4862-b030-386536376638
DTSTAMP:20260425T215059Z
CLASS:PUBLIC
DESCRIPTION:YSSL 14U/5S Game
DTSTART;TZID=America/Chicago:20260510T120000
DTEND;TZID=America/Chicago:20260510T120000
LOCATION:SEDGEWICK PARK
SUMMARY:Game: 14U/5S AYSO 300 UNITED 2012 WHITE vs LTSC 2012 SELECT
TRANSP:OPAQUE
END:VEVENT
BEGIN:VEVENT
UID:64383734-3139-4466-b561-316236323137
DTSTAMP:20260425T215059Z
CLASS:PUBLIC
DESCRIPTION:YSSL 14U/5S Game
DTSTART;TZID=America/Chicago:20260606T150000
DTEND;TZID=America/Chicago:20260606T150000
LOCATION:WALKER PARK - 11V11
SUMMARY:Game: 14U/5S LTSC 2012 SELECT vs CHICAGO EMPIRE FC 2012 BLUE
TRANSP:OPAQUE
END:VEVENT
BEGIN:VEVENT
UID:64373561-6132-4333-a435-323861343834
DTSTAMP:20260425T215059Z
CLASS:PUBLIC
DESCRIPTION:YSSL 14U/5S Game
DTSTART;TZID=America/Chicago:20260531T130000
DTEND;TZID=America/Chicago:20260531T130000
LOCATION:LYONS TOWNSHIP HS NORTH CAMPUS - GILBERT AND COSSITT
SUMMARY:Game: 14U/5S LG CELTICS 2012 GREEN vs LTSC 2012 SELECT
TRANSP:OPAQUE
END:VEVENT
BEGIN:VEVENT
UID:62663262-6632-4530-a161-366166346334
DTSTAMP:20260425T215059Z
CLASS:PUBLIC
DESCRIPTION:YSSL 14U/5S Game
DTSTART;TZID=America/Chicago:20260607T130000
DTEND;TZID=America/Chicago:20260607T130000
LOCATION:SPRING ROCK PARK - 11V11
SUMMARY:Game: 14U/5S LTSC 2012 SELECT vs LG CELTICS 2012 GREEN
TRANSP:OPAQUE
END:VEVENT
END:VCALENDAR
