BEGIN:VCALENDAR
VERSION:2.0
PRODID:-//yssl.org//NONSGML kigkonsult.se iCalcreator 2.41.92//
CALSCALE:GREGORIAN
METHOD:PUBLISH
UID:32356530-3062-4061-a635-373262633337
X-WR-CALNAME:YSSL Calendar
X-WR-CALDESC:YSSL Calendar
X-WR-TIMEZONE:America/Chicago
BEGIN:VEVENT
UID:32373136-3666-4565-b761-363561383532
DTSTAMP:20260424T130751Z
CLASS:PUBLIC
DESCRIPTION:YSSL 10U/5NE1 Game
DTSTART;TZID=America/Chicago:20260411T140000
DTEND;TZID=America/Chicago:20260411T140000
LOCATION:CELTIC PARK FIELD  - TURF 2A
SUMMARY:Game: 10U/5NE1 PALATINE CELTIC 2016 WHITE vs NORRIDGE UNITED 2016 S
 ELECT
TRANSP:OPAQUE
END:VEVENT
BEGIN:VEVENT
UID:38326432-3139-4531-b832-633735353731
DTSTAMP:20260424T130751Z
CLASS:PUBLIC
DESCRIPTION:YSSL 10U/5NE1 Game
DTSTART;TZID=America/Chicago:20260426T170000
DTEND;TZID=America/Chicago:20260426T170000
LOCATION:HERITAGE OAKS
SUMMARY:Game: 10U/5NE1 HAWTHORN WOODS ELITE 2016 GREEN vs PALATINE CELTIC 2
 016 WHITE
TRANSP:OPAQUE
END:VEVENT
BEGIN:VEVENT
UID:34333437-6565-4536-a461-633834333061
DTSTAMP:20260424T130751Z
CLASS:PUBLIC
DESCRIPTION:YSSL 10U/5NE1 Game
DTSTART;TZID=America/Chicago:20260502T140000
DTEND;TZID=America/Chicago:20260502T140000
LOCATION:CELTIC PARK FIELD  - TURF 2A
SUMMARY:Game: 10U/5NE1 PALATINE CELTIC 2016 WHITE vs IP-ARLINGTON ACES 2016
  GREEN
TRANSP:OPAQUE
END:VEVENT
BEGIN:VEVENT
UID:33356438-6531-4761-b132-383539396564
DTSTAMP:20260424T130751Z
CLASS:PUBLIC
DESCRIPTION:YSSL 10U/5NE1 Game
DTSTART;TZID=America/Chicago:20260510T163000
DTEND;TZID=America/Chicago:20260510T163000
LOCATION:NORRIDGE PARK
SUMMARY:Game: 10U/5NE1 NORRIDGE UNITED 2016 SELECT vs PALATINE CELTIC 2016 
 WHITE
TRANSP:OPAQUE
END:VEVENT
BEGIN:VEVENT
UID:33623361-6561-4233-b038-363438396538
DTSTAMP:20260424T130751Z
CLASS:PUBLIC
DESCRIPTION:YSSL 10U/5NE1 Game
DTSTART;TZID=America/Chicago:20260509T183000
DTEND;TZID=America/Chicago:20260509T183000
LOCATION:CELTIC PARK FIELD  - TURF 2A
SUMMARY:Game: 10U/5NE1 PALATINE CELTIC 2016 WHITE vs HAWTHORN WOODS ELITE 2
 016 GREEN
TRANSP:OPAQUE
END:VEVENT
BEGIN:VEVENT
UID:38386464-3532-4664-b434-303938353163
DTSTAMP:20260424T130751Z
CLASS:PUBLIC
DESCRIPTION:YSSL 10U/5NE1 Game
DTSTART;TZID=America/Chicago:20260517T090000
DTEND;TZID=America/Chicago:20260517T090000
LOCATION:DEER PARK TOWN CENTER - 7V7
SUMMARY:Game: 10U/5NE1 ELA ELITE 2016 SELECT vs PALATINE CELTIC 2016 WHITE
TRANSP:OPAQUE
END:VEVENT
BEGIN:VEVENT
UID:38633061-3533-4431-b633-323964326331
DTSTAMP:20260424T130751Z
CLASS:PUBLIC
DESCRIPTION:YSSL 10U/5NE1 Game
DTSTART;TZID=America/Chicago:20260606T101500
DTEND;TZID=America/Chicago:20260606T101500
LOCATION:EMERSON MIDDLE SCHOOL  - NW
SUMMARY:Game: 10U/5NE1 PRSC 2016 BLUE vs PALATINE CELTIC 2016 WHITE
TRANSP:OPAQUE
END:VEVENT
BEGIN:VEVENT
UID:66623632-3363-4033-b230-626239623137
DTSTAMP:20260424T130751Z
CLASS:PUBLIC
DESCRIPTION:YSSL 10U/5NE1 Game
DTSTART;TZID=America/Chicago:20260419T133000
DTEND;TZID=America/Chicago:20260419T133000
LOCATION:CELTIC PARK FIELD  - TURF 2A
SUMMARY:Game: 10U/5NE1 PALATINE CELTIC 2016 WHITE vs PRSC 2016 BLUE
TRANSP:OPAQUE
END:VEVENT
END:VCALENDAR
