BEGIN:VCALENDAR
VERSION:2.0
PRODID:-//yssl.org//NONSGML kigkonsult.se iCalcreator 2.41.92//
CALSCALE:GREGORIAN
METHOD:PUBLISH
UID:66326339-6136-4632-b034-353733363031
X-WR-CALNAME:YSSL Calendar
X-WR-CALDESC:YSSL Calendar
X-WR-TIMEZONE:America/Chicago
BEGIN:VEVENT
UID:61346137-6636-4837-a265-316265303365
DTSTAMP:20260425T215029Z
CLASS:PUBLIC
DESCRIPTION:YSSL 10U/5W Game
DTSTART;TZID=America/Chicago:20260412T110000
DTEND;TZID=America/Chicago:20260412T110000
LOCATION:RIOS PARK - 7V7
SUMMARY:Game: 10U/5W TEAM CHICAGO 2016 ACADEMY SWOOSH vs TCSA 2016 BLAZERS
TRANSP:OPAQUE
END:VEVENT
BEGIN:VEVENT
UID:39666439-3539-4737-b237-373666633531
DTSTAMP:20260425T215029Z
CLASS:PUBLIC
DESCRIPTION:YSSL 10U/5W Game
DTSTART;TZID=America/Chicago:20260503T093000
DTEND;TZID=America/Chicago:20260503T093000
LOCATION:RIOS PARK - 7V7
SUMMARY:Game: 10U/5W TEAM CHICAGO 2016 ACADEMY SWOOSH vs UESC-PLAINFIELD UT
 D 2016 SEL GREEN
TRANSP:OPAQUE
END:VEVENT
BEGIN:VEVENT
UID:31323763-6530-4331-a266-346261616432
DTSTAMP:20260425T215029Z
CLASS:PUBLIC
DESCRIPTION:YSSL 10U/5W Game
DTSTART;TZID=America/Chicago:20260418T100000
DTEND;TZID=America/Chicago:20260418T100000
LOCATION:KANELAND HIGH SCHOOL
SUMMARY:Game: 10U/5W KANELAND UNITED 2016 vs TEAM CHICAGO 2016 ACADEMY SWOO
 SH
TRANSP:OPAQUE
END:VEVENT
BEGIN:VEVENT
UID:39323661-6238-4033-a163-336634396665
DTSTAMP:20260425T215029Z
CLASS:PUBLIC
DESCRIPTION:YSSL 10U/5W Game
DTSTART;TZID=America/Chicago:20260502T110000
DTEND;TZID=America/Chicago:20260502T110000
LOCATION:RIOS PARK - 7V7
SUMMARY:Game: 10U/5W TEAM CHICAGO 2016 ACADEMY SWOOSH vs CSA 2016 B GREY
TRANSP:OPAQUE
END:VEVENT
BEGIN:VEVENT
UID:39323766-6365-4237-a131-646138316339
DTSTAMP:20260425T215029Z
CLASS:PUBLIC
DESCRIPTION:YSSL 10U/5W Game
DTSTART;TZID=America/Chicago:20260523T160000
DTEND;TZID=America/Chicago:20260523T160000
LOCATION:JAMES O BREEN COMMUNITY PARK - 17A
SUMMARY:Game: 10U/5W CAMPTON UNITED 2016 NAVY vs TEAM CHICAGO 2016 ACADEMY 
 SWOOSH
TRANSP:OPAQUE
END:VEVENT
BEGIN:VEVENT
UID:34623534-6137-4365-a533-613766346633
DTSTAMP:20260425T215029Z
CLASS:PUBLIC
DESCRIPTION:YSSL 10U/5W Game
DTSTART;TZID=America/Chicago:20260509T140000
DTEND;TZID=America/Chicago:20260509T140000
LOCATION:STUART SPORTS COMPLEX (AURORA) - FIELD #41
SUMMARY:Game: 10U/5W NAFC KRAKEN 2016 WHITE vs TEAM CHICAGO 2016 ACADEMY SW
 OOSH
TRANSP:OPAQUE
END:VEVENT
BEGIN:VEVENT
UID:30373636-6566-4166-b164-383435643932
DTSTAMP:20260425T215029Z
CLASS:PUBLIC
DESCRIPTION:YSSL 10U/5W Game
DTSTART;TZID=America/Chicago:20260531T120000
DTEND;TZID=America/Chicago:20260531T120000
LOCATION:PRAIRIE FEST PARK - 3
SUMMARY:Game: 10U/5W RUSH OSWEGO 2016 WHITE vs TEAM CHICAGO 2016 ACADEMY SW
 OOSH
TRANSP:OPAQUE
END:VEVENT
BEGIN:VEVENT
UID:35396536-6334-4435-a465-623736393632
DTSTAMP:20260425T215029Z
CLASS:PUBLIC
DESCRIPTION:YSSL 10U/5W Game
DTSTART;TZID=America/Chicago:20260607T110000
DTEND;TZID=America/Chicago:20260607T110000
LOCATION:RIOS PARK - 7V7
SUMMARY:Game: 10U/5W TEAM CHICAGO 2016 ACADEMY SWOOSH vs KANELAND UNITED 20
 16
TRANSP:OPAQUE
END:VEVENT
END:VCALENDAR
