BEGIN:VCALENDAR
VERSION:2.0
PRODID:-//yssl.org//NONSGML kigkonsult.se iCalcreator 2.41.92//
CALSCALE:GREGORIAN
METHOD:PUBLISH
UID:65653030-6633-4636-a366-313366356438
X-WR-CALNAME:YSSL Calendar
X-WR-CALDESC:YSSL Calendar
X-WR-TIMEZONE:America/Chicago
BEGIN:VEVENT
UID:39386633-6236-4564-b835-633836306337
DTSTAMP:20260426T001235Z
CLASS:PUBLIC
DESCRIPTION:YSSL 9U/3W Game
DTSTART;TZID=America/Chicago:20260411T160000
DTEND;TZID=America/Chicago:20260411T160000
LOCATION:CORNERSTONE LAKES PARK - F
SUMMARY:Game: 9U/3W WEST CHICAGO FC 2018 BLUE vs TEAM CHICAGO 2017 ACADEMY 
 STRIKE
TRANSP:OPAQUE
END:VEVENT
BEGIN:VEVENT
UID:36643134-6462-4633-b038-636134626563
DTSTAMP:20260426T001235Z
CLASS:PUBLIC
DESCRIPTION:YSSL 9U/3W Game
DTSTART;TZID=America/Chicago:20260419T150000
DTEND;TZID=America/Chicago:20260419T150000
LOCATION:BOTT PARK - FIELD 3
SUMMARY:Game: 9U/3W UESC-PLAINFIELD UTD 2017 PREMIER vs TEAM CHICAGO 2017 A
 CADEMY STRIKE
TRANSP:OPAQUE
END:VEVENT
BEGIN:VEVENT
UID:63343331-6662-4330-a161-636465663937
DTSTAMP:20260426T001235Z
CLASS:PUBLIC
DESCRIPTION:YSSL 9U/3W Game
DTSTART;TZID=America/Chicago:20260426T150000
DTEND;TZID=America/Chicago:20260426T150000
LOCATION:RIOS PARK
SUMMARY:Game: 9U/3W TEAM CHICAGO 2017 ACADEMY STRIKE vs UESC - BSC RAIDERS 
 2017 BLACK
TRANSP:OPAQUE
END:VEVENT
BEGIN:VEVENT
UID:62326235-3662-4637-a663-396439343061
DTSTAMP:20260426T001235Z
CLASS:PUBLIC
DESCRIPTION:YSSL 9U/3W Game
DTSTART;TZID=America/Chicago:20260503T160000
DTEND;TZID=America/Chicago:20260503T160000
LOCATION:PRAIRIE FEST PARK - FIELD # 3
SUMMARY:Game: 9U/3W SPIDERS FC 2017 vs TEAM CHICAGO 2017 ACADEMY STRIKE
TRANSP:OPAQUE
END:VEVENT
BEGIN:VEVENT
UID:32303464-3739-4261-b232-316233393433
DTSTAMP:20260426T001235Z
CLASS:PUBLIC
DESCRIPTION:YSSL 9U/3W Game
DTSTART;TZID=America/Chicago:20260510T150000
DTEND;TZID=America/Chicago:20260510T150000
LOCATION:RIOS PARK
SUMMARY:Game: 9U/3W TEAM CHICAGO 2017 ACADEMY STRIKE vs GALAXY 2017 SELECT 
 BLUE
TRANSP:OPAQUE
END:VEVENT
BEGIN:VEVENT
UID:34396632-3065-4866-b163-666339653462
DTSTAMP:20260426T001235Z
CLASS:PUBLIC
DESCRIPTION:YSSL 9U/3W Game
DTSTART;TZID=America/Chicago:20260412T090000
DTEND;TZID=America/Chicago:20260412T090000
LOCATION:RIOS PARK
SUMMARY:Game: 9U/3W TEAM CHICAGO 2017 ACADEMY STRIKE vs RUSH OSWEGO 2017 PR
 EMIER
TRANSP:OPAQUE
END:VEVENT
BEGIN:VEVENT
UID:39343732-6366-4463-a139-306466646431
DTSTAMP:20260426T001235Z
CLASS:PUBLIC
DESCRIPTION:YSSL 9U/3W Game
DTSTART;TZID=America/Chicago:20260531T150000
DTEND;TZID=America/Chicago:20260531T150000
LOCATION:RIOS PARK
SUMMARY:Game: 9U/3W TEAM CHICAGO 2017 ACADEMY STRIKE vs CHICAGO EMPIRE FC S
 OUTH 2017 GOLD
TRANSP:OPAQUE
END:VEVENT
BEGIN:VEVENT
UID:39313232-3330-4366-a235-663135343532
DTSTAMP:20260426T001235Z
CLASS:PUBLIC
DESCRIPTION:YSSL 9U/3W Game
DTSTART;TZID=America/Chicago:20260607T090000
DTEND;TZID=America/Chicago:20260607T090000
LOCATION:LILY CACHE FIELDS WEST FIELD - FIELD 07 7V7 (U8-U10
SUMMARY:Game: 9U/3W UESC - BSC RAIDERS 2017 BLACK vs TEAM CHICAGO 2017 ACAD
 EMY STRIKE
TRANSP:OPAQUE
END:VEVENT
END:VCALENDAR
