BEGIN:VCALENDAR
VERSION:2.0
PRODID:-//yssl.org//NONSGML kigkonsult.se iCalcreator 2.41.92//
CALSCALE:GREGORIAN
METHOD:PUBLISH
UID:64616230-3634-4330-b139-613035343463
X-WR-CALNAME:YSSL Calendar
X-WR-CALDESC:YSSL Calendar
X-WR-TIMEZONE:America/Chicago
BEGIN:VEVENT
UID:66323564-6134-4065-a464-383838393433
DTSTAMP:20260425T120259Z
CLASS:PUBLIC
DESCRIPTION:YSSL 9U/3C Game
DTSTART;TZID=America/Chicago:20260419T170000
DTEND;TZID=America/Chicago:20260419T170000
LOCATION:FOUR SEASONS (EAST PARK) - FS1
SUMMARY:Game: 9U/3C FSC 2017 BLACK vs TESC 2017 SELECT 1
TRANSP:OPAQUE
END:VEVENT
BEGIN:VEVENT
UID:62363266-3264-4162-a337-643538393366
DTSTAMP:20260425T120259Z
CLASS:PUBLIC
DESCRIPTION:YSSL 9U/3C Game
DTSTART;TZID=America/Chicago:20260412T100000
DTEND;TZID=America/Chicago:20260412T100000
LOCATION:CENTRAL PARK FIELDS - FOREST GATE RD. ENTRANCE - 7V7
SUMMARY:Game: 9U/3C ECLIPSE 2017/18 SOLAR DARIEN BOYS vs TESC 2017 SELECT 1
TRANSP:OPAQUE
END:VEVENT
BEGIN:VEVENT
UID:36343039-3837-4965-b332-643533646133
DTSTAMP:20260425T120259Z
CLASS:PUBLIC
DESCRIPTION:YSSL 9U/3C Game
DTSTART;TZID=America/Chicago:20260509T124500
DTEND;TZID=America/Chicago:20260509T124500
LOCATION:ELDRIDGE PARK  - 2
SUMMARY:Game: 9U/3C ECS 2017 B ELITE vs TESC 2017 SELECT 1
TRANSP:OPAQUE
END:VEVENT
BEGIN:VEVENT
UID:62626562-6133-4031-b331-393232326636
DTSTAMP:20260425T120259Z
CLASS:PUBLIC
DESCRIPTION:YSSL 9U/3C Game
DTSTART;TZID=America/Chicago:20260530T090000
DTEND;TZID=America/Chicago:20260530T090000
LOCATION:CONRAD FISCHER PARK - 7 VS 7
SUMMARY:Game: 9U/3C TESC 2017 SELECT 1 vs GLEN ELLYN LAKERS 2017 PREMIER GR
 EEN
TRANSP:OPAQUE
END:VEVENT
BEGIN:VEVENT
UID:30663932-3966-4330-b233-366133633564
DTSTAMP:20260425T120259Z
CLASS:PUBLIC
DESCRIPTION:YSSL 9U/3C Game
DTSTART;TZID=America/Chicago:20260607T103000
DTEND;TZID=America/Chicago:20260607T103000
LOCATION:CONRAD FISCHER PARK - 7 VS 7
SUMMARY:Game: 9U/3C TESC 2017 SELECT 1 vs RBFC 2017
TRANSP:OPAQUE
END:VEVENT
BEGIN:VEVENT
UID:37633437-3833-4238-a433-316362373932
DTSTAMP:20260425T120259Z
CLASS:PUBLIC
DESCRIPTION:YSSL 9U/3C Game
DTSTART;TZID=America/Chicago:20260503T163000
DTEND;TZID=America/Chicago:20260503T163000
LOCATION:CONRAD FISCHER PARK - 7 VS 7
SUMMARY:Game: 9U/3C TESC 2017 SELECT 1 vs LTSC 2017 TRAVEL WHITE
TRANSP:OPAQUE
END:VEVENT
BEGIN:VEVENT
UID:39666331-6433-4336-b763-653962333033
DTSTAMP:20260425T120259Z
CLASS:PUBLIC
DESCRIPTION:YSSL 9U/3C Game
DTSTART;TZID=America/Chicago:20260501T171500
DTEND;TZID=America/Chicago:20260501T171500
LOCATION:CONRAD FISCHER PARK - 7 VS 7
SUMMARY:Game: 9U/3C TESC 2017 SELECT 1 vs GALAXY 2017 SELECT BLUE 2
TRANSP:OPAQUE
END:VEVENT
BEGIN:VEVENT
UID:34303332-3564-4130-b535-633439663830
DTSTAMP:20260425T120259Z
CLASS:PUBLIC
DESCRIPTION:YSSL 9U/3C Game
DTSTART;TZID=America/Chicago:20260418T100000
DTEND;TZID=America/Chicago:20260418T100000
LOCATION:OAK BROOK POLO FIELDS - F 7V7
SUMMARY:Game: 9U/3C CHICAGO EMPIRE FC 2017 GOLD 1 vs TESC 2017 SELECT 1
TRANSP:OPAQUE
END:VEVENT
END:VCALENDAR
