BEGIN:VCALENDAR
VERSION:2.0
PRODID:-//yssl.org//NONSGML kigkonsult.se iCalcreator 2.41.92//
CALSCALE:GREGORIAN
METHOD:PUBLISH
UID:61643265-3633-4439-b239-393932306465
X-WR-CALNAME:YSSL Calendar
X-WR-CALDESC:YSSL Calendar
X-WR-TIMEZONE:America/Chicago
BEGIN:VEVENT
UID:63623365-3738-4236-a165-343233343537
DTSTAMP:20260424T143922Z
CLASS:PUBLIC
DESCRIPTION:YSSL 9U/4C2 Game
DTSTART;TZID=America/Chicago:20260412T130000
DTEND;TZID=America/Chicago:20260412T130000
LOCATION:COMMUNITY PARK (ADDISON) - 7V7
SUMMARY:Game: 9U/4C2 TIGRES DC 2017 vs ELA ELITE 2017 PREMIER
TRANSP:OPAQUE
END:VEVENT
BEGIN:VEVENT
UID:35383064-3731-4335-b439-633262333735
DTSTAMP:20260424T143922Z
CLASS:PUBLIC
DESCRIPTION:YSSL 9U/4C2 Game
DTSTART;TZID=America/Chicago:20260510T130000
DTEND;TZID=America/Chicago:20260510T130000
LOCATION:CENTENNIAL PARK (ADDISON)
SUMMARY:Game: 9U/4C2 TIGRES DC 2017 vs CHICAGO EMPIRE FC 2017 BLUE
TRANSP:OPAQUE
END:VEVENT
BEGIN:VEVENT
UID:35616638-3736-4832-b931-343932373265
DTSTAMP:20260424T143922Z
CLASS:PUBLIC
DESCRIPTION:YSSL 9U/4C2 Game
DTSTART;TZID=America/Chicago:20260426T120000
DTEND;TZID=America/Chicago:20260426T120000
LOCATION:OAK BROOK POLO FIELDS - J 7V7
SUMMARY:Game: 9U/4C2 CHICAGO EMPIRE FC 2017 BLUE vs TIGRES DC 2017
TRANSP:OPAQUE
END:VEVENT
BEGIN:VEVENT
UID:64623830-6361-4539-b638-363832326430
DTSTAMP:20260424T143922Z
CLASS:PUBLIC
DESCRIPTION:YSSL 9U/4C2 Game
DTSTART;TZID=America/Chicago:20260503T170000
DTEND;TZID=America/Chicago:20260503T170000
LOCATION:RIVER ROAD PARK - 7V7 FIELD
SUMMARY:Game: 9U/4C2 LISLE FC 2017 WOLVERHAMPTON vs TIGRES DC 2017
TRANSP:OPAQUE
END:VEVENT
BEGIN:VEVENT
UID:39376135-3631-4566-b765-353964646339
DTSTAMP:20260424T143922Z
CLASS:PUBLIC
DESCRIPTION:YSSL 9U/4C2 Game
DTSTART;TZID=America/Chicago:20260425T171500
DTEND;TZID=America/Chicago:20260425T171500
LOCATION:KENSINGTON PARK (LOMBARD) - 7V7 FIELD
SUMMARY:Game: 9U/4C2 CHICAGO INTER SYNERGY 2017 GREEN vs TIGRES DC 2017
TRANSP:OPAQUE
END:VEVENT
BEGIN:VEVENT
UID:33626532-3837-4834-a430-636666393262
DTSTAMP:20260424T143922Z
CLASS:PUBLIC
DESCRIPTION:YSSL 9U/4C2 Game
DTSTART;TZID=America/Chicago:20260509T123000
DTEND;TZID=America/Chicago:20260509T123000
LOCATION:ORCHARD FIELD - 7V7
SUMMARY:Game: 9U/4C2 ELA ELITE 2017 PREMIER vs TIGRES DC 2017
TRANSP:OPAQUE
END:VEVENT
BEGIN:VEVENT
UID:32383238-3166-4633-a566-333334306233
DTSTAMP:20260424T143922Z
CLASS:PUBLIC
DESCRIPTION:YSSL 9U/4C2 Game
DTSTART;TZID=America/Chicago:20260530T130000
DTEND;TZID=America/Chicago:20260530T130000
LOCATION:COMMUNITY PARK (ADDISON)
SUMMARY:Game: 9U/4C2 TIGRES DC 2017 vs DPSAL 2017
TRANSP:OPAQUE
END:VEVENT
BEGIN:VEVENT
UID:38386138-3936-4031-b237-346436396434
DTSTAMP:20260424T143922Z
CLASS:PUBLIC
DESCRIPTION:YSSL 9U/4C2 Game
DTSTART;TZID=America/Chicago:20260606T130000
DTEND;TZID=America/Chicago:20260606T130000
LOCATION:COMMUNITY PARK (ADDISON) - 7V7
SUMMARY:Game: 9U/4C2 TIGRES DC 2017 vs CHICAGO INTER SYNERGY 2017 GREEN
TRANSP:OPAQUE
END:VEVENT
END:VCALENDAR
