BEGIN:VCALENDAR
VERSION:2.0
PRODID:-//yssl.org//NONSGML kigkonsult.se iCalcreator 2.41.92//
CALSCALE:GREGORIAN
METHOD:PUBLISH
UID:35356330-3730-4133-a130-623237386465
X-WR-CALNAME:YSSL Calendar
X-WR-CALDESC:YSSL Calendar
X-WR-TIMEZONE:America/Chicago
BEGIN:VEVENT
UID:31656638-6136-4536-b762-633931353665
DTSTAMP:20260425T000304Z
CLASS:PUBLIC
DESCRIPTION:YSSL 12U/2E Game
DTSTART;TZID=America/Chicago:20260411T103000
DTEND;TZID=America/Chicago:20260411T103000
LOCATION:WILLOW PARK - 9V9
SUMMARY:Game: 12U/2E CHICAGO FC UNITED 2014  PRE-ACADEMY I vs DEPORTIVO 201
 4 EVO-PFC
TRANSP:OPAQUE
END:VEVENT
BEGIN:VEVENT
UID:65633036-3335-4662-b662-656335383435
DTSTAMP:20260425T000304Z
CLASS:PUBLIC
DESCRIPTION:YSSL 12U/2E Game
DTSTART;TZID=America/Chicago:20260418T120000
DTEND;TZID=America/Chicago:20260418T120000
LOCATION:LYCEE DE FRANCAIS SCHOOL
SUMMARY:Game: 12U/2E CHICAGO CITY 2014  ACADEMY II vs CHICAGO FC UNITED 201
 4  PRE-ACADEMY I
TRANSP:OPAQUE
END:VEVENT
BEGIN:VEVENT
UID:66313162-3332-4363-b138-363336353039
DTSTAMP:20260425T000304Z
CLASS:PUBLIC
DESCRIPTION:YSSL 12U/2E Game
DTSTART;TZID=America/Chicago:20260425T090000
DTEND;TZID=America/Chicago:20260425T090000
LOCATION:WILLOW PARK - 9V9
SUMMARY:Game: 12U/2E CHICAGO FC UNITED 2014  PRE-ACADEMY I vs IPROSKILLS 20
 14 NEON
TRANSP:OPAQUE
END:VEVENT
BEGIN:VEVENT
UID:65373863-6436-4165-b532-343165396566
DTSTAMP:20260425T000304Z
CLASS:PUBLIC
DESCRIPTION:YSSL 12U/2E Game
DTSTART;TZID=America/Chicago:20260503T103000
DTEND;TZID=America/Chicago:20260503T103000
LOCATION:WILLOW PARK - 9V9
SUMMARY:Game: 12U/2E CHICAGO FC UNITED 2014  PRE-ACADEMY I vs YSI FC 2014
TRANSP:OPAQUE
END:VEVENT
BEGIN:VEVENT
UID:31333266-3635-4366-a138-626635646632
DTSTAMP:20260425T000304Z
CLASS:PUBLIC
DESCRIPTION:YSSL 12U/2E Game
DTSTART;TZID=America/Chicago:20260412T090000
DTEND;TZID=America/Chicago:20260412T090000
LOCATION:WILLOW PARK - 9V9
SUMMARY:Game: 12U/2E CHICAGO FC UNITED 2014  PRE-ACADEMY I vs PRSC 2014 ORA
 NGE
TRANSP:OPAQUE
END:VEVENT
BEGIN:VEVENT
UID:64653132-6237-4236-a336-613064643136
DTSTAMP:20260425T000304Z
CLASS:PUBLIC
DESCRIPTION:YSSL 12U/2E Game
DTSTART;TZID=America/Chicago:20260530T110000
DTEND;TZID=America/Chicago:20260530T110000
LOCATION:METRO MAJEWSKI PARK - FIELD #3
SUMMARY:Game: 12U/2E GREEN WHITE 2014 GRUN vs CHICAGO FC UNITED 2014  PRE-A
 CADEMY I
TRANSP:OPAQUE
END:VEVENT
BEGIN:VEVENT
UID:38636635-6238-4631-a662-353932303666
DTSTAMP:20260425T000304Z
CLASS:PUBLIC
DESCRIPTION:YSSL 12U/2E Game
DTSTART;TZID=America/Chicago:20260606T090000
DTEND;TZID=America/Chicago:20260606T090000
LOCATION:ROGERS PARK
SUMMARY:Game: 12U/2E IPROSKILLS 2014 NEON vs CHICAGO FC UNITED 2014  PRE-AC
 ADEMY I
TRANSP:OPAQUE
END:VEVENT
BEGIN:VEVENT
UID:38333637-3732-4563-b639-343437633233
DTSTAMP:20260425T000304Z
CLASS:PUBLIC
DESCRIPTION:YSSL 12U/2E Game
DTSTART;TZID=America/Chicago:20260509T120000
DTEND;TZID=America/Chicago:20260509T120000
LOCATION:WOODLAND PARK - NE
SUMMARY:Game: 12U/2E PRSC 2014 ORANGE vs CHICAGO FC UNITED 2014  PRE-ACADEM
 Y I
TRANSP:OPAQUE
END:VEVENT
END:VCALENDAR
