BEGIN:VCALENDAR
VERSION:2.0
PRODID:-//yssl.org//NONSGML kigkonsult.se iCalcreator 2.41.92//
CALSCALE:GREGORIAN
METHOD:PUBLISH
UID:34313132-6261-4435-b733-343132303964
X-WR-CALNAME:YSSL Calendar
X-WR-CALDESC:YSSL Calendar
X-WR-TIMEZONE:America/Chicago
BEGIN:VEVENT
UID:33316436-6264-4134-b230-643533613065
DTSTAMP:20260425T171951Z
CLASS:PUBLIC
DESCRIPTION:YSSL 7U-4V4/W Game
DTSTART;TZID=America/Chicago:20260424T180000
DTEND;TZID=America/Chicago:20260424T180000
LOCATION:CORNERSTONE LAKES PARK - A
SUMMARY:Game: 7U-4V4/W WC LIONS ACADEMY BOYS 2019/20 vs WEST CHICAGO FC 201
 9
TRANSP:OPAQUE
END:VEVENT
BEGIN:VEVENT
UID:32613438-6166-4933-b463-613563323764
DTSTAMP:20260425T171951Z
CLASS:PUBLIC
DESCRIPTION:YSSL 7U-4V4/W Game
DTSTART;TZID=America/Chicago:20260425T123000
DTEND;TZID=America/Chicago:20260425T123000
LOCATION:BAUMAN PARK
SUMMARY:Game: 7U-4V4/W SUFC 2020 NEMEZIZ vs WEST CHICAGO FC 2019
TRANSP:OPAQUE
END:VEVENT
BEGIN:VEVENT
UID:37366163-3164-4332-a561-656333656265
DTSTAMP:20260425T171951Z
CLASS:PUBLIC
DESCRIPTION:YSSL 7U-4V4/W Game
DTSTART;TZID=America/Chicago:20260419T090000
DTEND;TZID=America/Chicago:20260419T090000
LOCATION:CORNERSTONE LAKES PARK - A
SUMMARY:Game: 7U-4V4/W WEST CHICAGO FC 2019 vs EGSC 2019 PREMIER
TRANSP:OPAQUE
END:VEVENT
BEGIN:VEVENT
UID:63366530-3131-4264-a164-383639643065
DTSTAMP:20260425T171951Z
CLASS:PUBLIC
DESCRIPTION:YSSL 7U-4V4/W Game
DTSTART;TZID=America/Chicago:20260503T114500
DTEND;TZID=America/Chicago:20260503T114500
LOCATION:KENSINGTON PARK (LOMBARD) - 4V4 FIELD
SUMMARY:Game: 7U-4V4/W CHICAGO INTER SYNERGY 2019/2020 GREEN vs WEST CHICAG
 O FC 2019
TRANSP:OPAQUE
END:VEVENT
BEGIN:VEVENT
UID:62373065-3365-4132-a637-343666346632
DTSTAMP:20260425T171951Z
CLASS:PUBLIC
DESCRIPTION:YSSL 7U-4V4/W Game
DTSTART;TZID=America/Chicago:20260509T143000
DTEND;TZID=America/Chicago:20260509T143000
LOCATION:CORNERSTONE LAKES PARK - A
SUMMARY:Game: 7U-4V4/W WEST CHICAGO FC 2019 vs CHICAGO EMPIRE FC 2019 WHITE
TRANSP:OPAQUE
END:VEVENT
BEGIN:VEVENT
UID:65663531-3765-4830-a539-653632396433
DTSTAMP:20260425T171951Z
CLASS:PUBLIC
DESCRIPTION:YSSL 7U-4V4/W Game
DTSTART;TZID=America/Chicago:20260502T143000
DTEND;TZID=America/Chicago:20260502T143000
LOCATION:CORNERSTONE LAKES PARK - A
SUMMARY:Game: 7U-4V4/W WEST CHICAGO FC 2019 vs CHICAGO EMPIRE FC 2019/2020 
 GOLD
TRANSP:OPAQUE
END:VEVENT
BEGIN:VEVENT
UID:38616435-3863-4237-a639-626138616439
DTSTAMP:20260425T171951Z
CLASS:PUBLIC
DESCRIPTION:YSSL 7U-4V4/W Game
DTSTART;TZID=America/Chicago:20260530T090000
DTEND;TZID=America/Chicago:20260530T090000
LOCATION:CORNERSTONE LAKES PARK - A
SUMMARY:Game: 7U-4V4/W WEST CHICAGO FC 2019 vs CHICAGO CITY PUMAS 2019
TRANSP:OPAQUE
END:VEVENT
BEGIN:VEVENT
UID:36626335-3266-4233-a263-356230393137
DTSTAMP:20260425T171951Z
CLASS:PUBLIC
DESCRIPTION:YSSL 7U-4V4/W Game
DTSTART;TZID=America/Chicago:20260607T090000
DTEND;TZID=America/Chicago:20260607T090000
LOCATION:COMMUNITY ATHLETIC FIELDS
SUMMARY:Game: 7U-4V4/W EGSC 2019 PREMIER vs WEST CHICAGO FC 2019
TRANSP:OPAQUE
END:VEVENT
END:VCALENDAR
