BEGIN:VCALENDAR
VERSION:2.0
PRODID:-//yssl.org//NONSGML kigkonsult.se iCalcreator 2.41.92//
CALSCALE:GREGORIAN
METHOD:PUBLISH
UID:32633265-6630-4131-a264-353736383234
X-WR-CALNAME:YSSL Calendar
X-WR-CALDESC:YSSL Calendar
X-WR-TIMEZONE:America/Chicago
BEGIN:VEVENT
UID:37663531-3236-4661-a361-353330306138
DTSTAMP:20260424T222032Z
CLASS:PUBLIC
DESCRIPTION:YSSL 9U/5SW Game
DTSTART;TZID=America/Chicago:20260515T171500
DTEND;TZID=America/Chicago:20260515T171500
LOCATION:FRONTIER PARK (NAPERVILLE) - K1
SUMMARY:Game: 9U/5SW EVOLUTION 2017 MERCURIAL vs GALAXY GIRLS 2017 BLUE
TRANSP:OPAQUE
END:VEVENT
BEGIN:VEVENT
UID:36343834-3164-4166-b834-633135653536
DTSTAMP:20260424T222032Z
CLASS:PUBLIC
DESCRIPTION:YSSL 9U/5SW Game
DTSTART;TZID=America/Chicago:20260425T101000
DTEND;TZID=America/Chicago:20260425T101000
LOCATION:JUST FOR KICKS SOCCER FACILITY - SMALL - 1
SUMMARY:Game: 9U/5SW GALAXY GIRLS 2017 BLUE vs UESC -NSA 2017 RED
TRANSP:OPAQUE
END:VEVENT
BEGIN:VEVENT
UID:65623734-6235-4339-b634-366334333634
DTSTAMP:20260424T222032Z
CLASS:PUBLIC
DESCRIPTION:YSSL 9U/5SW Game
DTSTART;TZID=America/Chicago:20260502T101000
DTEND;TZID=America/Chicago:20260502T101000
LOCATION:JUST FOR KICKS SOCCER FACILITY - SMALL - 1
SUMMARY:Game: 9U/5SW GALAXY GIRLS 2017 BLUE vs AJAX FC NAPERVILLE 2017 WHIT
 E
TRANSP:OPAQUE
END:VEVENT
BEGIN:VEVENT
UID:61666266-3734-4030-a533-613735323439
DTSTAMP:20260424T222032Z
CLASS:PUBLIC
DESCRIPTION:YSSL 9U/5SW Game
DTSTART;TZID=America/Chicago:20260507T171500
DTEND;TZID=America/Chicago:20260507T171500
LOCATION:COMMISSIONERS PARK (NAPERVILLE) - H
SUMMARY:Game: 9U/5SW GALAXY GIRLS 2017 BLUE vs UESC-PLAINFIELD UTD 2017 SEL
  WHITE
TRANSP:OPAQUE
END:VEVENT
BEGIN:VEVENT
UID:36373562-6434-4237-a462-343430346466
DTSTAMP:20260424T222032Z
CLASS:PUBLIC
DESCRIPTION:YSSL 9U/5SW Game
DTSTART;TZID=America/Chicago:20260517T093000
DTEND;TZID=America/Chicago:20260517T093000
LOCATION:MORRIS SOCCER COMPLEX - 7V7 #1
SUMMARY:Game: 9U/5SW UESC - MORRIS UNITED 2017/18 BLUE vs GALAXY GIRLS 2017
  BLUE
TRANSP:OPAQUE
END:VEVENT
BEGIN:VEVENT
UID:33303162-3338-4932-b666-613533386136
DTSTAMP:20260424T222032Z
CLASS:PUBLIC
DESCRIPTION:YSSL 9U/5SW Game
DTSTART;TZID=America/Chicago:20260526T173000
DTEND;TZID=America/Chicago:20260526T173000
LOCATION:NIKE PARK FIELD  - F1
SUMMARY:Game: 9U/5SW CHICAGO STRIKERS 2017 BLUE vs GALAXY GIRLS 2017 BLUE
TRANSP:OPAQUE
END:VEVENT
BEGIN:VEVENT
UID:61303338-3331-4132-a235-363636633431
DTSTAMP:20260424T222032Z
CLASS:PUBLIC
DESCRIPTION:YSSL 9U/5SW Game
DTSTART;TZID=America/Chicago:20260520T180000
DTEND;TZID=America/Chicago:20260520T180000
LOCATION:COMMISSIONERS PARK (NAPERVILLE) - FIELD H
SUMMARY:Game: 9U/5SW UESC -NSA 2017 RED vs GALAXY GIRLS 2017 BLUE
TRANSP:OPAQUE
END:VEVENT
BEGIN:VEVENT
UID:30643930-3831-4331-a533-323333613533
DTSTAMP:20260424T222032Z
CLASS:PUBLIC
DESCRIPTION:YSSL 9U/5SW Game
DTSTART;TZID=America/Chicago:20260426T090000
DTEND;TZID=America/Chicago:20260426T090000
LOCATION:JUST FOR KICKS SOCCER FACILITY - SMALL - 1
SUMMARY:Game: 9U/5SW GALAXY GIRLS 2017 BLUE vs RUSH SOUTH 2017
TRANSP:OPAQUE
END:VEVENT
END:VCALENDAR
