BEGIN:VCALENDAR
VERSION:2.0
PRODID:-//yssl.org//NONSGML kigkonsult.se iCalcreator 2.41.92//
CALSCALE:GREGORIAN
METHOD:PUBLISH
UID:61643264-3934-4331-b562-653135363766
X-WR-CALNAME:YSSL Calendar
X-WR-CALDESC:YSSL Calendar
X-WR-TIMEZONE:America/Chicago
BEGIN:VEVENT
UID:64383464-6431-4836-b361-616237336635
DTSTAMP:20260425T034857Z
CLASS:PUBLIC
DESCRIPTION:YSSL 18U/3S Game
DTSTART;TZID=America/Chicago:20260412T090000
DTEND;TZID=America/Chicago:20260412T090000
LOCATION:HARRISON PARK
SUMMARY:Game: 18U/3S CHICAGO KNIGHTS 2008/2009 vs KORA FC 2008 ELITE
TRANSP:OPAQUE
END:VEVENT
BEGIN:VEVENT
UID:34353330-3938-4362-a161-333535306438
DTSTAMP:20260425T034857Z
CLASS:PUBLIC
DESCRIPTION:YSSL 18U/3S Game
DTSTART;TZID=America/Chicago:20260419T180000
DTEND;TZID=America/Chicago:20260419T180000
LOCATION:GLENBARD SOUTH HIGH SCHOOL - TURF/STADIUM FIELD
SUMMARY:Game: 18U/3S CHICAGO INTER SYNERGY 2008 PREMIER vs CHICAGO KNIGHTS 
 2008/2009
TRANSP:OPAQUE
END:VEVENT
BEGIN:VEVENT
UID:39653031-3335-4632-b634-626261326235
DTSTAMP:20260425T034857Z
CLASS:PUBLIC
DESCRIPTION:YSSL 18U/3S Game
DTSTART;TZID=America/Chicago:20260503T090000
DTEND;TZID=America/Chicago:20260503T090000
LOCATION:HARRISON PARK
SUMMARY:Game: 18U/3S CHICAGO KNIGHTS 2008/2009 vs AYSO 300 UNITED 2009/08 B
 OYS
TRANSP:OPAQUE
END:VEVENT
BEGIN:VEVENT
UID:36613338-6539-4563-b436-313164396134
DTSTAMP:20260425T034857Z
CLASS:PUBLIC
DESCRIPTION:YSSL 18U/3S Game
DTSTART;TZID=America/Chicago:20260425T170000
DTEND;TZID=America/Chicago:20260425T170000
LOCATION:BRIGHTON PARK COMMUNITY CAMPUS - WEST
SUMMARY:Game: 18U/3S CHICAGO KNIGHTS 2008/2009 vs UESC - PLAINFIELD UTD 200
 8/09 PREMIER
TRANSP:OPAQUE
END:VEVENT
BEGIN:VEVENT
UID:39356231-3365-4330-b833-356330366566
DTSTAMP:20260425T034857Z
CLASS:PUBLIC
DESCRIPTION:YSSL 18U/3S Game
DTSTART;TZID=America/Chicago:20260530T160000
DTEND;TZID=America/Chicago:20260530T160000
LOCATION:KNOCH PARK  - TURF FIELD
SUMMARY:Game: 18U/3S UESC - NSA 2008 ACADEMY vs CHICAGO KNIGHTS 2008/2009
TRANSP:OPAQUE
END:VEVENT
BEGIN:VEVENT
UID:61643037-3262-4636-a237-636135643131
DTSTAMP:20260425T034857Z
CLASS:PUBLIC
DESCRIPTION:YSSL 18U/3S Game
DTSTART;TZID=America/Chicago:20260426T140000
DTEND;TZID=America/Chicago:20260426T140000
LOCATION:SPENCER SCHOOL CAMPUS - FIELD 1 - 11V11
SUMMARY:Game: 18U/3S LEGACY SC 2008 vs CHICAGO KNIGHTS 2008/2009
TRANSP:OPAQUE
END:VEVENT
BEGIN:VEVENT
UID:32633833-3965-4161-a632-383065333264
DTSTAMP:20260425T034857Z
CLASS:PUBLIC
DESCRIPTION:YSSL 18U/3S Game
DTSTART;TZID=America/Chicago:20260606T170000
DTEND;TZID=America/Chicago:20260606T170000
LOCATION:BICENTENNIAL PARK
SUMMARY:Game: 18U/3S MUFC SOUTH SIDE FC vs CHICAGO KNIGHTS 2008/2009
TRANSP:OPAQUE
END:VEVENT
BEGIN:VEVENT
UID:35633233-6336-4334-b836-636564623265
DTSTAMP:20260425T034857Z
CLASS:PUBLIC
DESCRIPTION:YSSL 18U/3S Game
DTSTART;TZID=America/Chicago:20260607T090000
DTEND;TZID=America/Chicago:20260607T090000
LOCATION:HARRISON PARK
SUMMARY:Game: 18U/3S CHICAGO KNIGHTS 2008/2009 vs TCSA 2008 TCFC
TRANSP:OPAQUE
END:VEVENT
END:VCALENDAR
